Workbook

Sheet I.Anexo A 
A1: CHAVE02 | B1: CHAVE02 | C1: Posto Serviço | D1: Código MGS | E1: Posto de Serviço - MGS | F1: Item de serviço - CATMAS | G1: ANEXO A - 3º TERMO ADITIVO | H1: Carga Horária | I1: Alíquota ISSQN | J1: Município | K1: Qtd Mensal | L1: Qtd total do item de pedido | M1: Salário-base | N1: Periculosidade | O1: Adicional Noturno | P1: Prorrogação da Jornada Noturna | Q1: Hora Ficta Noturna | R1: Hora Extra Intervalo | S1: Feriado Trabalhado | T1: Dia do Trabalhador | U1: Total da Remuneração | V1: Encargos Sociais e Trabalhistas | X1: Uniforme | Y1: EPI | Z1: Total de Insumos | AA1: Seguro de Vida | AB1: Vale-Transporte | AC1: Reserva Técnica | AE1: Taxa de Administração | AG1: Preço Unitário do Posto Vazio antes dos Tributos | AH1: Preço Unitário do Posto com Tributos (PORTAL DE COMPRAS) | AI1: Preço Total do Posto Mensal | AJ1: Preço Total do Posto (Até o fim da Vigência) | AK1: Preço Unitário da Cesta Básica Antes dos Tributos | AL1: Preço Unitário da Cesta Básica (Demais Municípios) | AM1: Preço Unitário da Cesta Básica (Belo Horizonte) | AN1: Preço Total da Cesta Básica com Tributos | AO1: Preço Unitário do Auxílio Alimentação Antes dos Tributos | AP1: Preço Unitário do Auxílio Alimentação (Demais Municípios) | AQ1: Preço Unitário do Auxílio Alimentação (Belo Horizonte) | AR1: Preço Total do Auxílio Alimentação Mensal | AS1: Preço Total do Auxílio Alimentação e Cesta Básica Mensal | AT1: Preço Total do Auxílio Alimentação e Cesta Básica (Até o fim da Vigência)
G2: Posto de Serviço - CATMAS | V2: % | W2: Valor | AC2: % | AD2: Valor | AE2: % | AF2: Valor
A3: =CONCATENATE(F3,H3,I3) -> 140970400,02 | B3: =CONCATENATE(D3,I3) -> 16980,02 | C3: =VLOOKUP(D3,[1]apoio_Preços_MGS!$A$6:$B$238,2,FALSE) -> AGENTE DE CAMPO | D3: 1698 | E3: AGENTE DE CAMPO - (PERIC.) - DIARISTA DIURNO - 40H | F3: 140970 | G3: =IF(H3="N/A",VLOOKUP(F3&40,'[1]apoio_cód catmas'!$A$1:$G$233,4,FALSE),VLOOKUP(F3&H3,'[1]apoio_cód catmas'!$A$1:$G$233,4,FALSE)) -> AGENTE DE CAMPO (PERICULOSIDADE) DIARISTA DIURNO - 40 H | H3: 40 | I3: 0.02 | J3: Demais Municípios | K3: 6 | L3: =K3*60 -> 360 | M3: =VLOOKUP(D3,[1]apoio_Preços_MGS!$A$6:$AN$238,18,FALSE) -> 2122.7947 | N3: =VLOOKUP(D3,[1]apoio_Preços_MGS!$A$6:$AN$238,19,FALSE) -> 636.83842 | O3: =VLOOKUP(D3,[1]apoio_Preços_MGS!$A$6:$AN$238,20,FALSE) -> 0 | P3: =VLOOKUP(D3,[1]apoio_Preços_MGS!$A$6:$AN$238,21,FALSE) -> 0 | Q3: =VLOOKUP(D3,[1]apoio_Preços_MGS!$A$6:$AN$238,22,FALSE) -> 0 | R3: =VLOOKUP(D3,[1]apoio_Preços_MGS!$A$6:$AN$238,23,FALSE) -> 0 | S3: =VLOOKUP(D3,[1]apoio_Preços_MGS!$A$6:$AN$238,24,FALSE) -> 0 | T3: =VLOOKUP(D3,[1]apoio_Preços_MGS!$A$6:$AN$238,25,FALSE) -> 0 | U3: =SUM(M3:T3) -> 2759.6332 | V3: =VLOOKUP(D3,[1]apoio_Preços_MGS!$A$6:$AN$238,27,FALSE) -> 0.818 | W3: =U3*V3 -> 2257.3799 | X3: =VLOOKUP(D3,[1]apoio_Preços_MGS!$A$6:$AN$238,29,FALSE) -> 30.014545 | Y3: =VLOOKUP(D3,[1]apoio_Preços_MGS!$A$6:$AN$238,30,FALSE) -> 23.86303 | Z3: =Y3+X3 -> 53.877576 | AA3: =VLOOKUP(D3,[1]apoio_Preços_MGS!$A$6:$AN$238,32,FALSE) -> 4.0757659 | AB3: =VLOOKUP(D3,[1]apoio_Preços_MGS!$A$6:$AN$238,33,FALSE) -> 147.63636 | AC3: =VLOOKUP(D3,[1]apoio_Preços_MGS!$A$6:$AN$238,34,FALSE) -> 0 | AD3: =(U3+W3+Z3+AB3+AA3+VLOOKUP(C3,[1]apoio_Prec_Folha!$A:$S,7,FALSE))*AC3 -> 0 | AE3: =VLOOKUP(D3,[1]apoio_Preços_MGS!$A$6:$AN$238,36,FALSE) -> 0.07 | AF3: =(U3+W3+Z3+AB3+AD3+AA3+VLOOKUP(C3,[1]apoio_Prec_Folha!$A:$S,7,FALSE))*AE3 -> 401.83659 | AG3: =TRUNC(U3+W3+Z3+AB3+AA3+AD3+AF3,2) -> 5624.43 | AH3: =TRUNC($AG3*ROUND((7.6%+1.65%+$I3)/(1-(7.6%+1.65%+$I3)),5)+$AG3,2) -> 6337.38 | AI3: =AH3*K3 -> 38024.28 | AJ3: =AH3*L3 -> 2281456.8 | AK3: =VLOOKUP(D3,[1]apoio_Preços_MGS!$A$6:$AN$238,39,FALSE) -> 181.81818 | AL3: =IF(J3="demais municípios",VLOOKUP(D3,[1]apoio_Preços_MGS!$A$6:$AN$238,39,FALSE),0) -> 181.81818 | AM3: 0 | AN3: =AK3*K3 -> 1090.9091 | AO3: =VLOOKUP(D3,[1]apoio_Preços_MGS!$A$6:$AN$238,40,FALSE) -> 517.92 | AP3: =IF(J3="demais municípios",VLOOKUP(D3,[1]apoio_Preços_MGS!$A$6:$AN$238,40,FALSE),0) -> 517.92 | AQ3: 0 | AR3: =AO3*K3 -> 3107.52 | AS3: =AN3+AR3 -> 4198.4291 | AT3: =AS3*60 -> 251905.75
A4: =CONCATENATE(F4,H4,I4) -> 140970400,03 | B4: =CONCATENATE(D4,I4) -> 16980,03 | C4: =VLOOKUP(D4,[1]apoio_Preços_MGS!$A$6:$B$238,2,FALSE) -> AGENTE DE CAMPO | D4: 1698 | E4: =VLOOKUP(D4,[1]apoio_Preços_MGS!$A$6:$F$238,6,FALSE) -> AGENTE DE CAMPO - (PERIC.) - DIARISTA DIURNO - 40H | F4: =IFERROR(VLOOKUP(D4,'[1]apoio_cód catmas'!$B$2:$C$863,2,FALSE),0) -> 140970 | G4: =IF(H4="N/A",VLOOKUP(F4&40,'[1]apoio_cód catmas'!$A$1:$G$233,4,FALSE),VLOOKUP(F4&H4,'[1]apoio_cód catmas'!$A$1:$G$233,4,FALSE)) -> AGENTE DE CAMPO (PERICULOSIDADE) DIARISTA DIURNO - 40 H | H4: 40 | I4: 0.03 | J4: Demais Municípios | K4: 6 | L4: =K4*60 -> 360 | M4: =VLOOKUP(D4,[1]apoio_Preços_MGS!$A$6:$AN$238,18,FALSE) -> 2122.7947 | N4: =VLOOKUP(D4,[1]apoio_Preços_MGS!$A$6:$AN$238,19,FALSE) -> 636.83842 | O4: =VLOOKUP(D4,[1]apoio_Preços_MGS!$A$6:$AN$238,20,FALSE) -> 0 | P4: =VLOOKUP(D4,[1]apoio_Preços_MGS!$A$6:$AN$238,21,FALSE) -> 0 | Q4: =VLOOKUP(D4,[1]apoio_Preços_MGS!$A$6:$AN$238,22,FALSE) -> 0 | R4: =VLOOKUP(D4,[1]apoio_Preços_MGS!$A$6:$AN$238,23,FALSE) -> 0 | S4: =VLOOKUP(D4,[1]apoio_Preços_MGS!$A$6:$AN$238,24,FALSE) -> 0 | T4: =VLOOKUP(D4,[1]apoio_Preços_MGS!$A$6:$AN$238,25,FALSE) -> 0 | U4: =SUM(M4:T4) -> 2759.6332 | V4: =VLOOKUP(D4,[1]apoio_Preços_MGS!$A$6:$AN$238,27,FALSE) -> 0.818 | W4: =U4*V4 -> 2257.3799 | X4: =VLOOKUP(D4,[1]apoio_Preços_MGS!$A$6:$AN$238,29,FALSE) -> 30.014545 | Y4: =VLOOKUP(D4,[1]apoio_Preços_MGS!$A$6:$AN$238,30,FALSE) -> 23.86303 | Z4: =Y4+X4 -> 53.877576 | AA4: =VLOOKUP(D4,[1]apoio_Preços_MGS!$A$6:$AN$238,32,FALSE) -> 4.0757659 | AB4: =VLOOKUP(D4,[1]apoio_Preços_MGS!$A$6:$AN$238,33,FALSE) -> 147.63636 | AC4: =VLOOKUP(D4,[1]apoio_Preços_MGS!$A$6:$AN$238,34,FALSE) -> 0 | AD4: =(U4+W4+Z4+AB4+AA4+VLOOKUP(C4,[1]apoio_Prec_Folha!$A:$S,7,FALSE))*AC4 -> 0 | AE4: =VLOOKUP(D4,[1]apoio_Preços_MGS!$A$6:$AN$238,36,FALSE) -> 0.07 | AF4: =(U4+W4+Z4+AB4+AD4+AA4+VLOOKUP(C4,[1]apoio_Prec_Folha!$A:$S,7,FALSE))*AE4 -> 401.83659 | AG4: =TRUNC(U4+W4+Z4+AB4+AA4+AD4+AF4,2) -> 5624.43 | AH4: =TRUNC($AG4*ROUND((7.6%+1.65%+$I4)/(1-(7.6%+1.65%+$I4)),5)+$AG4,2) -> 6409.6 | AI4: =AH4*K4 -> 38457.6 | AJ4: =AH4*L4 -> 2307456 | AK4: =VLOOKUP(D4,[1]apoio_Preços_MGS!$A$6:$AN$238,39,FALSE) -> 181.81818 | AL4: =IF(J4="demais municípios",VLOOKUP(D4,[1]apoio_Preços_MGS!$A$6:$AN$238,39,FALSE),0) -> 181.81818 | AM4: 0 | AN4: =AK4*K4 -> 1090.9091 | AO4: =VLOOKUP(D4,[1]apoio_Preços_MGS!$A$6:$AN$238,40,FALSE) -> 517.92 | AP4: =IF(J4="demais municípios",VLOOKUP(D4,[1]apoio_Preços_MGS!$A$6:$AN$238,40,FALSE),0) -> 517.92 | AQ4: 0 | AR4: =AO4*K4 -> 3107.52 | AS4: =AN4+AR4 -> 4198.4291 | AT4: =(AN4+AR4)*60 -> 251905.75
A5: =CONCATENATE(F5,H5,I5) -> 140970400,05 | B5: =CONCATENATE(D5,I5) -> 16980,05 | C5: =VLOOKUP(D5,[1]apoio_Preços_MGS!$A$6:$B$238,2,FALSE) -> AGENTE DE CAMPO | D5: 1698 | E5: =VLOOKUP(D5,[1]apoio_Preços_MGS!$A$6:$F$238,6,FALSE) -> AGENTE DE CAMPO - (PERIC.) - DIARISTA DIURNO - 40H | F5: =IFERROR(VLOOKUP(D5,'[1]apoio_cód catmas'!$B$2:$C$863,2,FALSE),0) -> 140970 | G5: =IF(H5="N/A",VLOOKUP(F5&40,'[1]apoio_cód catmas'!$A$1:$G$233,4,FALSE),VLOOKUP(F5&H5,'[1]apoio_cód catmas'!$A$1:$G$233,4,FALSE)) -> AGENTE DE CAMPO (PERICULOSIDADE) DIARISTA DIURNO - 40 H | H5: 40 | I5: 0.05 | J5: Demais Municípios | K5: 2 | L5: =K5*60 -> 120 | M5: =VLOOKUP(D5,[1]apoio_Preços_MGS!$A$6:$AN$238,18,FALSE) -> 2122.7947 | N5: =VLOOKUP(D5,[1]apoio_Preços_MGS!$A$6:$AN$238,19,FALSE) -> 636.83842 | O5: =VLOOKUP(D5,[1]apoio_Preços_MGS!$A$6:$AN$238,20,FALSE) -> 0 | P5: =VLOOKUP(D5,[1]apoio_Preços_MGS!$A$6:$AN$238,21,FALSE) -> 0 | Q5: =VLOOKUP(D5,[1]apoio_Preços_MGS!$A$6:$AN$238,22,FALSE) -> 0 | R5: =VLOOKUP(D5,[1]apoio_Preços_MGS!$A$6:$AN$238,23,FALSE) -> 0 | S5: =VLOOKUP(D5,[1]apoio_Preços_MGS!$A$6:$AN$238,24,FALSE) -> 0 | T5: =VLOOKUP(D5,[1]apoio_Preços_MGS!$A$6:$AN$238,25,FALSE) -> 0 | U5: =SUM(M5:T5) -> 2759.6332 | V5: =VLOOKUP(D5,[1]apoio_Preços_MGS!$A$6:$AN$238,27,FALSE) -> 0.818 | W5: =U5*V5 -> 2257.3799 | X5: =VLOOKUP(D5,[1]apoio_Preços_MGS!$A$6:$AN$238,29,FALSE) -> 30.014545 | Y5: =VLOOKUP(D5,[1]apoio_Preços_MGS!$A$6:$AN$238,30,FALSE) -> 23.86303 | Z5: =Y5+X5 -> 53.877576 | AA5: =VLOOKUP(D5,[1]apoio_Preços_MGS!$A$6:$AN$238,32,FALSE) -> 4.0757659 | AB5: =VLOOKUP(D5,[1]apoio_Preços_MGS!$A$6:$AN$238,33,FALSE) -> 147.63636 | AC5: =VLOOKUP(D5,[1]apoio_Preços_MGS!$A$6:$AN$238,34,FALSE) -> 0 | AD5: =(U5+W5+Z5+AB5+AA5+VLOOKUP(C5,[1]apoio_Prec_Folha!$A:$S,7,FALSE))*AC5 -> 0 | AE5: =VLOOKUP(D5,[1]apoio_Preços_MGS!$A$6:$AN$238,36,FALSE) -> 0.07 | AF5: =(U5+W5+Z5+AB5+AD5+AA5+VLOOKUP(C5,[1]apoio_Prec_Folha!$A:$S,7,FALSE))*AE5 -> 401.83659 | AG5: =TRUNC(U5+W5+Z5+AB5+AA5+AD5+AF5,2) -> 5624.43 | AH5: =TRUNC($AG5*ROUND((7.6%+1.65%+$I5)/(1-(7.6%+1.65%+$I5)),5)+$AG5,2) -> 6559.09 | AI5: =AH5*K5 -> 13118.18 | AJ5: =AH5*L5 -> 787090.8 | AK5: =VLOOKUP(D5,[1]apoio_Preços_MGS!$A$6:$AN$238,39,FALSE) -> 181.81818 | AL5: =IF(J5="demais municípios",VLOOKUP(D5,[1]apoio_Preços_MGS!$A$6:$AN$238,39,FALSE),0) -> 181.81818 | AM5: 0 | AN5: =AK5*K5 -> 363.63636 | AO5: =VLOOKUP(D5,[1]apoio_Preços_MGS!$A$6:$AN$238,40,FALSE) -> 517.92 | AP5: =IF(J5="demais municípios",VLOOKUP(D5,[1]apoio_Preços_MGS!$A$6:$AN$238,40,FALSE),0) -> 517.92 | AQ5: 0 | AR5: =AO5*K5 -> 1035.84 | AS5: =AN5+AR5 -> 1399.4764 | AT5: =(AN5+AR5)*60 -> 83968.582
A6: =CONCATENATE(F6,H6,I6) -> 140970400,05 | B6: =CONCATENATE(D6,I6) -> 16980,05 | C6: =VLOOKUP(D6,[1]apoio_Preços_MGS!$A$6:$B$238,2,FALSE) -> AGENTE DE CAMPO | D6: 1698 | E6: =VLOOKUP(D6,[1]apoio_Preços_MGS!$A$6:$F$238,6,FALSE) -> AGENTE DE CAMPO - (PERIC.) - DIARISTA DIURNO - 40H | F6: =IFERROR(VLOOKUP(D6,'[1]apoio_cód catmas'!$B$2:$C$863,2,FALSE),0) -> 140970 | G6: =IF(H6="N/A",VLOOKUP(F6&40,'[1]apoio_cód catmas'!$A$1:$G$233,4,FALSE),VLOOKUP(F6&H6,'[1]apoio_cód catmas'!$A$1:$G$233,4,FALSE)) -> AGENTE DE CAMPO (PERICULOSIDADE) DIARISTA DIURNO - 40 H | H6: 40 | I6: 0.05 | J6: Belo Horizonte | K6: 6 | L6: =K6*60 -> 360 | M6: =VLOOKUP(D6,[1]apoio_Preços_MGS!$A$6:$AN$238,18,FALSE) -> 2122.7947 | N6: =VLOOKUP(D6,[1]apoio_Preços_MGS!$A$6:$AN$238,19,FALSE) -> 636.83842 | O6: =VLOOKUP(D6,[1]apoio_Preços_MGS!$A$6:$AN$238,20,FALSE) -> 0 | P6: =VLOOKUP(D6,[1]apoio_Preços_MGS!$A$6:$AN$238,21,FALSE) -> 0 | Q6: =VLOOKUP(D6,[1]apoio_Preços_MGS!$A$6:$AN$238,22,FALSE) -> 0 | R6: =VLOOKUP(D6,[1]apoio_Preços_MGS!$A$6:$AN$238,23,FALSE) -> 0 | S6: =VLOOKUP(D6,[1]apoio_Preços_MGS!$A$6:$AN$238,24,FALSE) -> 0 | T6: =VLOOKUP(D6,[1]apoio_Preços_MGS!$A$6:$AN$238,25,FALSE) -> 0 | U6: =SUM(M6:T6) -> 2759.6332 | V6: =VLOOKUP(D6,[1]apoio_Preços_MGS!$A$6:$AN$238,27,FALSE) -> 0.818 | W6: =U6*V6 -> 2257.3799 | X6: =VLOOKUP(D6,[1]apoio_Preços_MGS!$A$6:$AN$238,29,FALSE) -> 30.014545 | Y6: =VLOOKUP(D6,[1]apoio_Preços_MGS!$A$6:$AN$238,30,FALSE) -> 23.86303 | Z6: =Y6+X6 -> 53.877576 | AA6: =VLOOKUP(D6,[1]apoio_Preços_MGS!$A$6:$AN$238,32,FALSE) -> 4.0757659 | AB6: =VLOOKUP(D6,[1]apoio_Preços_MGS!$A$6:$AN$238,33,FALSE) -> 147.63636 | AC6: =VLOOKUP(D6,[1]apoio_Preços_MGS!$A$6:$AN$238,34,FALSE) -> 0 | AD6: =(U6+W6+Z6+AB6+AA6+VLOOKUP(C6,[1]apoio_Prec_Folha!$A:$S,7,FALSE))*AC6 -> 0 | AE6: =VLOOKUP(D6,[1]apoio_Preços_MGS!$A$6:$AN$238,36,FALSE) -> 0.07 | AF6: =(U6+W6+Z6+AB6+AD6+AA6+VLOOKUP(C6,[1]apoio_Prec_Folha!$A:$S,7,FALSE))*AE6 -> 401.83659 | AG6: =TRUNC(U6+W6+Z6+AB6+AA6+AD6+AF6,2) -> 5624.43 | AH6: =TRUNC($AG6*ROUND((7.6%+1.65%+$I6)/(1-(7.6%+1.65%+$I6)),5)+$AG6,2) -> 6559.09 | AI6: =AH6*K6 -> 39354.54 | AJ6: =AH6*L6 -> 2361272.4 | AK6: =VLOOKUP(D6,[1]apoio_Preços_MGS!$A$6:$AN$238,39,FALSE) -> 181.81818 | AL6: =IF(J6="demais municípios",VLOOKUP(D6,[1]apoio_Preços_MGS!$A$6:$AN$238,39,FALSE),0) -> 0 | AM6: =TRUNC(ROUND(($I6)/(1-($I6)),5)*VLOOKUP(D6,[1]apoio_Preços_MGS!$A$6:$AN$238,39,FALSE)+VLOOKUP(D6,[1]apoio_Preços_MGS!$A$6:$AN$238,39,FALSE),2) -> 191.38 | AN6: =AM6*K6 -> 1148.28 | AO6: =VLOOKUP(D6,[1]apoio_Preços_MGS!$A$6:$AN$238,40,FALSE) -> 517.92 | AP6: =IF(J6="demais municípios",VLOOKUP(D6,[1]apoio_Preços_MGS!$A$6:$AN$238,40,FALSE),0) -> 0 | AQ6: =TRUNC(ROUND(($I6)/(1-($I6)),5)*VLOOKUP(D6,[1]apoio_Preços_MGS!$A$6:$AN$238,40,FALSE)+VLOOKUP(D6,[1]apoio_Preços_MGS!$A$6:$AN$238,40,FALSE),2) -> 545.17 | AR6: =AQ6*K6 -> 3271.02 | AS6: =AN6+AR6 -> 4419.3 | AT6: =(AN6+AR6)*60 -> 265158
A7: =CONCATENATE(F7,H7,I7) -> 141615400,03 | B7: =CONCATENATE(D7,I7) -> 16990,03 | C7: =VLOOKUP(D7,[1]apoio_Preços_MGS!$A$6:$B$238,2,FALSE) -> AGENTE DE CAMPO | D7: 1699 | E7: =VLOOKUP(D7,[1]apoio_Preços_MGS!$A$6:$F$238,6,FALSE) -> AGENTE DE CAMPO - DIARISTA DIURNO - 40H | F7: =IFERROR(VLOOKUP(D7,'[1]apoio_cód catmas'!$B$2:$C$863,2,FALSE),0) -> 141615 | G7: =IF(H7="N/A",VLOOKUP(F7&40,'[1]apoio_cód catmas'!$A$1:$G$233,4,FALSE),VLOOKUP(F7&H7,'[1]apoio_cód catmas'!$A$1:$G$233,4,FALSE)) -> AGENTE DE CAMPO - (SEM PERICULOSIDADE) - DIARISTA DIURNO - 40 HORAS | H7: 40 | I7: 0.03 | J7: Demais Municípios | K7: 1 | L7: =K7*60 -> 60 | M7: =VLOOKUP(D7,[1]apoio_Preços_MGS!$A$6:$AN$238,18,FALSE) -> 2122.7947 | N7: =VLOOKUP(D7,[1]apoio_Preços_MGS!$A$6:$AN$238,19,FALSE) -> 0 | O7: =VLOOKUP(D7,[1]apoio_Preços_MGS!$A$6:$AN$238,20,FALSE) -> 0 | P7: =VLOOKUP(D7,[1]apoio_Preços_MGS!$A$6:$AN$238,21,FALSE) -> 0 | Q7: =VLOOKUP(D7,[1]apoio_Preços_MGS!$A$6:$AN$238,22,FALSE) -> 0 | R7: =VLOOKUP(D7,[1]apoio_Preços_MGS!$A$6:$AN$238,23,FALSE) -> 0 | S7: =VLOOKUP(D7,[1]apoio_Preços_MGS!$A$6:$AN$238,24,FALSE) -> 0 | T7: =VLOOKUP(D7,[1]apoio_Preços_MGS!$A$6:$AN$238,25,FALSE) -> 0 | U7: =SUM(M7:T7) -> 2122.7947 | V7: =VLOOKUP(D7,[1]apoio_Preços_MGS!$A$6:$AN$238,27,FALSE) -> 0.818 | W7: =U7*V7 -> 1736.4461 | X7: =VLOOKUP(D7,[1]apoio_Preços_MGS!$A$6:$AN$238,29,FALSE) -> 30.014545 | Y7: =VLOOKUP(D7,[1]apoio_Preços_MGS!$A$6:$AN$238,30,FALSE) -> 23.86303 | Z7: =Y7+X7 -> 53.877576 | AA7: =VLOOKUP(D7,[1]apoio_Preços_MGS!$A$6:$AN$238,32,FALSE) -> 4.0757659 | AB7: =VLOOKUP(D7,[1]apoio_Preços_MGS!$A$6:$AN$238,33,FALSE) -> 147.63636 | AC7: =VLOOKUP(D7,[1]apoio_Preços_MGS!$A$6:$AN$238,34,FALSE) -> 0 | AD7: =(U7+W7+Z7+AB7+AA7+VLOOKUP(C7,[1]apoio_Prec_Folha!$A:$S,7,FALSE))*AC7 -> 0 | AE7: =VLOOKUP(D7,[1]apoio_Preços_MGS!$A$6:$AN$238,36,FALSE) -> 0.07 | AF7: =(U7+W7+Z7+AB7+AD7+AA7+VLOOKUP(C7,[1]apoio_Prec_Folha!$A:$S,7,FALSE))*AE7 -> 320.79254 | AG7: =TRUNC(U7+W7+Z7+AB7+AA7+AD7+AF7,2) -> 4385.62 | AH7: =TRUNC($AG7*ROUND((7.6%+1.65%+$I7)/(1-(7.6%+1.65%+$I7)),5)+$AG7,2) -> 4997.85 | AI7: =AH7*K7 -> 4997.85 | AJ7: =AH7*L7 -> 299871 | AK7: =VLOOKUP(D7,[1]apoio_Preços_MGS!$A$6:$AN$238,39,FALSE) -> 181.81818 | AL7: =IF(J7="demais municípios",VLOOKUP(D7,[1]apoio_Preços_MGS!$A$6:$AN$238,39,FALSE),0) -> 181.81818 | AM7: 0 | AN7: =AK7*K7 -> 181.81818 | AO7: =VLOOKUP(D7,[1]apoio_Preços_MGS!$A$6:$AN$238,40,FALSE) -> 517.92 | AP7: =IF(J7="demais municípios",VLOOKUP(D7,[1]apoio_Preços_MGS!$A$6:$AN$238,40,FALSE),0) -> 517.92 | AQ7: 0 | AR7: =AO7*K7 -> 517.92 | AS7: =AN7+AR7 -> 699.73818 | AT7: =(AN7+AR7)*60 -> 41984.291
A8: =CONCATENATE(F8,H8,I8) -> 95117440,02 | B8: =CONCATENATE(D8,I8) -> 3890,02 | C8: =VLOOKUP(D8,[1]apoio_Preços_MGS!$A$6:$B$238,2,FALSE) -> AGENTE DE SERVIÇO DE PARQUE HABILITADO | D8: 389 | E8: =VLOOKUP(D8,[1]apoio_Preços_MGS!$A$6:$F$238,6,FALSE) -> AGENTE DE SERVIÇO DE PARQUE HABILITADO - (PERIC.) - DIARISTA DIURNO - 44H | F8: =IFERROR(VLOOKUP(D8,'[1]apoio_cód catmas'!$B$2:$C$863,2,FALSE),0) -> 95117 | G8: =IF(H8="N/A",VLOOKUP(F8&40,'[1]apoio_cód catmas'!$A$1:$G$233,4,FALSE),VLOOKUP(F8&H8,'[1]apoio_cód catmas'!$A$1:$G$233,4,FALSE)) -> AGENTE DE SERVICO DE PARQUE HABILITADO - (PERICULOSIDADE) - 44H | H8: 44 | I8: 0.02 | J8: Demais Municípios | K8: 32 | L8: =K8*60 -> 1920 | M8: =VLOOKUP(D8,[1]apoio_Preços_MGS!$A$6:$AN$238,18,FALSE) -> 2150.6884 | N8: =VLOOKUP(D8,[1]apoio_Preços_MGS!$A$6:$AN$238,19,FALSE) -> 645.20652 | O8: =VLOOKUP(D8,[1]apoio_Preços_MGS!$A$6:$AN$238,20,FALSE) -> 0 | P8: =VLOOKUP(D8,[1]apoio_Preços_MGS!$A$6:$AN$238,21,FALSE) -> 0 | Q8: =VLOOKUP(D8,[1]apoio_Preços_MGS!$A$6:$AN$238,22,FALSE) -> 0 | R8: =VLOOKUP(D8,[1]apoio_Preços_MGS!$A$6:$AN$238,23,FALSE) -> 0 | S8: =VLOOKUP(D8,[1]apoio_Preços_MGS!$A$6:$AN$238,24,FALSE) -> 0 | T8: =VLOOKUP(D8,[1]apoio_Preços_MGS!$A$6:$AN$238,25,FALSE) -> 0 | U8: =SUM(M8:T8) -> 2795.8949 | V8: =VLOOKUP(D8,[1]apoio_Preços_MGS!$A$6:$AN$238,27,FALSE) -> 0.818 | W8: =U8*V8 -> 2287.042 | X8: =VLOOKUP(D8,[1]apoio_Preços_MGS!$A$6:$AN$238,29,FALSE) -> 30.014545 | Y8: =VLOOKUP(D8,[1]apoio_Preços_MGS!$A$6:$AN$238,30,FALSE) -> 282.32043 | Z8: =Y8+X8 -> 312.33498 | AA8: =VLOOKUP(D8,[1]apoio_Preços_MGS!$A$6:$AN$238,32,FALSE) -> 4.1293217 | AB8: =VLOOKUP(D8,[1]apoio_Preços_MGS!$A$6:$AN$238,33,FALSE) -> 281.7415 | AC8: =VLOOKUP(D8,[1]apoio_Preços_MGS!$A$6:$AN$238,34,FALSE) -> 0 | AD8: =(U8+W8+Z8+AB8+AA8+VLOOKUP(C8,[1]apoio_Prec_Folha!$A:$S,7,FALSE))*AC8 -> 0 | AE8: =VLOOKUP(D8,[1]apoio_Preços_MGS!$A$6:$AN$238,36,FALSE) -> 0.07 | AF8: =(U8+W8+Z8+AB8+AD8+AA8+VLOOKUP(C8,[1]apoio_Prec_Folha!$A:$S,7,FALSE))*AE8 -> 436.13481 | AG8: =TRUNC(U8+W8+Z8+AB8+AA8+AD8+AF8,2) -> 6117.27 | AH8: =TRUNC($AG8*ROUND((7.6%+1.65%+$I8)/(1-(7.6%+1.65%+$I8)),5)+$AG8,2) -> 6892.69 | AI8: =AH8*K8 -> 220566.08 | AJ8: =AH8*L8 -> 13233965 | AK8: =VLOOKUP(D8,[1]apoio_Preços_MGS!$A$6:$AN$238,39,FALSE) -> 200 | AL8: =IF(J8="demais municípios",VLOOKUP(D8,[1]apoio_Preços_MGS!$A$6:$AN$238,39,FALSE),0) -> 200 | AM8: 0 | AN8: =AK8*K8 -> 6400 | AO8: =VLOOKUP(D8,[1]apoio_Preços_MGS!$A$6:$AN$238,40,FALSE) -> 549.35 | AP8: =IF(J8="demais municípios",VLOOKUP(D8,[1]apoio_Preços_MGS!$A$6:$AN$238,40,FALSE),0) -> 549.35 | AQ8: 0 | AR8: =AO8*K8 -> 17579.2 | AS8: =AN8+AR8 -> 23979.2 | AT8: =(AN8+AR8)*60 -> 1438752
A9: =CONCATENATE(F9,H9,I9) -> 95117440,025 | B9: =CONCATENATE(D9,I9) -> 3890,025 | C9: =VLOOKUP(D9,[1]apoio_Preços_MGS!$A$6:$B$238,2,FALSE) -> AGENTE DE SERVIÇO DE PARQUE HABILITADO | D9: 389 | E9: =VLOOKUP(D9,[1]apoio_Preços_MGS!$A$6:$F$238,6,FALSE) -> AGENTE DE SERVIÇO DE PARQUE HABILITADO - (PERIC.) - DIARISTA DIURNO - 44H | F9: =IFERROR(VLOOKUP(D9,'[1]apoio_cód catmas'!$B$2:$C$863,2,FALSE),0) -> 95117 | G9: =IF(H9="N/A",VLOOKUP(F9&40,'[1]apoio_cód catmas'!$A$1:$G$233,4,FALSE),VLOOKUP(F9&H9,'[1]apoio_cód catmas'!$A$1:$G$233,4,FALSE)) -> AGENTE DE SERVICO DE PARQUE HABILITADO - (PERICULOSIDADE) - 44H | H9: 44 | I9: 0.025 | J9: Demais Municípios | K9: 1 | L9: =K9*60 -> 60 | M9: =VLOOKUP(D9,[1]apoio_Preços_MGS!$A$6:$AN$238,18,FALSE) -> 2150.6884 | N9: =VLOOKUP(D9,[1]apoio_Preços_MGS!$A$6:$AN$238,19,FALSE) -> 645.20652 | O9: =VLOOKUP(D9,[1]apoio_Preços_MGS!$A$6:$AN$238,20,FALSE) -> 0 | P9: =VLOOKUP(D9,[1]apoio_Preços_MGS!$A$6:$AN$238,21,FALSE) -> 0 | Q9: =VLOOKUP(D9,[1]apoio_Preços_MGS!$A$6:$AN$238,22,FALSE) -> 0 | R9: =VLOOKUP(D9,[1]apoio_Preços_MGS!$A$6:$AN$238,23,FALSE) -> 0 | S9: =VLOOKUP(D9,[1]apoio_Preços_MGS!$A$6:$AN$238,24,FALSE) -> 0 | T9: =VLOOKUP(D9,[1]apoio_Preços_MGS!$A$6:$AN$238,25,FALSE) -> 0 | U9: =SUM(M9:T9) -> 2795.8949 | V9: =VLOOKUP(D9,[1]apoio_Preços_MGS!$A$6:$AN$238,27,FALSE) -> 0.818 | W9: =U9*V9 -> 2287.042 | X9: =VLOOKUP(D9,[1]apoio_Preços_MGS!$A$6:$AN$238,29,FALSE) -> 30.014545 | Y9: =VLOOKUP(D9,[1]apoio_Preços_MGS!$A$6:$AN$238,30,FALSE) -> 282.32043 | Z9: =Y9+X9 -> 312.33498 | AA9: =VLOOKUP(D9,[1]apoio_Preços_MGS!$A$6:$AN$238,32,FALSE) -> 4.1293217 | AB9: =VLOOKUP(D9,[1]apoio_Preços_MGS!$A$6:$AN$238,33,FALSE) -> 281.7415 | AC9: =VLOOKUP(D9,[1]apoio_Preços_MGS!$A$6:$AN$238,34,FALSE) -> 0 | AD9: =(U9+W9+Z9+AB9+AA9+VLOOKUP(C9,[1]apoio_Prec_Folha!$A:$S,7,FALSE))*AC9 -> 0 | AE9: =VLOOKUP(D9,[1]apoio_Preços_MGS!$A$6:$AN$238,36,FALSE) -> 0.07 | AF9: =(U9+W9+Z9+AB9+AD9+AA9+VLOOKUP(C9,[1]apoio_Prec_Folha!$A:$S,7,FALSE))*AE9 -> 436.13481 | AG9: =TRUNC(U9+W9+Z9+AB9+AA9+AD9+AF9,2) -> 6117.27 | AH9: =TRUNC($AG9*ROUND((7.6%+1.65%+$I9)/(1-(7.6%+1.65%+$I9)),5)+$AG9,2) -> 6931.72 | AI9: =AH9*K9 -> 6931.72 | AJ9: =AH9*L9 -> 415903.2 | AK9: =VLOOKUP(D9,[1]apoio_Preços_MGS!$A$6:$AN$238,39,FALSE) -> 200 | AL9: =IF(J9="demais municípios",VLOOKUP(D9,[1]apoio_Preços_MGS!$A$6:$AN$238,39,FALSE),0) -> 200 | AM9: 0 | AN9: =AK9*K9 -> 200 | AO9: =VLOOKUP(D9,[1]apoio_Preços_MGS!$A$6:$AN$238,40,FALSE) -> 549.35 | AP9: =IF(J9="demais municípios",VLOOKUP(D9,[1]apoio_Preços_MGS!$A$6:$AN$238,40,FALSE),0) -> 549.35 | AQ9: 0 | AR9: =AO9*K9 -> 549.35 | AS9: =AN9+AR9 -> 749.35 | AT9: =(AN9+AR9)*60 -> 44961
A10: =CONCATENATE(F10,H10,I10) -> 95117440,027 | B10: =CONCATENATE(D10,I10) -> 3890,027 | C10: =VLOOKUP(D10,[1]apoio_Preços_MGS!$A$6:$B$238,2,FALSE) -> AGENTE DE SERVIÇO DE PARQUE HABILITADO | D10: 389 | E10: =VLOOKUP(D10,[1]apoio_Preços_MGS!$A$6:$F$238,6,FALSE) -> AGENTE DE SERVIÇO DE PARQUE HABILITADO - (PERIC.) - DIARISTA DIURNO - 44H | F10: =IFERROR(VLOOKUP(D10,'[1]apoio_cód catmas'!$B$2:$C$863,2,FALSE),0) -> 95117 | G10: =IF(H10="N/A",VLOOKUP(F10&40,'[1]apoio_cód catmas'!$A$1:$G$233,4,FALSE),VLOOKUP(F10&H10,'[1]apoio_cód catmas'!$A$1:$G$233,4,FALSE)) -> AGENTE DE SERVICO DE PARQUE HABILITADO - (PERICULOSIDADE) - 44H | H10: 44 | I10: 0.027 | J10: Demais Municípios | K10: 1 | L10: 56 | M10: =VLOOKUP(D10,[1]apoio_Preços_MGS!$A$6:$AN$238,18,FALSE) -> 2150.6884 | N10: =VLOOKUP(D10,[1]apoio_Preços_MGS!$A$6:$AN$238,19,FALSE) -> 645.20652 | O10: =VLOOKUP(D10,[1]apoio_Preços_MGS!$A$6:$AN$238,20,FALSE) -> 0 | P10: =VLOOKUP(D10,[1]apoio_Preços_MGS!$A$6:$AN$238,21,FALSE) -> 0 | Q10: =VLOOKUP(D10,[1]apoio_Preços_MGS!$A$6:$AN$238,22,FALSE) -> 0 | R10: =VLOOKUP(D10,[1]apoio_Preços_MGS!$A$6:$AN$238,23,FALSE) -> 0 | S10: =VLOOKUP(D10,[1]apoio_Preços_MGS!$A$6:$AN$238,24,FALSE) -> 0 | T10: =VLOOKUP(D10,[1]apoio_Preços_MGS!$A$6:$AN$238,25,FALSE) -> 0 | U10: =SUM(M10:T10) -> 2795.8949 | V10: =VLOOKUP(D10,[1]apoio_Preços_MGS!$A$6:$AN$238,27,FALSE) -> 0.818 | W10: =U10*V10 -> 2287.042 | X10: =VLOOKUP(D10,[1]apoio_Preços_MGS!$A$6:$AN$238,29,FALSE) -> 30.014545 | Y10: =VLOOKUP(D10,[1]apoio_Preços_MGS!$A$6:$AN$238,30,FALSE) -> 282.32043 | Z10: =Y10+X10 -> 312.33498 | AA10: =VLOOKUP(D10,[1]apoio_Preços_MGS!$A$6:$AN$238,32,FALSE) -> 4.1293217 | AB10: =VLOOKUP(D10,[1]apoio_Preços_MGS!$A$6:$AN$238,33,FALSE) -> 281.7415 | AC10: =VLOOKUP(D10,[1]apoio_Preços_MGS!$A$6:$AN$238,34,FALSE) -> 0 | AD10: =(U10+W10+Z10+AB10+AA10+VLOOKUP(C10,[1]apoio_Prec_Folha!$A:$S,7,FALSE))*AC10 -> 0 | AE10: =VLOOKUP(D10,[1]apoio_Preços_MGS!$A$6:$AN$238,36,FALSE) -> 0.07 | AF10: =(U10+W10+Z10+AB10+AD10+AA10+VLOOKUP(C10,[1]apoio_Prec_Folha!$A:$S,7,FALSE))*AE10 -> 436.13481 | AG10: =TRUNC(U10+W10+Z10+AB10+AA10+AD10+AF10,2) -> 6117.27 | AH10: =TRUNC($AG10*ROUND((7.6%+1.65%+$I10)/(1-(7.6%+1.65%+$I10)),5)+$AG10,2) -> 6947.5 | AI10: =AH10*K10 -> 6947.5 | AJ10: =AH10*L10 -> 389060 | AK10: =VLOOKUP(D10,[1]apoio_Preços_MGS!$A$6:$AN$238,39,FALSE) -> 200 | AL10: =IF(J10="demais municípios",VLOOKUP(D10,[1]apoio_Preços_MGS!$A$6:$AN$238,39,FALSE),0) -> 200 | AM10: 0 | AN10: =AK10*K10 -> 200 | AO10: =VLOOKUP(D10,[1]apoio_Preços_MGS!$A$6:$AN$238,40,FALSE) -> 549.35 | AP10: =IF(J10="demais municípios",VLOOKUP(D10,[1]apoio_Preços_MGS!$A$6:$AN$238,40,FALSE),0) -> 549.35 | AQ10: 0 | AR10: =AO10*K10 -> 549.35 | AS10: =AN10+AR10 -> 749.35 | AT10: =(AN10+AR10)*60 -> 44961
A11: =CONCATENATE(F11,H11,I11) -> 95117440,03 | B11: =CONCATENATE(D11,I11) -> 3890,03 | C11: =VLOOKUP(D11,[1]apoio_Preços_MGS!$A$6:$B$238,2,FALSE) -> AGENTE DE SERVIÇO DE PARQUE HABILITADO | D11: 389 | E11: =VLOOKUP(D11,[1]apoio_Preços_MGS!$A$6:$F$238,6,FALSE) -> AGENTE DE SERVIÇO DE PARQUE HABILITADO - (PERIC.) - DIARISTA DIURNO - 44H | F11: =IFERROR(VLOOKUP(D11,'[1]apoio_cód catmas'!$B$2:$C$863,2,FALSE),0) -> 95117 | G11: =IF(H11="N/A",VLOOKUP(F11&40,'[1]apoio_cód catmas'!$A$1:$G$233,4,FALSE),VLOOKUP(F11&H11,'[1]apoio_cód catmas'!$A$1:$G$233,4,FALSE)) -> AGENTE DE SERVICO DE PARQUE HABILITADO - (PERICULOSIDADE) - 44H | H11: 44 | I11: 0.03 | J11: Demais Municípios | K11: =54-2+3 -> 55 | L11: =K11*60 -> 3300 | M11: =VLOOKUP(D11,[1]apoio_Preços_MGS!$A$6:$AN$238,18,FALSE) -> 2150.6884 | N11: =VLOOKUP(D11,[1]apoio_Preços_MGS!$A$6:$AN$238,19,FALSE) -> 645.20652 | O11: =VLOOKUP(D11,[1]apoio_Preços_MGS!$A$6:$AN$238,20,FALSE) -> 0 | P11: =VLOOKUP(D11,[1]apoio_Preços_MGS!$A$6:$AN$238,21,FALSE) -> 0 | Q11: =VLOOKUP(D11,[1]apoio_Preços_MGS!$A$6:$AN$238,22,FALSE) -> 0 | R11: =VLOOKUP(D11,[1]apoio_Preços_MGS!$A$6:$AN$238,23,FALSE) -> 0 | S11: =VLOOKUP(D11,[1]apoio_Preços_MGS!$A$6:$AN$238,24,FALSE) -> 0 | T11: =VLOOKUP(D11,[1]apoio_Preços_MGS!$A$6:$AN$238,25,FALSE) -> 0 | U11: =SUM(M11:T11) -> 2795.8949 | V11: =VLOOKUP(D11,[1]apoio_Preços_MGS!$A$6:$AN$238,27,FALSE) -> 0.818 | W11: =U11*V11 -> 2287.042 | X11: =VLOOKUP(D11,[1]apoio_Preços_MGS!$A$6:$AN$238,29,FALSE) -> 30.014545 | Y11: =VLOOKUP(D11,[1]apoio_Preços_MGS!$A$6:$AN$238,30,FALSE) -> 282.32043 | Z11: =Y11+X11 -> 312.33498 | AA11: =VLOOKUP(D11,[1]apoio_Preços_MGS!$A$6:$AN$238,32,FALSE) -> 4.1293217 | AB11: =VLOOKUP(D11,[1]apoio_Preços_MGS!$A$6:$AN$238,33,FALSE) -> 281.7415 | AC11: =VLOOKUP(D11,[1]apoio_Preços_MGS!$A$6:$AN$238,34,FALSE) -> 0 | AD11: =(U11+W11+Z11+AB11+AA11+VLOOKUP(C11,[1]apoio_Prec_Folha!$A:$S,7,FALSE))*AC11 -> 0 | AE11: =VLOOKUP(D11,[1]apoio_Preços_MGS!$A$6:$AN$238,36,FALSE) -> 0.07 | AF11: =(U11+W11+Z11+AB11+AD11+AA11+VLOOKUP(C11,[1]apoio_Prec_Folha!$A:$S,7,FALSE))*AE11 -> 436.13481 | AG11: =TRUNC(U11+W11+Z11+AB11+AA11+AD11+AF11,2) -> 6117.27 | AH11: =TRUNC($AG11*ROUND((7.6%+1.65%+$I11)/(1-(7.6%+1.65%+$I11)),5)+$AG11,2) -> 6971.24 | AI11: =AH11*K11 -> 383418.2 | AJ11: =AH11*L11 -> 23005092 | AK11: =VLOOKUP(D11,[1]apoio_Preços_MGS!$A$6:$AN$238,39,FALSE) -> 200 | AL11: =IF(J11="demais municípios",VLOOKUP(D11,[1]apoio_Preços_MGS!$A$6:$AN$238,39,FALSE),0) -> 200 | AM11: 0 | AN11: =AK11*K11 -> 11000 | AO11: =VLOOKUP(D11,[1]apoio_Preços_MGS!$A$6:$AN$238,40,FALSE) -> 549.35 | AP11: =IF(J11="demais municípios",VLOOKUP(D11,[1]apoio_Preços_MGS!$A$6:$AN$238,40,FALSE),0) -> 549.35 | AQ11: 0 | AR11: =AO11*K11 -> 30214.25 | AS11: =AN11+AR11 -> 41214.25 | AT11: =(AN11+AR11)*60 -> 2472855
A12: =CONCATENATE(F12,H12,I12) -> 95117440,035 | B12: =CONCATENATE(D12,I12) -> 3890,035 | C12: =VLOOKUP(D12,[1]apoio_Preços_MGS!$A$6:$B$238,2,FALSE) -> AGENTE DE SERVIÇO DE PARQUE HABILITADO | D12: 389 | E12: =VLOOKUP(D12,[1]apoio_Preços_MGS!$A$6:$F$238,6,FALSE) -> AGENTE DE SERVIÇO DE PARQUE HABILITADO - (PERIC.) - DIARISTA DIURNO - 44H | F12: =IFERROR(VLOOKUP(D12,'[1]apoio_cód catmas'!$B$2:$C$863,2,FALSE),0) -> 95117 | G12: =IF(H12="N/A",VLOOKUP(F12&40,'[1]apoio_cód catmas'!$A$1:$G$233,4,FALSE),VLOOKUP(F12&H12,'[1]apoio_cód catmas'!$A$1:$G$233,4,FALSE)) -> AGENTE DE SERVICO DE PARQUE HABILITADO - (PERICULOSIDADE) - 44H | H12: 44 | I12: 0.035 | J12: Demais Municípios | K12: 5 | L12: =K12*60 -> 300 | M12: =VLOOKUP(D12,[1]apoio_Preços_MGS!$A$6:$AN$238,18,FALSE) -> 2150.6884 | N12: =VLOOKUP(D12,[1]apoio_Preços_MGS!$A$6:$AN$238,19,FALSE) -> 645.20652 | O12: =VLOOKUP(D12,[1]apoio_Preços_MGS!$A$6:$AN$238,20,FALSE) -> 0 | P12: =VLOOKUP(D12,[1]apoio_Preços_MGS!$A$6:$AN$238,21,FALSE) -> 0 | Q12: =VLOOKUP(D12,[1]apoio_Preços_MGS!$A$6:$AN$238,22,FALSE) -> 0 | R12: =VLOOKUP(D12,[1]apoio_Preços_MGS!$A$6:$AN$238,23,FALSE) -> 0 | S12: =VLOOKUP(D12,[1]apoio_Preços_MGS!$A$6:$AN$238,24,FALSE) -> 0 | T12: =VLOOKUP(D12,[1]apoio_Preços_MGS!$A$6:$AN$238,25,FALSE) -> 0 | U12: =SUM(M12:T12) -> 2795.8949 | V12: =VLOOKUP(D12,[1]apoio_Preços_MGS!$A$6:$AN$238,27,FALSE) -> 0.818 | W12: =U12*V12 -> 2287.042 | X12: =VLOOKUP(D12,[1]apoio_Preços_MGS!$A$6:$AN$238,29,FALSE) -> 30.014545 | Y12: =VLOOKUP(D12,[1]apoio_Preços_MGS!$A$6:$AN$238,30,FALSE) -> 282.32043 | Z12: =Y12+X12 -> 312.33498 | AA12: =VLOOKUP(D12,[1]apoio_Preços_MGS!$A$6:$AN$238,32,FALSE) -> 4.1293217 | AB12: =VLOOKUP(D12,[1]apoio_Preços_MGS!$A$6:$AN$238,33,FALSE) -> 281.7415 | AC12: =VLOOKUP(D12,[1]apoio_Preços_MGS!$A$6:$AN$238,34,FALSE) -> 0 | AD12: =(U12+W12+Z12+AB12+AA12+VLOOKUP(C12,[1]apoio_Prec_Folha!$A:$S,7,FALSE))*AC12 -> 0 | AE12: =VLOOKUP(D12,[1]apoio_Preços_MGS!$A$6:$AN$238,36,FALSE) -> 0.07 | AF12: =(U12+W12+Z12+AB12+AD12+AA12+VLOOKUP(C12,[1]apoio_Prec_Folha!$A:$S,7,FALSE))*AE12 -> 436.13481 | AG12: =TRUNC(U12+W12+Z12+AB12+AA12+AD12+AF12,2) -> 6117.27 | AH12: =TRUNC($AG12*ROUND((7.6%+1.65%+$I12)/(1-(7.6%+1.65%+$I12)),5)+$AG12,2) -> 7011.18 | AI12: =AH12*K12 -> 35055.9 | AJ12: =AH12*L12 -> 2103354 | AK12: =VLOOKUP(D12,[1]apoio_Preços_MGS!$A$6:$AN$238,39,FALSE) -> 200 | AL12: =IF(J12="demais municípios",VLOOKUP(D12,[1]apoio_Preços_MGS!$A$6:$AN$238,39,FALSE),0) -> 200 | AM12: 0 | AN12: =AK12*K12 -> 1000 | AO12: =VLOOKUP(D12,[1]apoio_Preços_MGS!$A$6:$AN$238,40,FALSE) -> 549.35 | AP12: =IF(J12="demais municípios",VLOOKUP(D12,[1]apoio_Preços_MGS!$A$6:$AN$238,40,FALSE),0) -> 549.35 | AQ12: 0 | AR12: =AO12*K12 -> 2746.75 | AS12: =AN12+AR12 -> 3746.75 | AT12: =(AN12+AR12)*60 -> 224805
A13: =CONCATENATE(F13,H13,I13) -> 95117440,04 | B13: =CONCATENATE(D13,I13) -> 3890,04 | C13: =VLOOKUP(D13,[1]apoio_Preços_MGS!$A$6:$B$238,2,FALSE) -> AGENTE DE SERVIÇO DE PARQUE HABILITADO | D13: 389 | E13: =VLOOKUP(D13,[1]apoio_Preços_MGS!$A$6:$F$238,6,FALSE) -> AGENTE DE SERVIÇO DE PARQUE HABILITADO - (PERIC.) - DIARISTA DIURNO - 44H | F13: =IFERROR(VLOOKUP(D13,'[1]apoio_cód catmas'!$B$2:$C$863,2,FALSE),0) -> 95117 | G13: =IF(H13="N/A",VLOOKUP(F13&40,'[1]apoio_cód catmas'!$A$1:$G$233,4,FALSE),VLOOKUP(F13&H13,'[1]apoio_cód catmas'!$A$1:$G$233,4,FALSE)) -> AGENTE DE SERVICO DE PARQUE HABILITADO - (PERICULOSIDADE) - 44H | H13: 44 | I13: 0.04 | J13: Demais Municípios | K13: 16 | L13: =K13*60 -> 960 | M13: =VLOOKUP(D13,[1]apoio_Preços_MGS!$A$6:$AN$238,18,FALSE) -> 2150.6884 | N13: =VLOOKUP(D13,[1]apoio_Preços_MGS!$A$6:$AN$238,19,FALSE) -> 645.20652 | O13: =VLOOKUP(D13,[1]apoio_Preços_MGS!$A$6:$AN$238,20,FALSE) -> 0 | P13: =VLOOKUP(D13,[1]apoio_Preços_MGS!$A$6:$AN$238,21,FALSE) -> 0 | Q13: =VLOOKUP(D13,[1]apoio_Preços_MGS!$A$6:$AN$238,22,FALSE) -> 0 | R13: =VLOOKUP(D13,[1]apoio_Preços_MGS!$A$6:$AN$238,23,FALSE) -> 0 | S13: =VLOOKUP(D13,[1]apoio_Preços_MGS!$A$6:$AN$238,24,FALSE) -> 0 | T13: =VLOOKUP(D13,[1]apoio_Preços_MGS!$A$6:$AN$238,25,FALSE) -> 0 | U13: =SUM(M13:T13) -> 2795.8949 | V13: =VLOOKUP(D13,[1]apoio_Preços_MGS!$A$6:$AN$238,27,FALSE) -> 0.818 | W13: =U13*V13 -> 2287.042 | X13: =VLOOKUP(D13,[1]apoio_Preços_MGS!$A$6:$AN$238,29,FALSE) -> 30.014545 | Y13: =VLOOKUP(D13,[1]apoio_Preços_MGS!$A$6:$AN$238,30,FALSE) -> 282.32043 | Z13: =Y13+X13 -> 312.33498 | AA13: =VLOOKUP(D13,[1]apoio_Preços_MGS!$A$6:$AN$238,32,FALSE) -> 4.1293217 | AB13: =VLOOKUP(D13,[1]apoio_Preços_MGS!$A$6:$AN$238,33,FALSE) -> 281.7415 | AC13: =VLOOKUP(D13,[1]apoio_Preços_MGS!$A$6:$AN$238,34,FALSE) -> 0 | AD13: =(U13+W13+Z13+AB13+AA13+VLOOKUP(C13,[1]apoio_Prec_Folha!$A:$S,7,FALSE))*AC13 -> 0 | AE13: =VLOOKUP(D13,[1]apoio_Preços_MGS!$A$6:$AN$238,36,FALSE) -> 0.07 | AF13: =(U13+W13+Z13+AB13+AD13+AA13+VLOOKUP(C13,[1]apoio_Prec_Folha!$A:$S,7,FALSE))*AE13 -> 436.13481 | AG13: =TRUNC(U13+W13+Z13+AB13+AA13+AD13+AF13,2) -> 6117.27 | AH13: =TRUNC($AG13*ROUND((7.6%+1.65%+$I13)/(1-(7.6%+1.65%+$I13)),5)+$AG13,2) -> 7051.62 | AI13: =AH13*K13 -> 112825.92 | AJ13: =AH13*L13 -> 6769555.2 | AK13: =VLOOKUP(D13,[1]apoio_Preços_MGS!$A$6:$AN$238,39,FALSE) -> 200 | AL13: =IF(J13="demais municípios",VLOOKUP(D13,[1]apoio_Preços_MGS!$A$6:$AN$238,39,FALSE),0) -> 200 | AM13: 0 | AN13: =AK13*K13 -> 3200 | AO13: =VLOOKUP(D13,[1]apoio_Preços_MGS!$A$6:$AN$238,40,FALSE) -> 549.35 | AP13: =IF(J13="demais municípios",VLOOKUP(D13,[1]apoio_Preços_MGS!$A$6:$AN$238,40,FALSE),0) -> 549.35 | AQ13: 0 | AR13: =AO13*K13 -> 8789.6 | AS13: =AN13+AR13 -> 11989.6 | AT13: =(AN13+AR13)*60 -> 719376
A14: =CONCATENATE(F14,H14,I14) -> 95117440,04 | B14: =CONCATENATE(D14,I14) -> 3890,04 | C14: =VLOOKUP(D14,[1]apoio_Preços_MGS!$A$6:$B$238,2,FALSE) -> AGENTE DE SERVIÇO DE PARQUE HABILITADO | D14: 389 | E14: =VLOOKUP(D14,[1]apoio_Preços_MGS!$A$6:$F$238,6,FALSE) -> AGENTE DE SERVIÇO DE PARQUE HABILITADO - (PERIC.) - DIARISTA DIURNO - 44H | F14: =IFERROR(VLOOKUP(D14,'[1]apoio_cód catmas'!$B$2:$C$863,2,FALSE),0) -> 95117 | G14: =IF(H14="N/A",VLOOKUP(F14&40,'[1]apoio_cód catmas'!$A$1:$G$233,4,FALSE),VLOOKUP(F14&H14,'[1]apoio_cód catmas'!$A$1:$G$233,4,FALSE)) -> AGENTE DE SERVICO DE PARQUE HABILITADO - (PERICULOSIDADE) - 44H | H14: 44 | I14: 0.04 | J14: Demais Municípios | K14: 1 | L14: =K14*56 -> 56 | M14: =VLOOKUP(D14,[1]apoio_Preços_MGS!$A$6:$AN$238,18,FALSE) -> 2150.6884 | N14: =VLOOKUP(D14,[1]apoio_Preços_MGS!$A$6:$AN$238,19,FALSE) -> 645.20652 | O14: =VLOOKUP(D14,[1]apoio_Preços_MGS!$A$6:$AN$238,20,FALSE) -> 0 | P14: =VLOOKUP(D14,[1]apoio_Preços_MGS!$A$6:$AN$238,21,FALSE) -> 0 | Q14: =VLOOKUP(D14,[1]apoio_Preços_MGS!$A$6:$AN$238,22,FALSE) -> 0 | R14: =VLOOKUP(D14,[1]apoio_Preços_MGS!$A$6:$AN$238,23,FALSE) -> 0 | S14: =VLOOKUP(D14,[1]apoio_Preços_MGS!$A$6:$AN$238,24,FALSE) -> 0 | T14: =VLOOKUP(D14,[1]apoio_Preços_MGS!$A$6:$AN$238,25,FALSE) -> 0 | U14: =SUM(M14:T14) -> 2795.8949 | V14: =VLOOKUP(D14,[1]apoio_Preços_MGS!$A$6:$AN$238,27,FALSE) -> 0.818 | W14: =U14*V14 -> 2287.042 | X14: =VLOOKUP(D14,[1]apoio_Preços_MGS!$A$6:$AN$238,29,FALSE) -> 30.014545 | Y14: =VLOOKUP(D14,[1]apoio_Preços_MGS!$A$6:$AN$238,30,FALSE) -> 282.32043 | Z14: =Y14+X14 -> 312.33498 | AA14: =VLOOKUP(D14,[1]apoio_Preços_MGS!$A$6:$AN$238,32,FALSE) -> 4.1293217 | AB14: =VLOOKUP(D14,[1]apoio_Preços_MGS!$A$6:$AN$238,33,FALSE) -> 281.7415 | AC14: =VLOOKUP(D14,[1]apoio_Preços_MGS!$A$6:$AN$238,34,FALSE) -> 0 | AD14: =(U14+W14+Z14+AB14+AA14+VLOOKUP(C14,[1]apoio_Prec_Folha!$A:$S,7,FALSE))*AC14 -> 0 | AE14: =VLOOKUP(D14,[1]apoio_Preços_MGS!$A$6:$AN$238,36,FALSE) -> 0.07 | AF14: =(U14+W14+Z14+AB14+AD14+AA14+VLOOKUP(C14,[1]apoio_Prec_Folha!$A:$S,7,FALSE))*AE14 -> 436.13481 | AG14: =TRUNC(U14+W14+Z14+AB14+AA14+AD14+AF14,2) -> 6117.27 | AH14: =TRUNC($AG14*ROUND((7.6%+1.65%+$I14)/(1-(7.6%+1.65%+$I14)),5)+$AG14,2) -> 7051.62 | AI14: =AH14*K14 -> 7051.62 | AJ14: =AH14*L14 -> 394890.72 | AK14: =VLOOKUP(D14,[1]apoio_Preços_MGS!$A$6:$AN$238,39,FALSE) -> 200 | AL14: =IF(J14="demais municípios",VLOOKUP(D14,[1]apoio_Preços_MGS!$A$6:$AN$238,39,FALSE),0) -> 200 | AM14: 0 | AN14: =AK14*K14 -> 200 | AO14: =VLOOKUP(D14,[1]apoio_Preços_MGS!$A$6:$AN$238,40,FALSE) -> 549.35 | AP14: =IF(J14="demais municípios",VLOOKUP(D14,[1]apoio_Preços_MGS!$A$6:$AN$238,40,FALSE),0) -> 549.35 | AQ14: 0 | AR14: =AO14*K14 -> 549.35 | AS14: =AN14+AR14 -> 749.35 | AT14: =(AN14+AR14)*60 -> 44961
A15: =CONCATENATE(F15,H15,I15) -> 95117440,05 | B15: =CONCATENATE(D15,I15) -> 3890,05 | C15: =VLOOKUP(D15,[1]apoio_Preços_MGS!$A$6:$B$238,2,FALSE) -> AGENTE DE SERVIÇO DE PARQUE HABILITADO | D15: 389 | E15: =VLOOKUP(D15,[1]apoio_Preços_MGS!$A$6:$F$238,6,FALSE) -> AGENTE DE SERVIÇO DE PARQUE HABILITADO - (PERIC.) - DIARISTA DIURNO - 44H | F15: =IFERROR(VLOOKUP(D15,'[1]apoio_cód catmas'!$B$2:$C$863,2,FALSE),0) -> 95117 | G15: =IF(H15="N/A",VLOOKUP(F15&40,'[1]apoio_cód catmas'!$A$1:$G$233,4,FALSE),VLOOKUP(F15&H15,'[1]apoio_cód catmas'!$A$1:$G$233,4,FALSE)) -> AGENTE DE SERVICO DE PARQUE HABILITADO - (PERICULOSIDADE) - 44H | H15: 44 | I15: 0.05 | J15: Demais Municípios | K15: 2 | L15: =K15*56 -> 112 | M15: =VLOOKUP(D15,[1]apoio_Preços_MGS!$A$6:$AN$238,18,FALSE) -> 2150.6884 | N15: =VLOOKUP(D15,[1]apoio_Preços_MGS!$A$6:$AN$238,19,FALSE) -> 645.20652 | O15: =VLOOKUP(D15,[1]apoio_Preços_MGS!$A$6:$AN$238,20,FALSE) -> 0 | P15: =VLOOKUP(D15,[1]apoio_Preços_MGS!$A$6:$AN$238,21,FALSE) -> 0 | Q15: =VLOOKUP(D15,[1]apoio_Preços_MGS!$A$6:$AN$238,22,FALSE) -> 0 | R15: =VLOOKUP(D15,[1]apoio_Preços_MGS!$A$6:$AN$238,23,FALSE) -> 0 | S15: =VLOOKUP(D15,[1]apoio_Preços_MGS!$A$6:$AN$238,24,FALSE) -> 0 | T15: =VLOOKUP(D15,[1]apoio_Preços_MGS!$A$6:$AN$238,25,FALSE) -> 0 | U15: =SUM(M15:T15) -> 2795.8949 | V15: =VLOOKUP(D15,[1]apoio_Preços_MGS!$A$6:$AN$238,27,FALSE) -> 0.818 | W15: =U15*V15 -> 2287.042 | X15: =VLOOKUP(D15,[1]apoio_Preços_MGS!$A$6:$AN$238,29,FALSE) -> 30.014545 | Y15: =VLOOKUP(D15,[1]apoio_Preços_MGS!$A$6:$AN$238,30,FALSE) -> 282.32043 | Z15: =Y15+X15 -> 312.33498 | AA15: =VLOOKUP(D15,[1]apoio_Preços_MGS!$A$6:$AN$238,32,FALSE) -> 4.1293217 | AB15: =VLOOKUP(D15,[1]apoio_Preços_MGS!$A$6:$AN$238,33,FALSE) -> 281.7415 | AC15: =VLOOKUP(D15,[1]apoio_Preços_MGS!$A$6:$AN$238,34,FALSE) -> 0 | AD15: =(U15+W15+Z15+AB15+AA15+VLOOKUP(C15,[1]apoio_Prec_Folha!$A:$S,7,FALSE))*AC15 -> 0 | AE15: =VLOOKUP(D15,[1]apoio_Preços_MGS!$A$6:$AN$238,36,FALSE) -> 0.07 | AF15: =(U15+W15+Z15+AB15+AD15+AA15+VLOOKUP(C15,[1]apoio_Prec_Folha!$A:$S,7,FALSE))*AE15 -> 436.13481 | AG15: =TRUNC(U15+W15+Z15+AB15+AA15+AD15+AF15,2) -> 6117.27 | AH15: =TRUNC($AG15*ROUND((7.6%+1.65%+$I15)/(1-(7.6%+1.65%+$I15)),5)+$AG15,2) -> 7133.83 | AI15: =AH15*K15 -> 14267.66 | AJ15: =AH15*L15 -> 798988.96 | AK15: =VLOOKUP(D15,[1]apoio_Preços_MGS!$A$6:$AN$238,39,FALSE) -> 200 | AL15: =IF(J15="demais municípios",VLOOKUP(D15,[1]apoio_Preços_MGS!$A$6:$AN$238,39,FALSE),0) -> 200 | AM15: 0 | AN15: =AK15*K15 -> 400 | AO15: =VLOOKUP(D15,[1]apoio_Preços_MGS!$A$6:$AN$238,40,FALSE) -> 549.35 | AP15: =IF(J15="demais municípios",VLOOKUP(D15,[1]apoio_Preços_MGS!$A$6:$AN$238,40,FALSE),0) -> 549.35 | AQ15: 0 | AR15: =AO15*K15 -> 1098.7 | AS15: =AN15+AR15 -> 1498.7 | AT15: =(AN15+AR15)*60 -> 89922
A16: =CONCATENATE(F16,H16,I16) -> 95117440,05 | B16: =CONCATENATE(D16,I16) -> 3890,05 | C16: =VLOOKUP(D16,[1]apoio_Preços_MGS!$A$6:$B$238,2,FALSE) -> AGENTE DE SERVIÇO DE PARQUE HABILITADO | D16: 389 | E16: =VLOOKUP(D16,[1]apoio_Preços_MGS!$A$6:$F$238,6,FALSE) -> AGENTE DE SERVIÇO DE PARQUE HABILITADO - (PERIC.) - DIARISTA DIURNO - 44H | F16: =IFERROR(VLOOKUP(D16,'[1]apoio_cód catmas'!$B$2:$C$863,2,FALSE),0) -> 95117 | G16: =IF(H16="N/A",VLOOKUP(F16&40,'[1]apoio_cód catmas'!$A$1:$G$233,4,FALSE),VLOOKUP(F16&H16,'[1]apoio_cód catmas'!$A$1:$G$233,4,FALSE)) -> AGENTE DE SERVICO DE PARQUE HABILITADO - (PERICULOSIDADE) - 44H | H16: 44 | I16: 0.05 | J16: Demais Municípios | K16: =28-1-3 -> 24 | L16: =K16*60 -> 1440 | M16: =VLOOKUP(D16,[1]apoio_Preços_MGS!$A$6:$AN$238,18,FALSE) -> 2150.6884 | N16: =VLOOKUP(D16,[1]apoio_Preços_MGS!$A$6:$AN$238,19,FALSE) -> 645.20652 | O16: =VLOOKUP(D16,[1]apoio_Preços_MGS!$A$6:$AN$238,20,FALSE) -> 0 | P16: =VLOOKUP(D16,[1]apoio_Preços_MGS!$A$6:$AN$238,21,FALSE) -> 0 | Q16: =VLOOKUP(D16,[1]apoio_Preços_MGS!$A$6:$AN$238,22,FALSE) -> 0 | R16: =VLOOKUP(D16,[1]apoio_Preços_MGS!$A$6:$AN$238,23,FALSE) -> 0 | S16: =VLOOKUP(D16,[1]apoio_Preços_MGS!$A$6:$AN$238,24,FALSE) -> 0 | T16: =VLOOKUP(D16,[1]apoio_Preços_MGS!$A$6:$AN$238,25,FALSE) -> 0 | U16: =SUM(M16:T16) -> 2795.8949 | V16: =VLOOKUP(D16,[1]apoio_Preços_MGS!$A$6:$AN$238,27,FALSE) -> 0.818 | W16: =U16*V16 -> 2287.042 | X16: =VLOOKUP(D16,[1]apoio_Preços_MGS!$A$6:$AN$238,29,FALSE) -> 30.014545 | Y16: =VLOOKUP(D16,[1]apoio_Preços_MGS!$A$6:$AN$238,30,FALSE) -> 282.32043 | Z16: =Y16+X16 -> 312.33498 | AA16: =VLOOKUP(D16,[1]apoio_Preços_MGS!$A$6:$AN$238,32,FALSE) -> 4.1293217 | AB16: =VLOOKUP(D16,[1]apoio_Preços_MGS!$A$6:$AN$238,33,FALSE) -> 281.7415 | AC16: =VLOOKUP(D16,[1]apoio_Preços_MGS!$A$6:$AN$238,34,FALSE) -> 0 | AD16: =(U16+W16+Z16+AB16+AA16+VLOOKUP(C16,[1]apoio_Prec_Folha!$A:$S,7,FALSE))*AC16 -> 0 | AE16: =VLOOKUP(D16,[1]apoio_Preços_MGS!$A$6:$AN$238,36,FALSE) -> 0.07 | AF16: =(U16+W16+Z16+AB16+AD16+AA16+VLOOKUP(C16,[1]apoio_Prec_Folha!$A:$S,7,FALSE))*AE16 -> 436.13481 | AG16: =TRUNC(U16+W16+Z16+AB16+AA16+AD16+AF16,2) -> 6117.27 | AH16: =TRUNC($AG16*ROUND((7.6%+1.65%+$I16)/(1-(7.6%+1.65%+$I16)),5)+$AG16,2) -> 7133.83 | AI16: =AH16*K16 -> 171211.92 | AJ16: =AH16*L16 -> 10272715 | AK16: =VLOOKUP(D16,[1]apoio_Preços_MGS!$A$6:$AN$238,39,FALSE) -> 200 | AL16: =IF(J16="demais municípios",VLOOKUP(D16,[1]apoio_Preços_MGS!$A$6:$AN$238,39,FALSE),0) -> 200 | AM16: 0 | AN16: =AK16*K16 -> 4800 | AO16: =VLOOKUP(D16,[1]apoio_Preços_MGS!$A$6:$AN$238,40,FALSE) -> 549.35 | AP16: =IF(J16="demais municípios",VLOOKUP(D16,[1]apoio_Preços_MGS!$A$6:$AN$238,40,FALSE),0) -> 549.35 | AQ16: 0 | AR16: =AO16*K16 -> 13184.4 | AS16: =AN16+AR16 -> 17984.4 | AT16: =(AN16+AR16)*60 -> 1079064
A17: =CONCATENATE(F17,H17,I17) -> 95117440,05 | B17: =CONCATENATE(D17,I17) -> 3890,05 | C17: =VLOOKUP(D17,[1]apoio_Preços_MGS!$A$6:$B$238,2,FALSE) -> AGENTE DE SERVIÇO DE PARQUE HABILITADO | D17: 389 | E17: =VLOOKUP(D17,[1]apoio_Preços_MGS!$A$6:$F$238,6,FALSE) -> AGENTE DE SERVIÇO DE PARQUE HABILITADO - (PERIC.) - DIARISTA DIURNO - 44H | F17: =IFERROR(VLOOKUP(D17,'[1]apoio_cód catmas'!$B$2:$C$863,2,FALSE),0) -> 95117 | G17: =IF(H17="N/A",VLOOKUP(F17&40,'[1]apoio_cód catmas'!$A$1:$G$233,4,FALSE),VLOOKUP(F17&H17,'[1]apoio_cód catmas'!$A$1:$G$233,4,FALSE)) -> AGENTE DE SERVICO DE PARQUE HABILITADO - (PERICULOSIDADE) - 44H | H17: 44 | I17: 0.05 | J17: Belo Horizonte | K17: 22 | L17: =K17*60 -> 1320 | M17: =VLOOKUP(D17,[1]apoio_Preços_MGS!$A$6:$AN$238,18,FALSE) -> 2150.6884 | N17: =VLOOKUP(D17,[1]apoio_Preços_MGS!$A$6:$AN$238,19,FALSE) -> 645.20652 | O17: =VLOOKUP(D17,[1]apoio_Preços_MGS!$A$6:$AN$238,20,FALSE) -> 0 | P17: =VLOOKUP(D17,[1]apoio_Preços_MGS!$A$6:$AN$238,21,FALSE) -> 0 | Q17: =VLOOKUP(D17,[1]apoio_Preços_MGS!$A$6:$AN$238,22,FALSE) -> 0 | R17: =VLOOKUP(D17,[1]apoio_Preços_MGS!$A$6:$AN$238,23,FALSE) -> 0 | S17: =VLOOKUP(D17,[1]apoio_Preços_MGS!$A$6:$AN$238,24,FALSE) -> 0 | T17: =VLOOKUP(D17,[1]apoio_Preços_MGS!$A$6:$AN$238,25,FALSE) -> 0 | U17: =SUM(M17:T17) -> 2795.8949 | V17: =VLOOKUP(D17,[1]apoio_Preços_MGS!$A$6:$AN$238,27,FALSE) -> 0.818 | W17: =U17*V17 -> 2287.042 | X17: =VLOOKUP(D17,[1]apoio_Preços_MGS!$A$6:$AN$238,29,FALSE) -> 30.014545 | Y17: =VLOOKUP(D17,[1]apoio_Preços_MGS!$A$6:$AN$238,30,FALSE) -> 282.32043 | Z17: =Y17+X17 -> 312.33498 | AA17: =VLOOKUP(D17,[1]apoio_Preços_MGS!$A$6:$AN$238,32,FALSE) -> 4.1293217 | AB17: =VLOOKUP(D17,[1]apoio_Preços_MGS!$A$6:$AN$238,33,FALSE) -> 281.7415 | AC17: =VLOOKUP(D17,[1]apoio_Preços_MGS!$A$6:$AN$238,34,FALSE) -> 0 | AD17: =(U17+W17+Z17+AB17+AA17+VLOOKUP(C17,[1]apoio_Prec_Folha!$A:$S,7,FALSE))*AC17 -> 0 | AE17: =VLOOKUP(D17,[1]apoio_Preços_MGS!$A$6:$AN$238,36,FALSE) -> 0.07 | AF17: =(U17+W17+Z17+AB17+AD17+AA17+VLOOKUP(C17,[1]apoio_Prec_Folha!$A:$S,7,FALSE))*AE17 -> 436.13481 | AG17: =TRUNC(U17+W17+Z17+AB17+AA17+AD17+AF17,2) -> 6117.27 | AH17: =TRUNC($AG17*ROUND((7.6%+1.65%+$I17)/(1-(7.6%+1.65%+$I17)),5)+$AG17,2) -> 7133.83 | AI17: =AH17*K17 -> 156944.26 | AJ17: =AH17*L17 -> 9416655.6 | AK17: =VLOOKUP(D17,[1]apoio_Preços_MGS!$A$6:$AN$238,39,FALSE) -> 200 | AL17: =IF(J17="demais municípios",VLOOKUP(D17,[1]apoio_Preços_MGS!$A$6:$AN$238,39,FALSE),0) -> 0 | AM17: =TRUNC(ROUND(($I17)/(1-($I17)),5)*VLOOKUP(D17,[1]apoio_Preços_MGS!$A$6:$AN$238,39,FALSE)+VLOOKUP(D17,[1]apoio_Preços_MGS!$A$6:$AN$238,39,FALSE),2) -> 210.52 | AN17: =AM17*K17 -> 4631.44 | AO17: =VLOOKUP(D17,[1]apoio_Preços_MGS!$A$6:$AN$238,40,FALSE) -> 549.35 | AP17: =IF(J17="demais municípios",VLOOKUP(D17,[1]apoio_Preços_MGS!$A$6:$AN$238,40,FALSE),0) -> 0 | AQ17: =TRUNC(ROUND(($I17)/(1-($I17)),5)*VLOOKUP(D17,[1]apoio_Preços_MGS!$A$6:$AN$238,40,FALSE)+VLOOKUP(D17,[1]apoio_Preços_MGS!$A$6:$AN$238,40,FALSE),2) -> 578.26 | AR17: =AQ17*K17 -> 12721.72 | AS17: =AN17+AR17 -> 17353.16 | AT17: =(AN17+AR17)*60 -> 1041189.6
A18: =CONCATENATE(F18,H18,I18) -> 95125440,02 | B18: =CONCATENATE(D18,I18) -> 3900,02 | C18: =VLOOKUP(D18,[1]apoio_Preços_MGS!$A$6:$B$238,2,FALSE) -> AGENTE DE SERVIÇO DE PARQUE HABILITADO | D18: 390 | E18: =VLOOKUP(D18,[1]apoio_Preços_MGS!$A$6:$F$238,6,FALSE) -> AGENTE DE SERVIÇO DE PARQUE HABILITADO - 12x36 DIURNO - 44H | F18: =IFERROR(VLOOKUP(D18,'[1]apoio_cód catmas'!$B$2:$C$863,2,FALSE),0) -> 95125 | G18: =IF(H18="N/A",VLOOKUP(F18&40,'[1]apoio_cód catmas'!$A$1:$G$233,4,FALSE),VLOOKUP(F18&H18,'[1]apoio_cód catmas'!$A$1:$G$233,4,FALSE)) -> AGENTE DE SERVICO DE PARQUE HABILITADO - 12X36 DIURNO - 44H | H18: 44 | I18: 0.02 | J18: Demais Municípios | K18: 6 | L18: =K18*60 -> 360 | M18: =VLOOKUP(D18,[1]apoio_Preços_MGS!$A$6:$AN$238,18,FALSE) -> 2150.6884 | N18: =VLOOKUP(D18,[1]apoio_Preços_MGS!$A$6:$AN$238,19,FALSE) -> 0 | O18: =VLOOKUP(D18,[1]apoio_Preços_MGS!$A$6:$AN$238,20,FALSE) -> 0 | P18: =VLOOKUP(D18,[1]apoio_Preços_MGS!$A$6:$AN$238,21,FALSE) -> 0 | Q18: =VLOOKUP(D18,[1]apoio_Preços_MGS!$A$6:$AN$238,22,FALSE) -> 0 | R18: =VLOOKUP(D18,[1]apoio_Preços_MGS!$A$6:$AN$238,23,FALSE) -> 0 | S18: =VLOOKUP(D18,[1]apoio_Preços_MGS!$A$6:$AN$238,24,FALSE) -> 0 | T18: =VLOOKUP(D18,[1]apoio_Preços_MGS!$A$6:$AN$238,25,FALSE) -> 2.9870672 | U18: =SUM(M18:T18) -> 2153.6755 | V18: =VLOOKUP(D18,[1]apoio_Preços_MGS!$A$6:$AN$238,27,FALSE) -> 0.818 | W18: =U18*V18 -> 1761.7065 | X18: =VLOOKUP(D18,[1]apoio_Preços_MGS!$A$6:$AN$238,29,FALSE) -> 30.014545 | Y18: =VLOOKUP(D18,[1]apoio_Preços_MGS!$A$6:$AN$238,30,FALSE) -> 282.32043 | Z18: =Y18+X18 -> 312.33498 | AA18: =VLOOKUP(D18,[1]apoio_Preços_MGS!$A$6:$AN$238,32,FALSE) -> 4.1293217 | AB18: =VLOOKUP(D18,[1]apoio_Preços_MGS!$A$6:$AN$238,33,FALSE) -> 281.7415 | AC18: =VLOOKUP(D18,[1]apoio_Preços_MGS!$A$6:$AN$238,34,FALSE) -> 0 | AD18: =(U18+W18+Z18+AB18+AA18+VLOOKUP(C18,[1]apoio_Prec_Folha!$A:$S,7,FALSE))*AC18 -> 0 | AE18: =VLOOKUP(D18,[1]apoio_Preços_MGS!$A$6:$AN$238,36,FALSE) -> 0.07 | AF18: =(U18+W18+Z18+AB18+AD18+AA18+VLOOKUP(C18,[1]apoio_Prec_Folha!$A:$S,7,FALSE))*AE18 -> 354.40596 | AG18: =TRUNC(U18+W18+Z18+AB18+AA18+AD18+AF18,2) -> 4867.99 | AH18: =TRUNC($AG18*ROUND((7.6%+1.65%+$I18)/(1-(7.6%+1.65%+$I18)),5)+$AG18,2) -> 5485.05 | AI18: =AH18*K18 -> 32910.3 | AJ18: =AH18*L18 -> 1974618 | AK18: =VLOOKUP(D18,[1]apoio_Preços_MGS!$A$6:$AN$238,39,FALSE) -> 200 | AL18: =IF(J18="demais municípios",VLOOKUP(D18,[1]apoio_Preços_MGS!$A$6:$AN$238,39,FALSE),0) -> 200 | AM18: 0 | AN18: =AK18*K18 -> 1200 | AO18: =VLOOKUP(D18,[1]apoio_Preços_MGS!$A$6:$AN$238,40,FALSE) -> 549.35 | AP18: =IF(J18="demais municípios",VLOOKUP(D18,[1]apoio_Preços_MGS!$A$6:$AN$238,40,FALSE),0) -> 549.35 | AQ18: 0 | AR18: =AO18*K18 -> 3296.1 | AS18: =AN18+AR18 -> 4496.1 | AT18: =(AN18+AR18)*60 -> 269766
A19: =CONCATENATE(F19,H19,I19) -> 95125440,027 | B19: =CONCATENATE(D19,I19) -> 3900,027 | C19: =VLOOKUP(D19,[1]apoio_Preços_MGS!$A$6:$B$238,2,FALSE) -> AGENTE DE SERVIÇO DE PARQUE HABILITADO | D19: 390 | E19: =VLOOKUP(D19,[1]apoio_Preços_MGS!$A$6:$F$238,6,FALSE) -> AGENTE DE SERVIÇO DE PARQUE HABILITADO - 12x36 DIURNO - 44H | F19: =IFERROR(VLOOKUP(D19,'[1]apoio_cód catmas'!$B$2:$C$863,2,FALSE),0) -> 95125 | G19: =IF(H19="N/A",VLOOKUP(F19&40,'[1]apoio_cód catmas'!$A$1:$G$233,4,FALSE),VLOOKUP(F19&H19,'[1]apoio_cód catmas'!$A$1:$G$233,4,FALSE)) -> AGENTE DE SERVICO DE PARQUE HABILITADO - 12X36 DIURNO - 44H | H19: 44 | I19: 0.027 | J19: Demais Municípios | K19: 2 | L19: =K19*60 -> 120 | M19: =VLOOKUP(D19,[1]apoio_Preços_MGS!$A$6:$AN$238,18,FALSE) -> 2150.6884 | N19: =VLOOKUP(D19,[1]apoio_Preços_MGS!$A$6:$AN$238,19,FALSE) -> 0 | O19: =VLOOKUP(D19,[1]apoio_Preços_MGS!$A$6:$AN$238,20,FALSE) -> 0 | P19: =VLOOKUP(D19,[1]apoio_Preços_MGS!$A$6:$AN$238,21,FALSE) -> 0 | Q19: =VLOOKUP(D19,[1]apoio_Preços_MGS!$A$6:$AN$238,22,FALSE) -> 0 | R19: =VLOOKUP(D19,[1]apoio_Preços_MGS!$A$6:$AN$238,23,FALSE) -> 0 | S19: =VLOOKUP(D19,[1]apoio_Preços_MGS!$A$6:$AN$238,24,FALSE) -> 0 | T19: =VLOOKUP(D19,[1]apoio_Preços_MGS!$A$6:$AN$238,25,FALSE) -> 2.9870672 | U19: =SUM(M19:T19) -> 2153.6755 | V19: =VLOOKUP(D19,[1]apoio_Preços_MGS!$A$6:$AN$238,27,FALSE) -> 0.818 | W19: =U19*V19 -> 1761.7065 | X19: =VLOOKUP(D19,[1]apoio_Preços_MGS!$A$6:$AN$238,29,FALSE) -> 30.014545 | Y19: =VLOOKUP(D19,[1]apoio_Preços_MGS!$A$6:$AN$238,30,FALSE) -> 282.32043 | Z19: =Y19+X19 -> 312.33498 | AA19: =VLOOKUP(D19,[1]apoio_Preços_MGS!$A$6:$AN$238,32,FALSE) -> 4.1293217 | AB19: =VLOOKUP(D19,[1]apoio_Preços_MGS!$A$6:$AN$238,33,FALSE) -> 281.7415 | AC19: =VLOOKUP(D19,[1]apoio_Preços_MGS!$A$6:$AN$238,34,FALSE) -> 0 | AD19: =(U19+W19+Z19+AB19+AA19+VLOOKUP(C19,[1]apoio_Prec_Folha!$A:$S,7,FALSE))*AC19 -> 0 | AE19: =VLOOKUP(D19,[1]apoio_Preços_MGS!$A$6:$AN$238,36,FALSE) -> 0.07 | AF19: =(U19+W19+Z19+AB19+AD19+AA19+VLOOKUP(C19,[1]apoio_Prec_Folha!$A:$S,7,FALSE))*AE19 -> 354.40596 | AG19: =TRUNC(U19+W19+Z19+AB19+AA19+AD19+AF19,2) -> 4867.99 | AH19: =TRUNC($AG19*ROUND((7.6%+1.65%+$I19)/(1-(7.6%+1.65%+$I19)),5)+$AG19,2) -> 5528.67 | AI19: =AH19*K19 -> 11057.34 | AJ19: =AH19*L19 -> 663440.4 | AK19: =VLOOKUP(D19,[1]apoio_Preços_MGS!$A$6:$AN$238,39,FALSE) -> 200 | AL19: =IF(J19="demais municípios",VLOOKUP(D19,[1]apoio_Preços_MGS!$A$6:$AN$238,39,FALSE),0) -> 200 | AM19: 0 | AN19: =AK19*K19 -> 400 | AO19: =VLOOKUP(D19,[1]apoio_Preços_MGS!$A$6:$AN$238,40,FALSE) -> 549.35 | AP19: =IF(J19="demais municípios",VLOOKUP(D19,[1]apoio_Preços_MGS!$A$6:$AN$238,40,FALSE),0) -> 549.35 | AQ19: 0 | AR19: =AO19*K19 -> 1098.7 | AS19: =AN19+AR19 -> 1498.7 | AT19: =(AN19+AR19)*60 -> 89922
A20: =CONCATENATE(F20,H20,I20) -> 95125440,03 | B20: =CONCATENATE(D20,I20) -> 3900,03 | C20: =VLOOKUP(D20,[1]apoio_Preços_MGS!$A$6:$B$238,2,FALSE) -> AGENTE DE SERVIÇO DE PARQUE HABILITADO | D20: 390 | E20: =VLOOKUP(D20,[1]apoio_Preços_MGS!$A$6:$F$238,6,FALSE) -> AGENTE DE SERVIÇO DE PARQUE HABILITADO - 12x36 DIURNO - 44H | F20: =IFERROR(VLOOKUP(D20,'[1]apoio_cód catmas'!$B$2:$C$863,2,FALSE),0) -> 95125 | G20: =IF(H20="N/A",VLOOKUP(F20&40,'[1]apoio_cód catmas'!$A$1:$G$233,4,FALSE),VLOOKUP(F20&H20,'[1]apoio_cód catmas'!$A$1:$G$233,4,FALSE)) -> AGENTE DE SERVICO DE PARQUE HABILITADO - 12X36 DIURNO - 44H | H20: 44 | I20: 0.03 | J20: Demais Municípios | K20: 20 | L20: =K20*60 -> 1200 | M20: =VLOOKUP(D20,[1]apoio_Preços_MGS!$A$6:$AN$238,18,FALSE) -> 2150.6884 | N20: =VLOOKUP(D20,[1]apoio_Preços_MGS!$A$6:$AN$238,19,FALSE) -> 0 | O20: =VLOOKUP(D20,[1]apoio_Preços_MGS!$A$6:$AN$238,20,FALSE) -> 0 | P20: =VLOOKUP(D20,[1]apoio_Preços_MGS!$A$6:$AN$238,21,FALSE) -> 0 | Q20: =VLOOKUP(D20,[1]apoio_Preços_MGS!$A$6:$AN$238,22,FALSE) -> 0 | R20: =VLOOKUP(D20,[1]apoio_Preços_MGS!$A$6:$AN$238,23,FALSE) -> 0 | S20: =VLOOKUP(D20,[1]apoio_Preços_MGS!$A$6:$AN$238,24,FALSE) -> 0 | T20: =VLOOKUP(D20,[1]apoio_Preços_MGS!$A$6:$AN$238,25,FALSE) -> 2.9870672 | U20: =SUM(M20:T20) -> 2153.6755 | V20: =VLOOKUP(D20,[1]apoio_Preços_MGS!$A$6:$AN$238,27,FALSE) -> 0.818 | W20: =U20*V20 -> 1761.7065 | X20: =VLOOKUP(D20,[1]apoio_Preços_MGS!$A$6:$AN$238,29,FALSE) -> 30.014545 | Y20: =VLOOKUP(D20,[1]apoio_Preços_MGS!$A$6:$AN$238,30,FALSE) -> 282.32043 | Z20: =Y20+X20 -> 312.33498 | AA20: =VLOOKUP(D20,[1]apoio_Preços_MGS!$A$6:$AN$238,32,FALSE) -> 4.1293217 | AB20: =VLOOKUP(D20,[1]apoio_Preços_MGS!$A$6:$AN$238,33,FALSE) -> 281.7415 | AC20: =VLOOKUP(D20,[1]apoio_Preços_MGS!$A$6:$AN$238,34,FALSE) -> 0 | AD20: =(U20+W20+Z20+AB20+AA20+VLOOKUP(C20,[1]apoio_Prec_Folha!$A:$S,7,FALSE))*AC20 -> 0 | AE20: =VLOOKUP(D20,[1]apoio_Preços_MGS!$A$6:$AN$238,36,FALSE) -> 0.07 | AF20: =(U20+W20+Z20+AB20+AD20+AA20+VLOOKUP(C20,[1]apoio_Prec_Folha!$A:$S,7,FALSE))*AE20 -> 354.40596 | AG20: =TRUNC(U20+W20+Z20+AB20+AA20+AD20+AF20,2) -> 4867.99 | AH20: =TRUNC($AG20*ROUND((7.6%+1.65%+$I20)/(1-(7.6%+1.65%+$I20)),5)+$AG20,2) -> 5547.56 | AI20: =AH20*K20 -> 110951.2 | AJ20: =AH20*L20 -> 6657072 | AK20: =VLOOKUP(D20,[1]apoio_Preços_MGS!$A$6:$AN$238,39,FALSE) -> 200 | AL20: =IF(J20="demais municípios",VLOOKUP(D20,[1]apoio_Preços_MGS!$A$6:$AN$238,39,FALSE),0) -> 200 | AM20: 0 | AN20: =AK20*K20 -> 4000 | AO20: =VLOOKUP(D20,[1]apoio_Preços_MGS!$A$6:$AN$238,40,FALSE) -> 549.35 | AP20: =IF(J20="demais municípios",VLOOKUP(D20,[1]apoio_Preços_MGS!$A$6:$AN$238,40,FALSE),0) -> 549.35 | AQ20: 0 | AR20: =AO20*K20 -> 10987 | AS20: =AN20+AR20 -> 14987 | AT20: =(AN20+AR20)*60 -> 899220
A21: =CONCATENATE(F21,H21,I21) -> 95125440,05 | B21: =CONCATENATE(D21,I21) -> 3900,05 | C21: =VLOOKUP(D21,[1]apoio_Preços_MGS!$A$6:$B$238,2,FALSE) -> AGENTE DE SERVIÇO DE PARQUE HABILITADO | D21: 390 | E21: =VLOOKUP(D21,[1]apoio_Preços_MGS!$A$6:$F$238,6,FALSE) -> AGENTE DE SERVIÇO DE PARQUE HABILITADO - 12x36 DIURNO - 44H | F21: =IFERROR(VLOOKUP(D21,'[1]apoio_cód catmas'!$B$2:$C$863,2,FALSE),0) -> 95125 | G21: =IF(H21="N/A",VLOOKUP(F21&40,'[1]apoio_cód catmas'!$A$1:$G$233,4,FALSE),VLOOKUP(F21&H21,'[1]apoio_cód catmas'!$A$1:$G$233,4,FALSE)) -> AGENTE DE SERVICO DE PARQUE HABILITADO - 12X36 DIURNO - 44H | H21: 44 | I21: 0.05 | J21: Demais Municípios | K21: 1 | L21: =K21*60 -> 60 | M21: =VLOOKUP(D21,[1]apoio_Preços_MGS!$A$6:$AN$238,18,FALSE) -> 2150.6884 | N21: =VLOOKUP(D21,[1]apoio_Preços_MGS!$A$6:$AN$238,19,FALSE) -> 0 | O21: =VLOOKUP(D21,[1]apoio_Preços_MGS!$A$6:$AN$238,20,FALSE) -> 0 | P21: =VLOOKUP(D21,[1]apoio_Preços_MGS!$A$6:$AN$238,21,FALSE) -> 0 | Q21: =VLOOKUP(D21,[1]apoio_Preços_MGS!$A$6:$AN$238,22,FALSE) -> 0 | R21: =VLOOKUP(D21,[1]apoio_Preços_MGS!$A$6:$AN$238,23,FALSE) -> 0 | S21: =VLOOKUP(D21,[1]apoio_Preços_MGS!$A$6:$AN$238,24,FALSE) -> 0 | T21: =VLOOKUP(D21,[1]apoio_Preços_MGS!$A$6:$AN$238,25,FALSE) -> 2.9870672 | U21: =SUM(M21:T21) -> 2153.6755 | V21: =VLOOKUP(D21,[1]apoio_Preços_MGS!$A$6:$AN$238,27,FALSE) -> 0.818 | W21: =U21*V21 -> 1761.7065 | X21: =VLOOKUP(D21,[1]apoio_Preços_MGS!$A$6:$AN$238,29,FALSE) -> 30.014545 | Y21: =VLOOKUP(D21,[1]apoio_Preços_MGS!$A$6:$AN$238,30,FALSE) -> 282.32043 | Z21: =Y21+X21 -> 312.33498 | AA21: =VLOOKUP(D21,[1]apoio_Preços_MGS!$A$6:$AN$238,32,FALSE) -> 4.1293217 | AB21: =VLOOKUP(D21,[1]apoio_Preços_MGS!$A$6:$AN$238,33,FALSE) -> 281.7415 | AC21: =VLOOKUP(D21,[1]apoio_Preços_MGS!$A$6:$AN$238,34,FALSE) -> 0 | AD21: =(U21+W21+Z21+AB21+AA21+VLOOKUP(C21,[1]apoio_Prec_Folha!$A:$S,7,FALSE))*AC21 -> 0 | AE21: =VLOOKUP(D21,[1]apoio_Preços_MGS!$A$6:$AN$238,36,FALSE) -> 0.07 | AF21: =(U21+W21+Z21+AB21+AD21+AA21+VLOOKUP(C21,[1]apoio_Prec_Folha!$A:$S,7,FALSE))*AE21 -> 354.40596 | AG21: =TRUNC(U21+W21+Z21+AB21+AA21+AD21+AF21,2) -> 4867.99 | AH21: =TRUNC($AG21*ROUND((7.6%+1.65%+$I21)/(1-(7.6%+1.65%+$I21)),5)+$AG21,2) -> 5676.95 | AI21: =AH21*K21 -> 5676.95 | AJ21: =AH21*L21 -> 340617 | AK21: =VLOOKUP(D21,[1]apoio_Preços_MGS!$A$6:$AN$238,39,FALSE) -> 200 | AL21: =IF(J21="demais municípios",VLOOKUP(D21,[1]apoio_Preços_MGS!$A$6:$AN$238,39,FALSE),0) -> 200 | AM21: 0 | AN21: =AK21*K21 -> 200 | AO21: =VLOOKUP(D21,[1]apoio_Preços_MGS!$A$6:$AN$238,40,FALSE) -> 549.35 | AP21: =IF(J21="demais municípios",VLOOKUP(D21,[1]apoio_Preços_MGS!$A$6:$AN$238,40,FALSE),0) -> 549.35 | AQ21: 0 | AR21: =AO21*K21 -> 549.35 | AS21: =AN21+AR21 -> 749.35 | AT21: =(AN21+AR21)*60 -> 44961
A22: =CONCATENATE(F22,H22,I22) -> 95133440,02 | B22: =CONCATENATE(D22,I22) -> 3920,02 | C22: =VLOOKUP(D22,[1]apoio_Preços_MGS!$A$6:$B$238,2,FALSE) -> AGENTE DE SERVIÇO DE PARQUE HABILITADO | D22: 392 | E22: =VLOOKUP(D22,[1]apoio_Preços_MGS!$A$6:$F$238,6,FALSE) -> AGENTE DE SERVIÇO DE PARQUE HABILITADO - (PERIC.) - 12x36 DIURNO - 44H | F22: =IFERROR(VLOOKUP(D22,'[1]apoio_cód catmas'!$B$2:$C$863,2,FALSE),0) -> 95133 | G22: =IF(H22="N/A",VLOOKUP(F22&40,'[1]apoio_cód catmas'!$A$1:$G$233,4,FALSE),VLOOKUP(F22&H22,'[1]apoio_cód catmas'!$A$1:$G$233,4,FALSE)) -> AGENTE DE SERVICO DE PARQUE HABILITADO - 12X36 DIURNO (PERICULOSIDADE) - 44H | H22: 44 | I22: 0.02 | J22: Demais Municípios | K22: 4 | L22: =K22*60 -> 240 | M22: =VLOOKUP(D22,[1]apoio_Preços_MGS!$A$6:$AN$238,18,FALSE) -> 2150.6884 | N22: =VLOOKUP(D22,[1]apoio_Preços_MGS!$A$6:$AN$238,19,FALSE) -> 645.20652 | O22: =VLOOKUP(D22,[1]apoio_Preços_MGS!$A$6:$AN$238,20,FALSE) -> 0 | P22: =VLOOKUP(D22,[1]apoio_Preços_MGS!$A$6:$AN$238,21,FALSE) -> 0 | Q22: =VLOOKUP(D22,[1]apoio_Preços_MGS!$A$6:$AN$238,22,FALSE) -> 0 | R22: =VLOOKUP(D22,[1]apoio_Preços_MGS!$A$6:$AN$238,23,FALSE) -> 0 | S22: =VLOOKUP(D22,[1]apoio_Preços_MGS!$A$6:$AN$238,24,FALSE) -> 0 | T22: =VLOOKUP(D22,[1]apoio_Preços_MGS!$A$6:$AN$238,25,FALSE) -> 3.8831874 | U22: =SUM(M22:T22) -> 2799.7781 | V22: =VLOOKUP(D22,[1]apoio_Preços_MGS!$A$6:$AN$238,27,FALSE) -> 0.818 | W22: =U22*V22 -> 2290.2185 | X22: =VLOOKUP(D22,[1]apoio_Preços_MGS!$A$6:$AN$238,29,FALSE) -> 30.014545 | Y22: =VLOOKUP(D22,[1]apoio_Preços_MGS!$A$6:$AN$238,30,FALSE) -> 282.32043 | Z22: =Y22+X22 -> 312.33498 | AA22: =VLOOKUP(D22,[1]apoio_Preços_MGS!$A$6:$AN$238,32,FALSE) -> 4.1293217 | AB22: =VLOOKUP(D22,[1]apoio_Preços_MGS!$A$6:$AN$238,33,FALSE) -> 281.7415 | AC22: =VLOOKUP(D22,[1]apoio_Preços_MGS!$A$6:$AN$238,34,FALSE) -> 0 | AD22: =(U22+W22+Z22+AB22+AA22+VLOOKUP(C22,[1]apoio_Prec_Folha!$A:$S,7,FALSE))*AC22 -> 0 | AE22: =VLOOKUP(D22,[1]apoio_Preços_MGS!$A$6:$AN$238,36,FALSE) -> 0.07 | AF22: =(U22+W22+Z22+AB22+AD22+AA22+VLOOKUP(C22,[1]apoio_Prec_Folha!$A:$S,7,FALSE))*AE22 -> 436.62899 | AG22: =TRUNC(U22+W22+Z22+AB22+AA22+AD22+AF22,2) -> 6124.83 | AH22: =TRUNC($AG22*ROUND((7.6%+1.65%+$I22)/(1-(7.6%+1.65%+$I22)),5)+$AG22,2) -> 6901.21 | AI22: =AH22*K22 -> 27604.84 | AJ22: =AH22*L22 -> 1656290.4 | AK22: =VLOOKUP(D22,[1]apoio_Preços_MGS!$A$6:$AN$238,39,FALSE) -> 200 | AL22: =IF(J22="demais municípios",VLOOKUP(D22,[1]apoio_Preços_MGS!$A$6:$AN$238,39,FALSE),0) -> 200 | AM22: 0 | AN22: =AK22*K22 -> 800 | AO22: =VLOOKUP(D22,[1]apoio_Preços_MGS!$A$6:$AN$238,40,FALSE) -> 549.35 | AP22: =IF(J22="demais municípios",VLOOKUP(D22,[1]apoio_Preços_MGS!$A$6:$AN$238,40,FALSE),0) -> 549.35 | AQ22: 0 | AR22: =AO22*K22 -> 2197.4 | AS22: =AN22+AR22 -> 2997.4 | AT22: =(AN22+AR22)*60 -> 179844
A23: =CONCATENATE(F23,H23,I23) -> 95133440,027 | B23: =CONCATENATE(D23,I23) -> 3920,027 | C23: =VLOOKUP(D23,[1]apoio_Preços_MGS!$A$6:$B$238,2,FALSE) -> AGENTE DE SERVIÇO DE PARQUE HABILITADO | D23: 392 | E23: =VLOOKUP(D23,[1]apoio_Preços_MGS!$A$6:$F$238,6,FALSE) -> AGENTE DE SERVIÇO DE PARQUE HABILITADO - (PERIC.) - 12x36 DIURNO - 44H | F23: =IFERROR(VLOOKUP(D23,'[1]apoio_cód catmas'!$B$2:$C$863,2,FALSE),0) -> 95133 | G23: =IF(H23="N/A",VLOOKUP(F23&40,'[1]apoio_cód catmas'!$A$1:$G$233,4,FALSE),VLOOKUP(F23&H23,'[1]apoio_cód catmas'!$A$1:$G$233,4,FALSE)) -> AGENTE DE SERVICO DE PARQUE HABILITADO - 12X36 DIURNO (PERICULOSIDADE) - 44H | H23: 44 | I23: 0.027 | J23: Demais Municípios | K23: 4 | L23: =K23*60 -> 240 | M23: =VLOOKUP(D23,[1]apoio_Preços_MGS!$A$6:$AN$238,18,FALSE) -> 2150.6884 | N23: =VLOOKUP(D23,[1]apoio_Preços_MGS!$A$6:$AN$238,19,FALSE) -> 645.20652 | O23: =VLOOKUP(D23,[1]apoio_Preços_MGS!$A$6:$AN$238,20,FALSE) -> 0 | P23: =VLOOKUP(D23,[1]apoio_Preços_MGS!$A$6:$AN$238,21,FALSE) -> 0 | Q23: =VLOOKUP(D23,[1]apoio_Preços_MGS!$A$6:$AN$238,22,FALSE) -> 0 | R23: =VLOOKUP(D23,[1]apoio_Preços_MGS!$A$6:$AN$238,23,FALSE) -> 0 | S23: =VLOOKUP(D23,[1]apoio_Preços_MGS!$A$6:$AN$238,24,FALSE) -> 0 | T23: =VLOOKUP(D23,[1]apoio_Preços_MGS!$A$6:$AN$238,25,FALSE) -> 3.8831874 | U23: =SUM(M23:T23) -> 2799.7781 | V23: =VLOOKUP(D23,[1]apoio_Preços_MGS!$A$6:$AN$238,27,FALSE) -> 0.818 | W23: =U23*V23 -> 2290.2185 | X23: =VLOOKUP(D23,[1]apoio_Preços_MGS!$A$6:$AN$238,29,FALSE) -> 30.014545 | Y23: =VLOOKUP(D23,[1]apoio_Preços_MGS!$A$6:$AN$238,30,FALSE) -> 282.32043 | Z23: =Y23+X23 -> 312.33498 | AA23: =VLOOKUP(D23,[1]apoio_Preços_MGS!$A$6:$AN$238,32,FALSE) -> 4.1293217 | AB23: =VLOOKUP(D23,[1]apoio_Preços_MGS!$A$6:$AN$238,33,FALSE) -> 281.7415 | AC23: =VLOOKUP(D23,[1]apoio_Preços_MGS!$A$6:$AN$238,34,FALSE) -> 0 | AD23: =(U23+W23+Z23+AB23+AA23+VLOOKUP(C23,[1]apoio_Prec_Folha!$A:$S,7,FALSE))*AC23 -> 0 | AE23: =VLOOKUP(D23,[1]apoio_Preços_MGS!$A$6:$AN$238,36,FALSE) -> 0.07 | AF23: =(U23+W23+Z23+AB23+AD23+AA23+VLOOKUP(C23,[1]apoio_Prec_Folha!$A:$S,7,FALSE))*AE23 -> 436.62899 | AG23: =TRUNC(U23+W23+Z23+AB23+AA23+AD23+AF23,2) -> 6124.83 | AH23: =TRUNC($AG23*ROUND((7.6%+1.65%+$I23)/(1-(7.6%+1.65%+$I23)),5)+$AG23,2) -> 6956.09 | AI23: =AH23*K23 -> 27824.36 | AJ23: =AH23*L23 -> 1669461.6 | AK23: =VLOOKUP(D23,[1]apoio_Preços_MGS!$A$6:$AN$238,39,FALSE) -> 200 | AL23: =IF(J23="demais municípios",VLOOKUP(D23,[1]apoio_Preços_MGS!$A$6:$AN$238,39,FALSE),0) -> 200 | AM23: 0 | AN23: =AK23*K23 -> 800 | AO23: =VLOOKUP(D23,[1]apoio_Preços_MGS!$A$6:$AN$238,40,FALSE) -> 549.35 | AP23: =IF(J23="demais municípios",VLOOKUP(D23,[1]apoio_Preços_MGS!$A$6:$AN$238,40,FALSE),0) -> 549.35 | AQ23: 0 | AR23: =AO23*K23 -> 2197.4 | AS23: =AN23+AR23 -> 2997.4 | AT23: =(AN23+AR23)*60 -> 179844
A24: =CONCATENATE(F24,H24,I24) -> 95133440,03 | B24: =CONCATENATE(D24,I24) -> 3920,03 | C24: =VLOOKUP(D24,[1]apoio_Preços_MGS!$A$6:$B$238,2,FALSE) -> AGENTE DE SERVIÇO DE PARQUE HABILITADO | D24: 392 | E24: =VLOOKUP(D24,[1]apoio_Preços_MGS!$A$6:$F$238,6,FALSE) -> AGENTE DE SERVIÇO DE PARQUE HABILITADO - (PERIC.) - 12x36 DIURNO - 44H | F24: =IFERROR(VLOOKUP(D24,'[1]apoio_cód catmas'!$B$2:$C$863,2,FALSE),0) -> 95133 | G24: =IF(H24="N/A",VLOOKUP(F24&40,'[1]apoio_cód catmas'!$A$1:$G$233,4,FALSE),VLOOKUP(F24&H24,'[1]apoio_cód catmas'!$A$1:$G$233,4,FALSE)) -> AGENTE DE SERVICO DE PARQUE HABILITADO - 12X36 DIURNO (PERICULOSIDADE) - 44H | H24: 44 | I24: 0.03 | J24: Demais Municípios | K24: 11 | L24: =K24*60 -> 660 | M24: =VLOOKUP(D24,[1]apoio_Preços_MGS!$A$6:$AN$238,18,FALSE) -> 2150.6884 | N24: =VLOOKUP(D24,[1]apoio_Preços_MGS!$A$6:$AN$238,19,FALSE) -> 645.20652 | O24: =VLOOKUP(D24,[1]apoio_Preços_MGS!$A$6:$AN$238,20,FALSE) -> 0 | P24: =VLOOKUP(D24,[1]apoio_Preços_MGS!$A$6:$AN$238,21,FALSE) -> 0 | Q24: =VLOOKUP(D24,[1]apoio_Preços_MGS!$A$6:$AN$238,22,FALSE) -> 0 | R24: =VLOOKUP(D24,[1]apoio_Preços_MGS!$A$6:$AN$238,23,FALSE) -> 0 | S24: =VLOOKUP(D24,[1]apoio_Preços_MGS!$A$6:$AN$238,24,FALSE) -> 0 | T24: =VLOOKUP(D24,[1]apoio_Preços_MGS!$A$6:$AN$238,25,FALSE) -> 3.8831874 | U24: =SUM(M24:T24) -> 2799.7781 | V24: =VLOOKUP(D24,[1]apoio_Preços_MGS!$A$6:$AN$238,27,FALSE) -> 0.818 | W24: =U24*V24 -> 2290.2185 | X24: =VLOOKUP(D24,[1]apoio_Preços_MGS!$A$6:$AN$238,29,FALSE) -> 30.014545 | Y24: =VLOOKUP(D24,[1]apoio_Preços_MGS!$A$6:$AN$238,30,FALSE) -> 282.32043 | Z24: =Y24+X24 -> 312.33498 | AA24: =VLOOKUP(D24,[1]apoio_Preços_MGS!$A$6:$AN$238,32,FALSE) -> 4.1293217 | AB24: =VLOOKUP(D24,[1]apoio_Preços_MGS!$A$6:$AN$238,33,FALSE) -> 281.7415 | AC24: =VLOOKUP(D24,[1]apoio_Preços_MGS!$A$6:$AN$238,34,FALSE) -> 0 | AD24: =(U24+W24+Z24+AB24+AA24+VLOOKUP(C24,[1]apoio_Prec_Folha!$A:$S,7,FALSE))*AC24 -> 0 | AE24: =VLOOKUP(D24,[1]apoio_Preços_MGS!$A$6:$AN$238,36,FALSE) -> 0.07 | AF24: =(U24+W24+Z24+AB24+AD24+AA24+VLOOKUP(C24,[1]apoio_Prec_Folha!$A:$S,7,FALSE))*AE24 -> 436.62899 | AG24: =TRUNC(U24+W24+Z24+AB24+AA24+AD24+AF24,2) -> 6124.83 | AH24: =TRUNC($AG24*ROUND((7.6%+1.65%+$I24)/(1-(7.6%+1.65%+$I24)),5)+$AG24,2) -> 6979.85 | AI24: =AH24*K24 -> 76778.35 | AJ24: =AH24*L24 -> 4606701 | AK24: =VLOOKUP(D24,[1]apoio_Preços_MGS!$A$6:$AN$238,39,FALSE) -> 200 | AL24: =IF(J24="demais municípios",VLOOKUP(D24,[1]apoio_Preços_MGS!$A$6:$AN$238,39,FALSE),0) -> 200 | AM24: 0 | AN24: =AK24*K24 -> 2200 | AO24: =VLOOKUP(D24,[1]apoio_Preços_MGS!$A$6:$AN$238,40,FALSE) -> 549.35 | AP24: =IF(J24="demais municípios",VLOOKUP(D24,[1]apoio_Preços_MGS!$A$6:$AN$238,40,FALSE),0) -> 549.35 | AQ24: 0 | AR24: =AO24*K24 -> 6042.85 | AS24: =AN24+AR24 -> 8242.85 | AT24: =(AN24+AR24)*60 -> 494571
A25: =CONCATENATE(F25,H25,I25) -> 95133440,05 | B25: =CONCATENATE(D25,I25) -> 3920,05 | C25: =VLOOKUP(D25,[1]apoio_Preços_MGS!$A$6:$B$238,2,FALSE) -> AGENTE DE SERVIÇO DE PARQUE HABILITADO | D25: 392 | E25: =VLOOKUP(D25,[1]apoio_Preços_MGS!$A$6:$F$238,6,FALSE) -> AGENTE DE SERVIÇO DE PARQUE HABILITADO - (PERIC.) - 12x36 DIURNO - 44H | F25: =IFERROR(VLOOKUP(D25,'[1]apoio_cód catmas'!$B$2:$C$863,2,FALSE),0) -> 95133 | G25: =IF(H25="N/A",VLOOKUP(F25&40,'[1]apoio_cód catmas'!$A$1:$G$233,4,FALSE),VLOOKUP(F25&H25,'[1]apoio_cód catmas'!$A$1:$G$233,4,FALSE)) -> AGENTE DE SERVICO DE PARQUE HABILITADO - 12X36 DIURNO (PERICULOSIDADE) - 44H | H25: 44 | I25: 0.05 | J25: Demais Municípios | K25: 2 | L25: =K25*60 -> 120 | M25: =VLOOKUP(D25,[1]apoio_Preços_MGS!$A$6:$AN$238,18,FALSE) -> 2150.6884 | N25: =VLOOKUP(D25,[1]apoio_Preços_MGS!$A$6:$AN$238,19,FALSE) -> 645.20652 | O25: =VLOOKUP(D25,[1]apoio_Preços_MGS!$A$6:$AN$238,20,FALSE) -> 0 | P25: =VLOOKUP(D25,[1]apoio_Preços_MGS!$A$6:$AN$238,21,FALSE) -> 0 | Q25: =VLOOKUP(D25,[1]apoio_Preços_MGS!$A$6:$AN$238,22,FALSE) -> 0 | R25: =VLOOKUP(D25,[1]apoio_Preços_MGS!$A$6:$AN$238,23,FALSE) -> 0 | S25: =VLOOKUP(D25,[1]apoio_Preços_MGS!$A$6:$AN$238,24,FALSE) -> 0 | T25: =VLOOKUP(D25,[1]apoio_Preços_MGS!$A$6:$AN$238,25,FALSE) -> 3.8831874 | U25: =SUM(M25:T25) -> 2799.7781 | V25: =VLOOKUP(D25,[1]apoio_Preços_MGS!$A$6:$AN$238,27,FALSE) -> 0.818 | W25: =U25*V25 -> 2290.2185 | X25: =VLOOKUP(D25,[1]apoio_Preços_MGS!$A$6:$AN$238,29,FALSE) -> 30.014545 | Y25: =VLOOKUP(D25,[1]apoio_Preços_MGS!$A$6:$AN$238,30,FALSE) -> 282.32043 | Z25: =Y25+X25 -> 312.33498 | AA25: =VLOOKUP(D25,[1]apoio_Preços_MGS!$A$6:$AN$238,32,FALSE) -> 4.1293217 | AB25: =VLOOKUP(D25,[1]apoio_Preços_MGS!$A$6:$AN$238,33,FALSE) -> 281.7415 | AC25: =VLOOKUP(D25,[1]apoio_Preços_MGS!$A$6:$AN$238,34,FALSE) -> 0 | AD25: =(U25+W25+Z25+AB25+AA25+VLOOKUP(C25,[1]apoio_Prec_Folha!$A:$S,7,FALSE))*AC25 -> 0 | AE25: =VLOOKUP(D25,[1]apoio_Preços_MGS!$A$6:$AN$238,36,FALSE) -> 0.07 | AF25: =(U25+W25+Z25+AB25+AD25+AA25+VLOOKUP(C25,[1]apoio_Prec_Folha!$A:$S,7,FALSE))*AE25 -> 436.62899 | AG25: =TRUNC(U25+W25+Z25+AB25+AA25+AD25+AF25,2) -> 6124.83 | AH25: =TRUNC($AG25*ROUND((7.6%+1.65%+$I25)/(1-(7.6%+1.65%+$I25)),5)+$AG25,2) -> 7142.65 | AI25: =AH25*K25 -> 14285.3 | AJ25: =AH25*L25 -> 857118 | AK25: =VLOOKUP(D25,[1]apoio_Preços_MGS!$A$6:$AN$238,39,FALSE) -> 200 | AL25: =IF(J25="demais municípios",VLOOKUP(D25,[1]apoio_Preços_MGS!$A$6:$AN$238,39,FALSE),0) -> 200 | AM25: 0 | AN25: =AK25*K25 -> 400 | AO25: =VLOOKUP(D25,[1]apoio_Preços_MGS!$A$6:$AN$238,40,FALSE) -> 549.35 | AP25: =IF(J25="demais municípios",VLOOKUP(D25,[1]apoio_Preços_MGS!$A$6:$AN$238,40,FALSE),0) -> 549.35 | AQ25: 0 | AR25: =AO25*K25 -> 1098.7 | AS25: =AN25+AR25 -> 1498.7 | AT25: =(AN25+AR25)*60 -> 89922
A26: =CONCATENATE(F26,H26,I26) -> 95133440,05 | B26: =CONCATENATE(D26,I26) -> 3920,05 | C26: =VLOOKUP(D26,[1]apoio_Preços_MGS!$A$6:$B$238,2,FALSE) -> AGENTE DE SERVIÇO DE PARQUE HABILITADO | D26: 392 | E26: =VLOOKUP(D26,[1]apoio_Preços_MGS!$A$6:$F$238,6,FALSE) -> AGENTE DE SERVIÇO DE PARQUE HABILITADO - (PERIC.) - 12x36 DIURNO - 44H | F26: =IFERROR(VLOOKUP(D26,'[1]apoio_cód catmas'!$B$2:$C$863,2,FALSE),0) -> 95133 | G26: =IF(H26="N/A",VLOOKUP(F26&40,'[1]apoio_cód catmas'!$A$1:$G$233,4,FALSE),VLOOKUP(F26&H26,'[1]apoio_cód catmas'!$A$1:$G$233,4,FALSE)) -> AGENTE DE SERVICO DE PARQUE HABILITADO - 12X36 DIURNO (PERICULOSIDADE) - 44H | H26: 44 | I26: 0.05 | J26: Belo Horizonte | K26: 2 | L26: =K26*60 -> 120 | M26: =VLOOKUP(D26,[1]apoio_Preços_MGS!$A$6:$AN$238,18,FALSE) -> 2150.6884 | N26: =VLOOKUP(D26,[1]apoio_Preços_MGS!$A$6:$AN$238,19,FALSE) -> 645.20652 | O26: =VLOOKUP(D26,[1]apoio_Preços_MGS!$A$6:$AN$238,20,FALSE) -> 0 | P26: =VLOOKUP(D26,[1]apoio_Preços_MGS!$A$6:$AN$238,21,FALSE) -> 0 | Q26: =VLOOKUP(D26,[1]apoio_Preços_MGS!$A$6:$AN$238,22,FALSE) -> 0 | R26: =VLOOKUP(D26,[1]apoio_Preços_MGS!$A$6:$AN$238,23,FALSE) -> 0 | S26: =VLOOKUP(D26,[1]apoio_Preços_MGS!$A$6:$AN$238,24,FALSE) -> 0 | T26: =VLOOKUP(D26,[1]apoio_Preços_MGS!$A$6:$AN$238,25,FALSE) -> 3.8831874 | U26: =SUM(M26:T26) -> 2799.7781 | V26: =VLOOKUP(D26,[1]apoio_Preços_MGS!$A$6:$AN$238,27,FALSE) -> 0.818 | W26: =U26*V26 -> 2290.2185 | X26: =VLOOKUP(D26,[1]apoio_Preços_MGS!$A$6:$AN$238,29,FALSE) -> 30.014545 | Y26: =VLOOKUP(D26,[1]apoio_Preços_MGS!$A$6:$AN$238,30,FALSE) -> 282.32043 | Z26: =Y26+X26 -> 312.33498 | AA26: =VLOOKUP(D26,[1]apoio_Preços_MGS!$A$6:$AN$238,32,FALSE) -> 4.1293217 | AB26: =VLOOKUP(D26,[1]apoio_Preços_MGS!$A$6:$AN$238,33,FALSE) -> 281.7415 | AC26: =VLOOKUP(D26,[1]apoio_Preços_MGS!$A$6:$AN$238,34,FALSE) -> 0 | AD26: =(U26+W26+Z26+AB26+AA26+VLOOKUP(C26,[1]apoio_Prec_Folha!$A:$S,7,FALSE))*AC26 -> 0 | AE26: =VLOOKUP(D26,[1]apoio_Preços_MGS!$A$6:$AN$238,36,FALSE) -> 0.07 | AF26: =(U26+W26+Z26+AB26+AD26+AA26+VLOOKUP(C26,[1]apoio_Prec_Folha!$A:$S,7,FALSE))*AE26 -> 436.62899 | AG26: =TRUNC(U26+W26+Z26+AB26+AA26+AD26+AF26,2) -> 6124.83 | AH26: =TRUNC($AG26*ROUND((7.6%+1.65%+$I26)/(1-(7.6%+1.65%+$I26)),5)+$AG26,2) -> 7142.65 | AI26: =AH26*K26 -> 14285.3 | AJ26: =AH26*L26 -> 857118 | AK26: =VLOOKUP(D26,[1]apoio_Preços_MGS!$A$6:$AN$238,39,FALSE) -> 200 | AL26: =IF(J26="demais municípios",VLOOKUP(D26,[1]apoio_Preços_MGS!$A$6:$AN$238,39,FALSE),0) -> 0 | AM26: =TRUNC(ROUND(($I26)/(1-($I26)),5)*VLOOKUP(D26,[1]apoio_Preços_MGS!$A$6:$AN$238,39,FALSE)+VLOOKUP(D26,[1]apoio_Preços_MGS!$A$6:$AN$238,39,FALSE),2) -> 210.52 | AN26: =AM26*K26 -> 421.04 | AO26: =VLOOKUP(D26,[1]apoio_Preços_MGS!$A$6:$AN$238,40,FALSE) -> 549.35 | AP26: =IF(J26="demais municípios",VLOOKUP(D26,[1]apoio_Preços_MGS!$A$6:$AN$238,40,FALSE),0) -> 0 | AQ26: =TRUNC(ROUND(($I26)/(1-($I26)),5)*VLOOKUP(D26,[1]apoio_Preços_MGS!$A$6:$AN$238,40,FALSE)+VLOOKUP(D26,[1]apoio_Preços_MGS!$A$6:$AN$238,40,FALSE),2) -> 578.26 | AR26: =AQ26*K26 -> 1156.52 | AS26: =AN26+AR26 -> 1577.56 | AT26: =(AN26+AR26)*60 -> 94653.6
A27: =CONCATENATE(F27,H27,I27) -> 95141440,03 | B27: =CONCATENATE(D27,I27) -> 3930,03 | C27: =VLOOKUP(D27,[1]apoio_Preços_MGS!$A$6:$B$238,2,FALSE) -> AGENTE DE SERVIÇO DE PARQUE HABILITADO | D27: 393 | E27: =VLOOKUP(D27,[1]apoio_Preços_MGS!$A$6:$F$238,6,FALSE) -> AGENTE DE SERVIÇO DE PARQUE HABILITADO - (PERIC.) - 12x36 NOTURNO - 44H | F27: =IFERROR(VLOOKUP(D27,'[1]apoio_cód catmas'!$B$2:$C$863,2,FALSE),0) -> 95141 | G27: =IF(H27="N/A",VLOOKUP(F27&40,'[1]apoio_cód catmas'!$A$1:$G$233,4,FALSE),VLOOKUP(F27&H27,'[1]apoio_cód catmas'!$A$1:$G$233,4,FALSE)) -> AGENTE DE SERVIÇO DE PARQUE HABILITADO - 12X36 NOTURNO (PERICULOSIDADE) - 44H | H27: 44 | I27: 0.03 | J27: Demais Municípios | K27: 4 | L27: =K27*60 -> 240 | M27: =VLOOKUP(D27,[1]apoio_Preços_MGS!$A$6:$AN$238,18,FALSE) -> 2150.6884 | N27: =VLOOKUP(D27,[1]apoio_Preços_MGS!$A$6:$AN$238,19,FALSE) -> 645.20652 | O27: =VLOOKUP(D27,[1]apoio_Preços_MGS!$A$6:$AN$238,20,FALSE) -> 651.33017 | P27: =VLOOKUP(D27,[1]apoio_Preços_MGS!$A$6:$AN$238,21,FALSE) -> 14.217538 | Q27: =VLOOKUP(D27,[1]apoio_Preços_MGS!$A$6:$AN$238,22,FALSE) -> 53.31575 | R27: =VLOOKUP(D27,[1]apoio_Preços_MGS!$A$6:$AN$238,23,FALSE) -> 0 | S27: =VLOOKUP(D27,[1]apoio_Preços_MGS!$A$6:$AN$238,24,FALSE) -> 0 | T27: =VLOOKUP(D27,[1]apoio_Preços_MGS!$A$6:$AN$238,25,FALSE) -> 3.8831874 | U27: =SUM(M27:T27) -> 3518.6416 | V27: =VLOOKUP(D27,[1]apoio_Preços_MGS!$A$6:$AN$238,27,FALSE) -> 0.818 | W27: =U27*V27 -> 2878.2488 | X27: =VLOOKUP(D27,[1]apoio_Preços_MGS!$A$6:$AN$238,29,FALSE) -> 30.014545 | Y27: =VLOOKUP(D27,[1]apoio_Preços_MGS!$A$6:$AN$238,30,FALSE) -> 282.32043 | Z27: =Y27+X27 -> 312.33498 | AA27: =VLOOKUP(D27,[1]apoio_Preços_MGS!$A$6:$AN$238,32,FALSE) -> 4.1293217 | AB27: =VLOOKUP(D27,[1]apoio_Preços_MGS!$A$6:$AN$238,33,FALSE) -> 281.7415 | AC27: =VLOOKUP(D27,[1]apoio_Preços_MGS!$A$6:$AN$238,34,FALSE) -> 0 | AD27: =(U27+W27+Z27+AB27+AA27+VLOOKUP(C27,[1]apoio_Prec_Folha!$A:$S,7,FALSE))*AC27 -> 0 | AE27: =VLOOKUP(D27,[1]apoio_Preços_MGS!$A$6:$AN$238,36,FALSE) -> 0.07 | AF27: =(U27+W27+Z27+AB27+AD27+AA27+VLOOKUP(C27,[1]apoio_Prec_Folha!$A:$S,7,FALSE))*AE27 -> 528.11155 | AG27: =TRUNC(U27+W27+Z27+AB27+AA27+AD27+AF27,2) -> 7523.2 | AH27: =TRUNC($AG27*ROUND((7.6%+1.65%+$I27)/(1-(7.6%+1.65%+$I27)),5)+$AG27,2) -> 8573.43 | AI27: =AH27*K27 -> 34293.72 | AJ27: =AH27*L27 -> 2057623.2 | AK27: =VLOOKUP(D27,[1]apoio_Preços_MGS!$A$6:$AN$238,39,FALSE) -> 200 | AL27: =IF(J27="demais municípios",VLOOKUP(D27,[1]apoio_Preços_MGS!$A$6:$AN$238,39,FALSE),0) -> 200 | AM27: 0 | AN27: =AK27*K27 -> 800 | AO27: =VLOOKUP(D27,[1]apoio_Preços_MGS!$A$6:$AN$238,40,FALSE) -> 549.35 | AP27: =IF(J27="demais municípios",VLOOKUP(D27,[1]apoio_Preços_MGS!$A$6:$AN$238,40,FALSE),0) -> 549.35 | AQ27: 0 | AR27: =AO27*K27 -> 2197.4 | AS27: =AN27+AR27 -> 2997.4 | AT27: =(AN27+AR27)*60 -> 179844
A28: =CONCATENATE(F28,H28,I28) -> 95109440,02 | B28: =CONCATENATE(D28,I28) -> 3880,02 | C28: =VLOOKUP(D28,[1]apoio_Preços_MGS!$A$6:$B$238,2,FALSE) -> AGENTE DE SERVIÇO DE PARQUE HABILITADO | D28: 388 | E28: =VLOOKUP(D28,[1]apoio_Preços_MGS!$A$6:$F$238,6,FALSE) -> AGENTE DE SERVIÇO DE PARQUE HABILITADO - DIARISTA DIURNO - 44H | F28: =IFERROR(VLOOKUP(D28,'[1]apoio_cód catmas'!$B$2:$C$863,2,FALSE),0) -> 95109 | G28: =IF(H28="N/A",VLOOKUP(F28&40,'[1]apoio_cód catmas'!$A$1:$G$233,4,FALSE),VLOOKUP(F28&H28,'[1]apoio_cód catmas'!$A$1:$G$233,4,FALSE)) -> AGENTE DE SERVICO DE PARQUE HABILITADO - 44H | H28: 44 | I28: 0.02 | J28: Demais Municípios | K28: 29 | L28: =K28*60 -> 1740 | M28: =VLOOKUP(D28,[1]apoio_Preços_MGS!$A$6:$AN$238,18,FALSE) -> 2150.6884 | N28: =VLOOKUP(D28,[1]apoio_Preços_MGS!$A$6:$AN$238,19,FALSE) -> 0 | O28: =VLOOKUP(D28,[1]apoio_Preços_MGS!$A$6:$AN$238,20,FALSE) -> 0 | P28: =VLOOKUP(D28,[1]apoio_Preços_MGS!$A$6:$AN$238,21,FALSE) -> 0 | Q28: =VLOOKUP(D28,[1]apoio_Preços_MGS!$A$6:$AN$238,22,FALSE) -> 0 | R28: =VLOOKUP(D28,[1]apoio_Preços_MGS!$A$6:$AN$238,23,FALSE) -> 0 | S28: =VLOOKUP(D28,[1]apoio_Preços_MGS!$A$6:$AN$238,24,FALSE) -> 0 | T28: =VLOOKUP(D28,[1]apoio_Preços_MGS!$A$6:$AN$238,25,FALSE) -> 0 | U28: =SUM(M28:T28) -> 2150.6884 | V28: =VLOOKUP(D28,[1]apoio_Preços_MGS!$A$6:$AN$238,27,FALSE) -> 0.818 | W28: =U28*V28 -> 1759.2631 | X28: =VLOOKUP(D28,[1]apoio_Preços_MGS!$A$6:$AN$238,29,FALSE) -> 30.014545 | Y28: =VLOOKUP(D28,[1]apoio_Preços_MGS!$A$6:$AN$238,30,FALSE) -> 282.32043 | Z28: =Y28+X28 -> 312.33498 | AA28: =VLOOKUP(D28,[1]apoio_Preços_MGS!$A$6:$AN$238,32,FALSE) -> 4.1293217 | AB28: =VLOOKUP(D28,[1]apoio_Preços_MGS!$A$6:$AN$238,33,FALSE) -> 281.7415 | AC28: =VLOOKUP(D28,[1]apoio_Preços_MGS!$A$6:$AN$238,34,FALSE) -> 0 | AD28: =(U28+W28+Z28+AB28+AA28+VLOOKUP(C28,[1]apoio_Prec_Folha!$A:$S,7,FALSE))*AC28 -> 0 | AE28: =VLOOKUP(D28,[1]apoio_Preços_MGS!$A$6:$AN$238,36,FALSE) -> 0.07 | AF28: =(U28+W28+Z28+AB28+AD28+AA28+VLOOKUP(C28,[1]apoio_Prec_Folha!$A:$S,7,FALSE))*AE28 -> 354.02583 | AG28: =TRUNC(U28+W28+Z28+AB28+AA28+AD28+AF28,2) -> 4862.18 | AH28: =TRUNC($AG28*ROUND((7.6%+1.65%+$I28)/(1-(7.6%+1.65%+$I28)),5)+$AG28,2) -> 5478.5 | AI28: =AH28*K28 -> 158876.5 | AJ28: =AH28*L28 -> 9532590 | AK28: =VLOOKUP(D28,[1]apoio_Preços_MGS!$A$6:$AN$238,39,FALSE) -> 200 | AL28: =IF(J28="demais municípios",VLOOKUP(D28,[1]apoio_Preços_MGS!$A$6:$AN$238,39,FALSE),0) -> 200 | AM28: 0 | AN28: =AK28*K28 -> 5800 | AO28: =VLOOKUP(D28,[1]apoio_Preços_MGS!$A$6:$AN$238,40,FALSE) -> 549.35 | AP28: =IF(J28="demais municípios",VLOOKUP(D28,[1]apoio_Preços_MGS!$A$6:$AN$238,40,FALSE),0) -> 549.35 | AQ28: 0 | AR28: =AO28*K28 -> 15931.15 | AS28: =AN28+AR28 -> 21731.15 | AT28: =(AN28+AR28)*60 -> 1303869
A29: =CONCATENATE(F29,H29,I29) -> 95109440,025 | B29: =CONCATENATE(D29,I29) -> 3880,025 | C29: =VLOOKUP(D29,[1]apoio_Preços_MGS!$A$6:$B$238,2,FALSE) -> AGENTE DE SERVIÇO DE PARQUE HABILITADO | D29: 388 | E29: =VLOOKUP(D29,[1]apoio_Preços_MGS!$A$6:$F$238,6,FALSE) -> AGENTE DE SERVIÇO DE PARQUE HABILITADO - DIARISTA DIURNO - 44H | F29: =IFERROR(VLOOKUP(D29,'[1]apoio_cód catmas'!$B$2:$C$863,2,FALSE),0) -> 95109 | G29: =IF(H29="N/A",VLOOKUP(F29&40,'[1]apoio_cód catmas'!$A$1:$G$233,4,FALSE),VLOOKUP(F29&H29,'[1]apoio_cód catmas'!$A$1:$G$233,4,FALSE)) -> AGENTE DE SERVICO DE PARQUE HABILITADO - 44H | H29: 44 | I29: 0.025 | J29: Demais Municípios | K29: 4 | L29: =K29*60 -> 240 | M29: =VLOOKUP(D29,[1]apoio_Preços_MGS!$A$6:$AN$238,18,FALSE) -> 2150.6884 | N29: =VLOOKUP(D29,[1]apoio_Preços_MGS!$A$6:$AN$238,19,FALSE) -> 0 | O29: =VLOOKUP(D29,[1]apoio_Preços_MGS!$A$6:$AN$238,20,FALSE) -> 0 | P29: =VLOOKUP(D29,[1]apoio_Preços_MGS!$A$6:$AN$238,21,FALSE) -> 0 | Q29: =VLOOKUP(D29,[1]apoio_Preços_MGS!$A$6:$AN$238,22,FALSE) -> 0 | R29: =VLOOKUP(D29,[1]apoio_Preços_MGS!$A$6:$AN$238,23,FALSE) -> 0 | S29: =VLOOKUP(D29,[1]apoio_Preços_MGS!$A$6:$AN$238,24,FALSE) -> 0 | T29: =VLOOKUP(D29,[1]apoio_Preços_MGS!$A$6:$AN$238,25,FALSE) -> 0 | U29: =SUM(M29:T29) -> 2150.6884 | V29: =VLOOKUP(D29,[1]apoio_Preços_MGS!$A$6:$AN$238,27,FALSE) -> 0.818 | W29: =U29*V29 -> 1759.2631 | X29: =VLOOKUP(D29,[1]apoio_Preços_MGS!$A$6:$AN$238,29,FALSE) -> 30.014545 | Y29: =VLOOKUP(D29,[1]apoio_Preços_MGS!$A$6:$AN$238,30,FALSE) -> 282.32043 | Z29: =Y29+X29 -> 312.33498 | AA29: =VLOOKUP(D29,[1]apoio_Preços_MGS!$A$6:$AN$238,32,FALSE) -> 4.1293217 | AB29: =VLOOKUP(D29,[1]apoio_Preços_MGS!$A$6:$AN$238,33,FALSE) -> 281.7415 | AC29: =VLOOKUP(D29,[1]apoio_Preços_MGS!$A$6:$AN$238,34,FALSE) -> 0 | AD29: =(U29+W29+Z29+AB29+AA29+VLOOKUP(C29,[1]apoio_Prec_Folha!$A:$S,7,FALSE))*AC29 -> 0 | AE29: =VLOOKUP(D29,[1]apoio_Preços_MGS!$A$6:$AN$238,36,FALSE) -> 0.07 | AF29: =(U29+W29+Z29+AB29+AD29+AA29+VLOOKUP(C29,[1]apoio_Prec_Folha!$A:$S,7,FALSE))*AE29 -> 354.02583 | AG29: =TRUNC(U29+W29+Z29+AB29+AA29+AD29+AF29,2) -> 4862.18 | AH29: =TRUNC($AG29*ROUND((7.6%+1.65%+$I29)/(1-(7.6%+1.65%+$I29)),5)+$AG29,2) -> 5509.53 | AI29: =AH29*K29 -> 22038.12 | AJ29: =AH29*L29 -> 1322287.2 | AK29: =VLOOKUP(D29,[1]apoio_Preços_MGS!$A$6:$AN$238,39,FALSE) -> 200 | AL29: =IF(J29="demais municípios",VLOOKUP(D29,[1]apoio_Preços_MGS!$A$6:$AN$238,39,FALSE),0) -> 200 | AM29: 0 | AN29: =AK29*K29 -> 800 | AO29: =VLOOKUP(D29,[1]apoio_Preços_MGS!$A$6:$AN$238,40,FALSE) -> 549.35 | AP29: =IF(J29="demais municípios",VLOOKUP(D29,[1]apoio_Preços_MGS!$A$6:$AN$238,40,FALSE),0) -> 549.35 | AQ29: 0 | AR29: =AO29*K29 -> 2197.4 | AS29: =AN29+AR29 -> 2997.4 | AT29: =(AN29+AR29)*60 -> 179844
A30: =CONCATENATE(F30,H30,I30) -> 95109440,027 | B30: =CONCATENATE(D30,I30) -> 3880,027 | C30: =VLOOKUP(D30,[1]apoio_Preços_MGS!$A$6:$B$238,2,FALSE) -> AGENTE DE SERVIÇO DE PARQUE HABILITADO | D30: 388 | E30: =VLOOKUP(D30,[1]apoio_Preços_MGS!$A$6:$F$238,6,FALSE) -> AGENTE DE SERVIÇO DE PARQUE HABILITADO - DIARISTA DIURNO - 44H | F30: =IFERROR(VLOOKUP(D30,'[1]apoio_cód catmas'!$B$2:$C$863,2,FALSE),0) -> 95109 | G30: =IF(H30="N/A",VLOOKUP(F30&40,'[1]apoio_cód catmas'!$A$1:$G$233,4,FALSE),VLOOKUP(F30&H30,'[1]apoio_cód catmas'!$A$1:$G$233,4,FALSE)) -> AGENTE DE SERVICO DE PARQUE HABILITADO - 44H | H30: 44 | I30: 0.027 | J30: Demais Municípios | K30: 7 | L30: =K30*60 -> 420 | M30: =VLOOKUP(D30,[1]apoio_Preços_MGS!$A$6:$AN$238,18,FALSE) -> 2150.6884 | N30: =VLOOKUP(D30,[1]apoio_Preços_MGS!$A$6:$AN$238,19,FALSE) -> 0 | O30: =VLOOKUP(D30,[1]apoio_Preços_MGS!$A$6:$AN$238,20,FALSE) -> 0 | P30: =VLOOKUP(D30,[1]apoio_Preços_MGS!$A$6:$AN$238,21,FALSE) -> 0 | Q30: =VLOOKUP(D30,[1]apoio_Preços_MGS!$A$6:$AN$238,22,FALSE) -> 0 | R30: =VLOOKUP(D30,[1]apoio_Preços_MGS!$A$6:$AN$238,23,FALSE) -> 0 | S30: =VLOOKUP(D30,[1]apoio_Preços_MGS!$A$6:$AN$238,24,FALSE) -> 0 | T30: =VLOOKUP(D30,[1]apoio_Preços_MGS!$A$6:$AN$238,25,FALSE) -> 0 | U30: =SUM(M30:T30) -> 2150.6884 | V30: =VLOOKUP(D30,[1]apoio_Preços_MGS!$A$6:$AN$238,27,FALSE) -> 0.818 | W30: =U30*V30 -> 1759.2631 | X30: =VLOOKUP(D30,[1]apoio_Preços_MGS!$A$6:$AN$238,29,FALSE) -> 30.014545 | Y30: =VLOOKUP(D30,[1]apoio_Preços_MGS!$A$6:$AN$238,30,FALSE) -> 282.32043 | Z30: =Y30+X30 -> 312.33498 | AA30: =VLOOKUP(D30,[1]apoio_Preços_MGS!$A$6:$AN$238,32,FALSE) -> 4.1293217 | AB30: =VLOOKUP(D30,[1]apoio_Preços_MGS!$A$6:$AN$238,33,FALSE) -> 281.7415 | AC30: =VLOOKUP(D30,[1]apoio_Preços_MGS!$A$6:$AN$238,34,FALSE) -> 0 | AD30: =(U30+W30+Z30+AB30+AA30+VLOOKUP(C30,[1]apoio_Prec_Folha!$A:$S,7,FALSE))*AC30 -> 0 | AE30: =VLOOKUP(D30,[1]apoio_Preços_MGS!$A$6:$AN$238,36,FALSE) -> 0.07 | AF30: =(U30+W30+Z30+AB30+AD30+AA30+VLOOKUP(C30,[1]apoio_Prec_Folha!$A:$S,7,FALSE))*AE30 -> 354.02583 | AG30: =TRUNC(U30+W30+Z30+AB30+AA30+AD30+AF30,2) -> 4862.18 | AH30: =TRUNC($AG30*ROUND((7.6%+1.65%+$I30)/(1-(7.6%+1.65%+$I30)),5)+$AG30,2) -> 5522.07 | AI30: =AH30*K30 -> 38654.49 | AJ30: =AH30*L30 -> 2319269.4 | AK30: =VLOOKUP(D30,[1]apoio_Preços_MGS!$A$6:$AN$238,39,FALSE) -> 200 | AL30: =IF(J30="demais municípios",VLOOKUP(D30,[1]apoio_Preços_MGS!$A$6:$AN$238,39,FALSE),0) -> 200 | AM30: 0 | AN30: =AK30*K30 -> 1400 | AO30: =VLOOKUP(D30,[1]apoio_Preços_MGS!$A$6:$AN$238,40,FALSE) -> 549.35 | AP30: =IF(J30="demais municípios",VLOOKUP(D30,[1]apoio_Preços_MGS!$A$6:$AN$238,40,FALSE),0) -> 549.35 | AQ30: 0 | AR30: =AO30*K30 -> 3845.45 | AS30: =AN30+AR30 -> 5245.45 | AT30: =(AN30+AR30)*60 -> 314727
A31: =CONCATENATE(F31,H31,I31) -> 95109440,03 | B31: =CONCATENATE(D31,I31) -> 3880,03 | C31: =VLOOKUP(D31,[1]apoio_Preços_MGS!$A$6:$B$238,2,FALSE) -> AGENTE DE SERVIÇO DE PARQUE HABILITADO | D31: 388 | E31: =VLOOKUP(D31,[1]apoio_Preços_MGS!$A$6:$F$238,6,FALSE) -> AGENTE DE SERVIÇO DE PARQUE HABILITADO - DIARISTA DIURNO - 44H | F31: =IFERROR(VLOOKUP(D31,'[1]apoio_cód catmas'!$B$2:$C$863,2,FALSE),0) -> 95109 | G31: =IF(H31="N/A",VLOOKUP(F31&40,'[1]apoio_cód catmas'!$A$1:$G$233,4,FALSE),VLOOKUP(F31&H31,'[1]apoio_cód catmas'!$A$1:$G$233,4,FALSE)) -> AGENTE DE SERVICO DE PARQUE HABILITADO - 44H | H31: 44 | I31: 0.03 | J31: Demais Municípios | K31: =77-2 -> 75 | L31: =K31*60 -> 4500 | M31: =VLOOKUP(D31,[1]apoio_Preços_MGS!$A$6:$AN$238,18,FALSE) -> 2150.6884 | N31: =VLOOKUP(D31,[1]apoio_Preços_MGS!$A$6:$AN$238,19,FALSE) -> 0 | O31: =VLOOKUP(D31,[1]apoio_Preços_MGS!$A$6:$AN$238,20,FALSE) -> 0 | P31: =VLOOKUP(D31,[1]apoio_Preços_MGS!$A$6:$AN$238,21,FALSE) -> 0 | Q31: =VLOOKUP(D31,[1]apoio_Preços_MGS!$A$6:$AN$238,22,FALSE) -> 0 | R31: =VLOOKUP(D31,[1]apoio_Preços_MGS!$A$6:$AN$238,23,FALSE) -> 0 | S31: =VLOOKUP(D31,[1]apoio_Preços_MGS!$A$6:$AN$238,24,FALSE) -> 0 | T31: =VLOOKUP(D31,[1]apoio_Preços_MGS!$A$6:$AN$238,25,FALSE) -> 0 | U31: =SUM(M31:T31) -> 2150.6884 | V31: =VLOOKUP(D31,[1]apoio_Preços_MGS!$A$6:$AN$238,27,FALSE) -> 0.818 | W31: =U31*V31 -> 1759.2631 | X31: =VLOOKUP(D31,[1]apoio_Preços_MGS!$A$6:$AN$238,29,FALSE) -> 30.014545 | Y31: =VLOOKUP(D31,[1]apoio_Preços_MGS!$A$6:$AN$238,30,FALSE) -> 282.32043 | Z31: =Y31+X31 -> 312.33498 | AA31: =VLOOKUP(D31,[1]apoio_Preços_MGS!$A$6:$AN$238,32,FALSE) -> 4.1293217 | AB31: =VLOOKUP(D31,[1]apoio_Preços_MGS!$A$6:$AN$238,33,FALSE) -> 281.7415 | AC31: =VLOOKUP(D31,[1]apoio_Preços_MGS!$A$6:$AN$238,34,FALSE) -> 0 | AD31: =(U31+W31+Z31+AB31+AA31+VLOOKUP(C31,[1]apoio_Prec_Folha!$A:$S,7,FALSE))*AC31 -> 0 | AE31: =VLOOKUP(D31,[1]apoio_Preços_MGS!$A$6:$AN$238,36,FALSE) -> 0.07 | AF31: =(U31+W31+Z31+AB31+AD31+AA31+VLOOKUP(C31,[1]apoio_Prec_Folha!$A:$S,7,FALSE))*AE31 -> 354.02583 | AG31: =TRUNC(U31+W31+Z31+AB31+AA31+AD31+AF31,2) -> 4862.18 | AH31: =TRUNC($AG31*ROUND((7.6%+1.65%+$I31)/(1-(7.6%+1.65%+$I31)),5)+$AG31,2) -> 5540.94 | AI31: =AH31*K31 -> 415570.5 | AJ31: =AH31*L31 -> 24934230 | AK31: =VLOOKUP(D31,[1]apoio_Preços_MGS!$A$6:$AN$238,39,FALSE) -> 200 | AL31: =IF(J31="demais municípios",VLOOKUP(D31,[1]apoio_Preços_MGS!$A$6:$AN$238,39,FALSE),0) -> 200 | AM31: 0 | AN31: =AK31*K31 -> 15000 | AO31: =VLOOKUP(D31,[1]apoio_Preços_MGS!$A$6:$AN$238,40,FALSE) -> 549.35 | AP31: =IF(J31="demais municípios",VLOOKUP(D31,[1]apoio_Preços_MGS!$A$6:$AN$238,40,FALSE),0) -> 549.35 | AQ31: 0 | AR31: =AO31*K31 -> 41201.25 | AS31: =AN31+AR31 -> 56201.25 | AT31: =(AN31+AR31)*60 -> 3372075
A32: =CONCATENATE(F32,H32,I32) -> 95109440,035 | B32: =CONCATENATE(D32,I32) -> 3880,035 | C32: =VLOOKUP(D32,[1]apoio_Preços_MGS!$A$6:$B$238,2,FALSE) -> AGENTE DE SERVIÇO DE PARQUE HABILITADO | D32: 388 | E32: =VLOOKUP(D32,[1]apoio_Preços_MGS!$A$6:$F$238,6,FALSE) -> AGENTE DE SERVIÇO DE PARQUE HABILITADO - DIARISTA DIURNO - 44H | F32: =IFERROR(VLOOKUP(D32,'[1]apoio_cód catmas'!$B$2:$C$863,2,FALSE),0) -> 95109 | G32: =IF(H32="N/A",VLOOKUP(F32&40,'[1]apoio_cód catmas'!$A$1:$G$233,4,FALSE),VLOOKUP(F32&H32,'[1]apoio_cód catmas'!$A$1:$G$233,4,FALSE)) -> AGENTE DE SERVICO DE PARQUE HABILITADO - 44H | H32: 44 | I32: 0.035 | J32: Demais Municípios | K32: 6 | L32: =K32*60 -> 360 | M32: =VLOOKUP(D32,[1]apoio_Preços_MGS!$A$6:$AN$238,18,FALSE) -> 2150.6884 | N32: =VLOOKUP(D32,[1]apoio_Preços_MGS!$A$6:$AN$238,19,FALSE) -> 0 | O32: =VLOOKUP(D32,[1]apoio_Preços_MGS!$A$6:$AN$238,20,FALSE) -> 0 | P32: =VLOOKUP(D32,[1]apoio_Preços_MGS!$A$6:$AN$238,21,FALSE) -> 0 | Q32: =VLOOKUP(D32,[1]apoio_Preços_MGS!$A$6:$AN$238,22,FALSE) -> 0 | R32: =VLOOKUP(D32,[1]apoio_Preços_MGS!$A$6:$AN$238,23,FALSE) -> 0 | S32: =VLOOKUP(D32,[1]apoio_Preços_MGS!$A$6:$AN$238,24,FALSE) -> 0 | T32: =VLOOKUP(D32,[1]apoio_Preços_MGS!$A$6:$AN$238,25,FALSE) -> 0 | U32: =SUM(M32:T32) -> 2150.6884 | V32: =VLOOKUP(D32,[1]apoio_Preços_MGS!$A$6:$AN$238,27,FALSE) -> 0.818 | W32: =U32*V32 -> 1759.2631 | X32: =VLOOKUP(D32,[1]apoio_Preços_MGS!$A$6:$AN$238,29,FALSE) -> 30.014545 | Y32: =VLOOKUP(D32,[1]apoio_Preços_MGS!$A$6:$AN$238,30,FALSE) -> 282.32043 | Z32: =Y32+X32 -> 312.33498 | AA32: =VLOOKUP(D32,[1]apoio_Preços_MGS!$A$6:$AN$238,32,FALSE) -> 4.1293217 | AB32: =VLOOKUP(D32,[1]apoio_Preços_MGS!$A$6:$AN$238,33,FALSE) -> 281.7415 | AC32: =VLOOKUP(D32,[1]apoio_Preços_MGS!$A$6:$AN$238,34,FALSE) -> 0 | AD32: =(U32+W32+Z32+AB32+AA32+VLOOKUP(C32,[1]apoio_Prec_Folha!$A:$S,7,FALSE))*AC32 -> 0 | AE32: =VLOOKUP(D32,[1]apoio_Preços_MGS!$A$6:$AN$238,36,FALSE) -> 0.07 | AF32: =(U32+W32+Z32+AB32+AD32+AA32+VLOOKUP(C32,[1]apoio_Prec_Folha!$A:$S,7,FALSE))*AE32 -> 354.02583 | AG32: =TRUNC(U32+W32+Z32+AB32+AA32+AD32+AF32,2) -> 4862.18 | AH32: =TRUNC($AG32*ROUND((7.6%+1.65%+$I32)/(1-(7.6%+1.65%+$I32)),5)+$AG32,2) -> 5572.69 | AI32: =AH32*K32 -> 33436.14 | AJ32: =AH32*L32 -> 2006168.4 | AK32: =VLOOKUP(D32,[1]apoio_Preços_MGS!$A$6:$AN$238,39,FALSE) -> 200 | AL32: =IF(J32="demais municípios",VLOOKUP(D32,[1]apoio_Preços_MGS!$A$6:$AN$238,39,FALSE),0) -> 200 | AM32: 0 | AN32: =AK32*K32 -> 1200 | AO32: =VLOOKUP(D32,[1]apoio_Preços_MGS!$A$6:$AN$238,40,FALSE) -> 549.35 | AP32: =IF(J32="demais municípios",VLOOKUP(D32,[1]apoio_Preços_MGS!$A$6:$AN$238,40,FALSE),0) -> 549.35 | AQ32: 0 | AR32: =AO32*K32 -> 3296.1 | AS32: =AN32+AR32 -> 4496.1 | AT32: =(AN32+AR32)*60 -> 269766
A33: =CONCATENATE(F33,H33,I33) -> 95109440,04 | B33: =CONCATENATE(D33,I33) -> 3880,04 | C33: =VLOOKUP(D33,[1]apoio_Preços_MGS!$A$6:$B$238,2,FALSE) -> AGENTE DE SERVIÇO DE PARQUE HABILITADO | D33: 388 | E33: =VLOOKUP(D33,[1]apoio_Preços_MGS!$A$6:$F$238,6,FALSE) -> AGENTE DE SERVIÇO DE PARQUE HABILITADO - DIARISTA DIURNO - 44H | F33: =IFERROR(VLOOKUP(D33,'[1]apoio_cód catmas'!$B$2:$C$863,2,FALSE),0) -> 95109 | G33: =IF(H33="N/A",VLOOKUP(F33&40,'[1]apoio_cód catmas'!$A$1:$G$233,4,FALSE),VLOOKUP(F33&H33,'[1]apoio_cód catmas'!$A$1:$G$233,4,FALSE)) -> AGENTE DE SERVICO DE PARQUE HABILITADO - 44H | H33: 44 | I33: 0.04 | J33: Demais Municípios | K33: 19 | L33: =K33*60 -> 1140 | M33: =VLOOKUP(D33,[1]apoio_Preços_MGS!$A$6:$AN$238,18,FALSE) -> 2150.6884 | N33: =VLOOKUP(D33,[1]apoio_Preços_MGS!$A$6:$AN$238,19,FALSE) -> 0 | O33: =VLOOKUP(D33,[1]apoio_Preços_MGS!$A$6:$AN$238,20,FALSE) -> 0 | P33: =VLOOKUP(D33,[1]apoio_Preços_MGS!$A$6:$AN$238,21,FALSE) -> 0 | Q33: =VLOOKUP(D33,[1]apoio_Preços_MGS!$A$6:$AN$238,22,FALSE) -> 0 | R33: =VLOOKUP(D33,[1]apoio_Preços_MGS!$A$6:$AN$238,23,FALSE) -> 0 | S33: =VLOOKUP(D33,[1]apoio_Preços_MGS!$A$6:$AN$238,24,FALSE) -> 0 | T33: =VLOOKUP(D33,[1]apoio_Preços_MGS!$A$6:$AN$238,25,FALSE) -> 0 | U33: =SUM(M33:T33) -> 2150.6884 | V33: =VLOOKUP(D33,[1]apoio_Preços_MGS!$A$6:$AN$238,27,FALSE) -> 0.818 | W33: =U33*V33 -> 1759.2631 | X33: =VLOOKUP(D33,[1]apoio_Preços_MGS!$A$6:$AN$238,29,FALSE) -> 30.014545 | Y33: =VLOOKUP(D33,[1]apoio_Preços_MGS!$A$6:$AN$238,30,FALSE) -> 282.32043 | Z33: =Y33+X33 -> 312.33498 | AA33: =VLOOKUP(D33,[1]apoio_Preços_MGS!$A$6:$AN$238,32,FALSE) -> 4.1293217 | AB33: =VLOOKUP(D33,[1]apoio_Preços_MGS!$A$6:$AN$238,33,FALSE) -> 281.7415 | AC33: =VLOOKUP(D33,[1]apoio_Preços_MGS!$A$6:$AN$238,34,FALSE) -> 0 | AD33: =(U33+W33+Z33+AB33+AA33+VLOOKUP(C33,[1]apoio_Prec_Folha!$A:$S,7,FALSE))*AC33 -> 0 | AE33: =VLOOKUP(D33,[1]apoio_Preços_MGS!$A$6:$AN$238,36,FALSE) -> 0.07 | AF33: =(U33+W33+Z33+AB33+AD33+AA33+VLOOKUP(C33,[1]apoio_Prec_Folha!$A:$S,7,FALSE))*AE33 -> 354.02583 | AG33: =TRUNC(U33+W33+Z33+AB33+AA33+AD33+AF33,2) -> 4862.18 | AH33: =TRUNC($AG33*ROUND((7.6%+1.65%+$I33)/(1-(7.6%+1.65%+$I33)),5)+$AG33,2) -> 5604.82 | AI33: =AH33*K33 -> 106491.58 | AJ33: =AH33*L33 -> 6389494.8 | AK33: =VLOOKUP(D33,[1]apoio_Preços_MGS!$A$6:$AN$238,39,FALSE) -> 200 | AL33: =IF(J33="demais municípios",VLOOKUP(D33,[1]apoio_Preços_MGS!$A$6:$AN$238,39,FALSE),0) -> 200 | AM33: 0 | AN33: =AK33*K33 -> 3800 | AO33: =VLOOKUP(D33,[1]apoio_Preços_MGS!$A$6:$AN$238,40,FALSE) -> 549.35 | AP33: =IF(J33="demais municípios",VLOOKUP(D33,[1]apoio_Preços_MGS!$A$6:$AN$238,40,FALSE),0) -> 549.35 | AQ33: 0 | AR33: =AO33*K33 -> 10437.65 | AS33: =AN33+AR33 -> 14237.65 | AT33: =(AN33+AR33)*60 -> 854259
A34: =CONCATENATE(F34,H34,I34) -> 95109440,04 | B34: =CONCATENATE(D34,I34) -> 3880,04 | C34: =VLOOKUP(D34,[1]apoio_Preços_MGS!$A$6:$B$238,2,FALSE) -> AGENTE DE SERVIÇO DE PARQUE HABILITADO | D34: 388 | E34: =VLOOKUP(D34,[1]apoio_Preços_MGS!$A$6:$F$238,6,FALSE) -> AGENTE DE SERVIÇO DE PARQUE HABILITADO - DIARISTA DIURNO - 44H | F34: =IFERROR(VLOOKUP(D34,'[1]apoio_cód catmas'!$B$2:$C$863,2,FALSE),0) -> 95109 | G34: =IF(H34="N/A",VLOOKUP(F34&40,'[1]apoio_cód catmas'!$A$1:$G$233,4,FALSE),VLOOKUP(F34&H34,'[1]apoio_cód catmas'!$A$1:$G$233,4,FALSE)) -> AGENTE DE SERVICO DE PARQUE HABILITADO - 44H | H34: 44 | I34: 0.04 | J34: Demais Municípios | K34: 1 | L34: =K34*56 -> 56 | M34: =VLOOKUP(D34,[1]apoio_Preços_MGS!$A$6:$AN$238,18,FALSE) -> 2150.6884 | N34: =VLOOKUP(D34,[1]apoio_Preços_MGS!$A$6:$AN$238,19,FALSE) -> 0 | O34: =VLOOKUP(D34,[1]apoio_Preços_MGS!$A$6:$AN$238,20,FALSE) -> 0 | P34: =VLOOKUP(D34,[1]apoio_Preços_MGS!$A$6:$AN$238,21,FALSE) -> 0 | Q34: =VLOOKUP(D34,[1]apoio_Preços_MGS!$A$6:$AN$238,22,FALSE) -> 0 | R34: =VLOOKUP(D34,[1]apoio_Preços_MGS!$A$6:$AN$238,23,FALSE) -> 0 | S34: =VLOOKUP(D34,[1]apoio_Preços_MGS!$A$6:$AN$238,24,FALSE) -> 0 | T34: =VLOOKUP(D34,[1]apoio_Preços_MGS!$A$6:$AN$238,25,FALSE) -> 0 | U34: =SUM(M34:T34) -> 2150.6884 | V34: =VLOOKUP(D34,[1]apoio_Preços_MGS!$A$6:$AN$238,27,FALSE) -> 0.818 | W34: =U34*V34 -> 1759.2631 | X34: =VLOOKUP(D34,[1]apoio_Preços_MGS!$A$6:$AN$238,29,FALSE) -> 30.014545 | Y34: =VLOOKUP(D34,[1]apoio_Preços_MGS!$A$6:$AN$238,30,FALSE) -> 282.32043 | Z34: =Y34+X34 -> 312.33498 | AA34: =VLOOKUP(D34,[1]apoio_Preços_MGS!$A$6:$AN$238,32,FALSE) -> 4.1293217 | AB34: =VLOOKUP(D34,[1]apoio_Preços_MGS!$A$6:$AN$238,33,FALSE) -> 281.7415 | AC34: =VLOOKUP(D34,[1]apoio_Preços_MGS!$A$6:$AN$238,34,FALSE) -> 0 | AD34: =(U34+W34+Z34+AB34+AA34+VLOOKUP(C34,[1]apoio_Prec_Folha!$A:$S,7,FALSE))*AC34 -> 0 | AE34: =VLOOKUP(D34,[1]apoio_Preços_MGS!$A$6:$AN$238,36,FALSE) -> 0.07 | AF34: =(U34+W34+Z34+AB34+AD34+AA34+VLOOKUP(C34,[1]apoio_Prec_Folha!$A:$S,7,FALSE))*AE34 -> 354.02583 | AG34: =TRUNC(U34+W34+Z34+AB34+AA34+AD34+AF34,2) -> 4862.18 | AH34: =TRUNC($AG34*ROUND((7.6%+1.65%+$I34)/(1-(7.6%+1.65%+$I34)),5)+$AG34,2) -> 5604.82 | AI34: =AH34*K34 -> 5604.82 | AJ34: =AH34*L34 -> 313869.92 | AK34: =VLOOKUP(D34,[1]apoio_Preços_MGS!$A$6:$AN$238,39,FALSE) -> 200 | AL34: =IF(J34="demais municípios",VLOOKUP(D34,[1]apoio_Preços_MGS!$A$6:$AN$238,39,FALSE),0) -> 200 | AM34: 0 | AN34: =AK34*K34 -> 200 | AO34: =VLOOKUP(D34,[1]apoio_Preços_MGS!$A$6:$AN$238,40,FALSE) -> 549.35 | AP34: =IF(J34="demais municípios",VLOOKUP(D34,[1]apoio_Preços_MGS!$A$6:$AN$238,40,FALSE),0) -> 549.35 | AQ34: 0 | AR34: =AO34*K34 -> 549.35 | AS34: =AN34+AR34 -> 749.35 | AT34: =(AN34+AR34)*60 -> 44961
A35: =CONCATENATE(F35,H35,I35) -> 95109440,05 | B35: =CONCATENATE(D35,I35) -> 3880,05 | C35: =VLOOKUP(D35,[1]apoio_Preços_MGS!$A$6:$B$238,2,FALSE) -> AGENTE DE SERVIÇO DE PARQUE HABILITADO | D35: 388 | E35: =VLOOKUP(D35,[1]apoio_Preços_MGS!$A$6:$F$238,6,FALSE) -> AGENTE DE SERVIÇO DE PARQUE HABILITADO - DIARISTA DIURNO - 44H | F35: =IFERROR(VLOOKUP(D35,'[1]apoio_cód catmas'!$B$2:$C$863,2,FALSE),0) -> 95109 | G35: =IF(H35="N/A",VLOOKUP(F35&40,'[1]apoio_cód catmas'!$A$1:$G$233,4,FALSE),VLOOKUP(F35&H35,'[1]apoio_cód catmas'!$A$1:$G$233,4,FALSE)) -> AGENTE DE SERVICO DE PARQUE HABILITADO - 44H | H35: 44 | I35: 0.05 | J35: Demais Municípios | K35: 2 | L35: =K35*56 -> 112 | M35: =VLOOKUP(D35,[1]apoio_Preços_MGS!$A$6:$AN$238,18,FALSE) -> 2150.6884 | N35: =VLOOKUP(D35,[1]apoio_Preços_MGS!$A$6:$AN$238,19,FALSE) -> 0 | O35: =VLOOKUP(D35,[1]apoio_Preços_MGS!$A$6:$AN$238,20,FALSE) -> 0 | P35: =VLOOKUP(D35,[1]apoio_Preços_MGS!$A$6:$AN$238,21,FALSE) -> 0 | Q35: =VLOOKUP(D35,[1]apoio_Preços_MGS!$A$6:$AN$238,22,FALSE) -> 0 | R35: =VLOOKUP(D35,[1]apoio_Preços_MGS!$A$6:$AN$238,23,FALSE) -> 0 | S35: =VLOOKUP(D35,[1]apoio_Preços_MGS!$A$6:$AN$238,24,FALSE) -> 0 | T35: =VLOOKUP(D35,[1]apoio_Preços_MGS!$A$6:$AN$238,25,FALSE) -> 0 | U35: =SUM(M35:T35) -> 2150.6884 | V35: =VLOOKUP(D35,[1]apoio_Preços_MGS!$A$6:$AN$238,27,FALSE) -> 0.818 | W35: =U35*V35 -> 1759.2631 | X35: =VLOOKUP(D35,[1]apoio_Preços_MGS!$A$6:$AN$238,29,FALSE) -> 30.014545 | Y35: =VLOOKUP(D35,[1]apoio_Preços_MGS!$A$6:$AN$238,30,FALSE) -> 282.32043 | Z35: =Y35+X35 -> 312.33498 | AA35: =VLOOKUP(D35,[1]apoio_Preços_MGS!$A$6:$AN$238,32,FALSE) -> 4.1293217 | AB35: =VLOOKUP(D35,[1]apoio_Preços_MGS!$A$6:$AN$238,33,FALSE) -> 281.7415 | AC35: =VLOOKUP(D35,[1]apoio_Preços_MGS!$A$6:$AN$238,34,FALSE) -> 0 | AD35: =(U35+W35+Z35+AB35+AA35+VLOOKUP(C35,[1]apoio_Prec_Folha!$A:$S,7,FALSE))*AC35 -> 0 | AE35: =VLOOKUP(D35,[1]apoio_Preços_MGS!$A$6:$AN$238,36,FALSE) -> 0.07 | AF35: =(U35+W35+Z35+AB35+AD35+AA35+VLOOKUP(C35,[1]apoio_Prec_Folha!$A:$S,7,FALSE))*AE35 -> 354.02583 | AG35: =TRUNC(U35+W35+Z35+AB35+AA35+AD35+AF35,2) -> 4862.18 | AH35: =TRUNC($AG35*ROUND((7.6%+1.65%+$I35)/(1-(7.6%+1.65%+$I35)),5)+$AG35,2) -> 5670.17 | AI35: =AH35*K35 -> 11340.34 | AJ35: =AH35*L35 -> 635059.04 | AK35: =VLOOKUP(D35,[1]apoio_Preços_MGS!$A$6:$AN$238,39,FALSE) -> 200 | AL35: =IF(J35="demais municípios",VLOOKUP(D35,[1]apoio_Preços_MGS!$A$6:$AN$238,39,FALSE),0) -> 200 | AM35: 0 | AN35: =AK35*K35 -> 400 | AO35: =VLOOKUP(D35,[1]apoio_Preços_MGS!$A$6:$AN$238,40,FALSE) -> 549.35 | AP35: =IF(J35="demais municípios",VLOOKUP(D35,[1]apoio_Preços_MGS!$A$6:$AN$238,40,FALSE),0) -> 549.35 | AQ35: 0 | AR35: =AO35*K35 -> 1098.7 | AS35: =AN35+AR35 -> 1498.7 | AT35: =(AN35+AR35)*60 -> 89922
A36: =CONCATENATE(F36,H36,I36) -> 95109440,05 | B36: =CONCATENATE(D36,I36) -> 3880,05 | C36: =VLOOKUP(D36,[1]apoio_Preços_MGS!$A$6:$B$238,2,FALSE) -> AGENTE DE SERVIÇO DE PARQUE HABILITADO | D36: 388 | E36: =VLOOKUP(D36,[1]apoio_Preços_MGS!$A$6:$F$238,6,FALSE) -> AGENTE DE SERVIÇO DE PARQUE HABILITADO - DIARISTA DIURNO - 44H | F36: =IFERROR(VLOOKUP(D36,'[1]apoio_cód catmas'!$B$2:$C$863,2,FALSE),0) -> 95109 | G36: =IF(H36="N/A",VLOOKUP(F36&40,'[1]apoio_cód catmas'!$A$1:$G$233,4,FALSE),VLOOKUP(F36&H36,'[1]apoio_cód catmas'!$A$1:$G$233,4,FALSE)) -> AGENTE DE SERVICO DE PARQUE HABILITADO - 44H | H36: 44 | I36: 0.05 | J36: Demais Municípios | K36: =78-K37-1 -> 38 | L36: =K36*60 -> 2280 | M36: =VLOOKUP(D36,[1]apoio_Preços_MGS!$A$6:$AN$238,18,FALSE) -> 2150.6884 | N36: =VLOOKUP(D36,[1]apoio_Preços_MGS!$A$6:$AN$238,19,FALSE) -> 0 | O36: =VLOOKUP(D36,[1]apoio_Preços_MGS!$A$6:$AN$238,20,FALSE) -> 0 | P36: =VLOOKUP(D36,[1]apoio_Preços_MGS!$A$6:$AN$238,21,FALSE) -> 0 | Q36: =VLOOKUP(D36,[1]apoio_Preços_MGS!$A$6:$AN$238,22,FALSE) -> 0 | R36: =VLOOKUP(D36,[1]apoio_Preços_MGS!$A$6:$AN$238,23,FALSE) -> 0 | S36: =VLOOKUP(D36,[1]apoio_Preços_MGS!$A$6:$AN$238,24,FALSE) -> 0 | T36: =VLOOKUP(D36,[1]apoio_Preços_MGS!$A$6:$AN$238,25,FALSE) -> 0 | U36: =SUM(M36:T36) -> 2150.6884 | V36: =VLOOKUP(D36,[1]apoio_Preços_MGS!$A$6:$AN$238,27,FALSE) -> 0.818 | W36: =U36*V36 -> 1759.2631 | X36: =VLOOKUP(D36,[1]apoio_Preços_MGS!$A$6:$AN$238,29,FALSE) -> 30.014545 | Y36: =VLOOKUP(D36,[1]apoio_Preços_MGS!$A$6:$AN$238,30,FALSE) -> 282.32043 | Z36: =Y36+X36 -> 312.33498 | AA36: =VLOOKUP(D36,[1]apoio_Preços_MGS!$A$6:$AN$238,32,FALSE) -> 4.1293217 | AB36: =VLOOKUP(D36,[1]apoio_Preços_MGS!$A$6:$AN$238,33,FALSE) -> 281.7415 | AC36: =VLOOKUP(D36,[1]apoio_Preços_MGS!$A$6:$AN$238,34,FALSE) -> 0 | AD36: =(U36+W36+Z36+AB36+AA36+VLOOKUP(C36,[1]apoio_Prec_Folha!$A:$S,7,FALSE))*AC36 -> 0 | AE36: =VLOOKUP(D36,[1]apoio_Preços_MGS!$A$6:$AN$238,36,FALSE) -> 0.07 | AF36: =(U36+W36+Z36+AB36+AD36+AA36+VLOOKUP(C36,[1]apoio_Prec_Folha!$A:$S,7,FALSE))*AE36 -> 354.02583 | AG36: =TRUNC(U36+W36+Z36+AB36+AA36+AD36+AF36,2) -> 4862.18 | AH36: =TRUNC($AG36*ROUND((7.6%+1.65%+$I36)/(1-(7.6%+1.65%+$I36)),5)+$AG36,2) -> 5670.17 | AI36: =AH36*K36 -> 215466.46 | AJ36: =AH36*L36 -> 12927988 | AK36: =VLOOKUP(D36,[1]apoio_Preços_MGS!$A$6:$AN$238,39,FALSE) -> 200 | AL36: =IF(J36="demais municípios",VLOOKUP(D36,[1]apoio_Preços_MGS!$A$6:$AN$238,39,FALSE),0) -> 200 | AM36: 0 | AN36: =AK36*K36 -> 7600 | AO36: =VLOOKUP(D36,[1]apoio_Preços_MGS!$A$6:$AN$238,40,FALSE) -> 549.35 | AP36: =IF(J36="demais municípios",VLOOKUP(D36,[1]apoio_Preços_MGS!$A$6:$AN$238,40,FALSE),0) -> 549.35 | AQ36: 0 | AR36: =AO36*K36 -> 20875.3 | AS36: =AN36+AR36 -> 28475.3 | AT36: =(AN36+AR36)*60 -> 1708518
A37: =CONCATENATE(F37,H37,I37) -> 95109440,05 | B37: =CONCATENATE(D37,I37) -> 3880,05 | C37: =VLOOKUP(D37,[1]apoio_Preços_MGS!$A$6:$B$238,2,FALSE) -> AGENTE DE SERVIÇO DE PARQUE HABILITADO | D37: 388 | E37: =VLOOKUP(D37,[1]apoio_Preços_MGS!$A$6:$F$238,6,FALSE) -> AGENTE DE SERVIÇO DE PARQUE HABILITADO - DIARISTA DIURNO - 44H | F37: =IFERROR(VLOOKUP(D37,'[1]apoio_cód catmas'!$B$2:$C$863,2,FALSE),0) -> 95109 | G37: =IF(H37="N/A",VLOOKUP(F37&40,'[1]apoio_cód catmas'!$A$1:$G$233,4,FALSE),VLOOKUP(F37&H37,'[1]apoio_cód catmas'!$A$1:$G$233,4,FALSE)) -> AGENTE DE SERVICO DE PARQUE HABILITADO - 44H | H37: 44 | I37: 0.05 | J37: Belo Horizonte | K37: 39 | L37: =K37*60 -> 2340 | M37: =VLOOKUP(D37,[1]apoio_Preços_MGS!$A$6:$AN$238,18,FALSE) -> 2150.6884 | N37: =VLOOKUP(D37,[1]apoio_Preços_MGS!$A$6:$AN$238,19,FALSE) -> 0 | O37: =VLOOKUP(D37,[1]apoio_Preços_MGS!$A$6:$AN$238,20,FALSE) -> 0 | P37: =VLOOKUP(D37,[1]apoio_Preços_MGS!$A$6:$AN$238,21,FALSE) -> 0 | Q37: =VLOOKUP(D37,[1]apoio_Preços_MGS!$A$6:$AN$238,22,FALSE) -> 0 | R37: =VLOOKUP(D37,[1]apoio_Preços_MGS!$A$6:$AN$238,23,FALSE) -> 0 | S37: =VLOOKUP(D37,[1]apoio_Preços_MGS!$A$6:$AN$238,24,FALSE) -> 0 | T37: =VLOOKUP(D37,[1]apoio_Preços_MGS!$A$6:$AN$238,25,FALSE) -> 0 | U37: =SUM(M37:T37) -> 2150.6884 | V37: =VLOOKUP(D37,[1]apoio_Preços_MGS!$A$6:$AN$238,27,FALSE) -> 0.818 | W37: =U37*V37 -> 1759.2631 | X37: =VLOOKUP(D37,[1]apoio_Preços_MGS!$A$6:$AN$238,29,FALSE) -> 30.014545 | Y37: =VLOOKUP(D37,[1]apoio_Preços_MGS!$A$6:$AN$238,30,FALSE) -> 282.32043 | Z37: =Y37+X37 -> 312.33498 | AA37: =VLOOKUP(D37,[1]apoio_Preços_MGS!$A$6:$AN$238,32,FALSE) -> 4.1293217 | AB37: =VLOOKUP(D37,[1]apoio_Preços_MGS!$A$6:$AN$238,33,FALSE) -> 281.7415 | AC37: =VLOOKUP(D37,[1]apoio_Preços_MGS!$A$6:$AN$238,34,FALSE) -> 0 | AD37: =(U37+W37+Z37+AB37+AA37+VLOOKUP(C37,[1]apoio_Prec_Folha!$A:$S,7,FALSE))*AC37 -> 0 | AE37: =VLOOKUP(D37,[1]apoio_Preços_MGS!$A$6:$AN$238,36,FALSE) -> 0.07 | AF37: =(U37+W37+Z37+AB37+AD37+AA37+VLOOKUP(C37,[1]apoio_Prec_Folha!$A:$S,7,FALSE))*AE37 -> 354.02583 | AG37: =TRUNC(U37+W37+Z37+AB37+AA37+AD37+AF37,2) -> 4862.18 | AH37: =TRUNC($AG37*ROUND((7.6%+1.65%+$I37)/(1-(7.6%+1.65%+$I37)),5)+$AG37,2) -> 5670.17 | AI37: =AH37*K37 -> 221136.63 | AJ37: =AH37*L37 -> 13268198 | AK37: =VLOOKUP(D37,[1]apoio_Preços_MGS!$A$6:$AN$238,39,FALSE) -> 200 | AL37: =IF(J37="demais municípios",VLOOKUP(D37,[1]apoio_Preços_MGS!$A$6:$AN$238,39,FALSE),0) -> 0 | AM37: =TRUNC(ROUND(($I37)/(1-($I37)),5)*VLOOKUP(D37,[1]apoio_Preços_MGS!$A$6:$AN$238,39,FALSE)+VLOOKUP(D37,[1]apoio_Preços_MGS!$A$6:$AN$238,39,FALSE),2) -> 210.52 | AN37: =AM37*K37 -> 8210.28 | AO37: =VLOOKUP(D37,[1]apoio_Preços_MGS!$A$6:$AN$238,40,FALSE) -> 549.35 | AP37: =IF(J37="demais municípios",VLOOKUP(D37,[1]apoio_Preços_MGS!$A$6:$AN$238,40,FALSE),0) -> 0 | AQ37: =TRUNC(ROUND(($I37)/(1-($I37)),5)*VLOOKUP(D37,[1]apoio_Preços_MGS!$A$6:$AN$238,40,FALSE)+VLOOKUP(D37,[1]apoio_Preços_MGS!$A$6:$AN$238,40,FALSE),2) -> 578.26 | AR37: =AQ37*K37 -> 22552.14 | AS37: =AN37+AR37 -> 30762.42 | AT37: =(AN37+AR37)*60 -> 1845745.2
A38: =CONCATENATE(F38,H38,I38) -> 106380400,03 | B38: =CONCATENATE(D38,I38) -> 3340,03 | C38: =VLOOKUP(D38,[1]apoio_Preços_MGS!$A$6:$B$238,2,FALSE) -> ANALISTA ESPECIALIZADO EM CIÊNCIAS SOCIAIS APLICADAS II | D38: 334 | E38: =VLOOKUP(D38,[1]apoio_Preços_MGS!$A$6:$F$238,6,FALSE) -> ANALISTA ESPECIALIZADO EM CIÊNCIAS SOCIAIS APLICADAS II - DIARISTA DIURNO - 40H | F38: =IFERROR(VLOOKUP(D38,'[1]apoio_cód catmas'!$B$2:$C$863,2,FALSE),0) -> 106380 | G38: =IF(H38="N/A",VLOOKUP(F38&40,'[1]apoio_cód catmas'!$A$1:$G$233,4,FALSE),VLOOKUP(F38&H38,'[1]apoio_cód catmas'!$A$1:$G$233,4,FALSE)) -> ANALISTA ESPECIALIZADO EM CIENCIAS SOCIAIS APLICADAS II -30H, 36H, 40H OU 44H | H38: 40 | I38: 0.03 | J38: Demais Municípios | K38: 3 | L38: =K38*60 -> 180 | M38: =VLOOKUP(D38,[1]apoio_Preços_MGS!$A$6:$AN$238,18,FALSE) -> 4210.7494 | N38: =VLOOKUP(D38,[1]apoio_Preços_MGS!$A$6:$AN$238,19,FALSE) -> 0 | O38: =VLOOKUP(D38,[1]apoio_Preços_MGS!$A$6:$AN$238,20,FALSE) -> 0 | P38: =VLOOKUP(D38,[1]apoio_Preços_MGS!$A$6:$AN$238,21,FALSE) -> 0 | Q38: =VLOOKUP(D38,[1]apoio_Preços_MGS!$A$6:$AN$238,22,FALSE) -> 0 | R38: =VLOOKUP(D38,[1]apoio_Preços_MGS!$A$6:$AN$238,23,FALSE) -> 0 | S38: =VLOOKUP(D38,[1]apoio_Preços_MGS!$A$6:$AN$238,24,FALSE) -> 0 | T38: =VLOOKUP(D38,[1]apoio_Preços_MGS!$A$6:$AN$238,25,FALSE) -> 0 | U38: =SUM(M38:T38) -> 4210.7494 | V38: =VLOOKUP(D38,[1]apoio_Preços_MGS!$A$6:$AN$238,27,FALSE) -> 0.818 | W38: =U38*V38 -> 3444.393 | X38: =VLOOKUP(D38,[1]apoio_Preços_MGS!$A$6:$AN$238,29,FALSE) -> 0 | Y38: =VLOOKUP(D38,[1]apoio_Preços_MGS!$A$6:$AN$238,30,FALSE) -> 1.6581818 | Z38: =Y38+X38 -> 1.6581818 | AA38: =VLOOKUP(D38,[1]apoio_Preços_MGS!$A$6:$AN$238,32,FALSE) -> 8.0846388 | AB38: =VLOOKUP(D38,[1]apoio_Preços_MGS!$A$6:$AN$238,33,FALSE) -> 94.304056 | AC38: =VLOOKUP(D38,[1]apoio_Preços_MGS!$A$6:$AN$238,34,FALSE) -> 0 | AD38: =(U38+W38+Z38+AB38+AA38+VLOOKUP(C38,[1]apoio_Prec_Folha!$A:$S,7,FALSE))*AC38 -> 0 | AE38: =VLOOKUP(D38,[1]apoio_Preços_MGS!$A$6:$AN$238,36,FALSE) -> 0.07 | AF38: =(U38+W38+Z38+AB38+AD38+AA38+VLOOKUP(C38,[1]apoio_Prec_Folha!$A:$S,7,FALSE))*AE38 -> 581.75385 | AG38: =TRUNC(U38+W38+Z38+AB38+AA38+AD38+AF38,2) -> 8340.94 | AH38: =TRUNC($AG38*ROUND((7.6%+1.65%+$I38)/(1-(7.6%+1.65%+$I38)),5)+$AG38,2) -> 9505.33 | AI38: =AH38*K38 -> 28515.99 | AJ38: =AH38*L38 -> 1710959.4 | AK38: =VLOOKUP(D38,[1]apoio_Preços_MGS!$A$6:$AN$238,39,FALSE) -> 181.81818 | AL38: =IF(J38="demais municípios",VLOOKUP(D38,[1]apoio_Preços_MGS!$A$6:$AN$238,39,FALSE),0) -> 181.81818 | AM38: 0 | AN38: =AK38*K38 -> 545.45455 | AO38: =VLOOKUP(D38,[1]apoio_Preços_MGS!$A$6:$AN$238,40,FALSE) -> 551.58 | AP38: =IF(J38="demais municípios",VLOOKUP(D38,[1]apoio_Preços_MGS!$A$6:$AN$238,40,FALSE),0) -> 551.58 | AQ38: 0 | AR38: =AO38*K38 -> 1654.74 | AS38: =AN38+AR38 -> 2200.1945 | AT38: =(AN38+AR38)*60 -> 132011.67
A39: =CONCATENATE(F39,H39,I39) -> 106380400,05 | B39: =CONCATENATE(D39,I39) -> 3340,05 | C39: =VLOOKUP(D39,[1]apoio_Preços_MGS!$A$6:$B$238,2,FALSE) -> ANALISTA ESPECIALIZADO EM CIÊNCIAS SOCIAIS APLICADAS II | D39: 334 | E39: =VLOOKUP(D39,[1]apoio_Preços_MGS!$A$6:$F$238,6,FALSE) -> ANALISTA ESPECIALIZADO EM CIÊNCIAS SOCIAIS APLICADAS II - DIARISTA DIURNO - 40H | F39: =IFERROR(VLOOKUP(D39,'[1]apoio_cód catmas'!$B$2:$C$863,2,FALSE),0) -> 106380 | G39: =IF(H39="N/A",VLOOKUP(F39&40,'[1]apoio_cód catmas'!$A$1:$G$233,4,FALSE),VLOOKUP(F39&H39,'[1]apoio_cód catmas'!$A$1:$G$233,4,FALSE)) -> ANALISTA ESPECIALIZADO EM CIENCIAS SOCIAIS APLICADAS II -30H, 36H, 40H OU 44H | H39: 40 | I39: 0.05 | J39: Belo Horizonte | K39: 26 | L39: =K39*60 -> 1560 | M39: =VLOOKUP(D39,[1]apoio_Preços_MGS!$A$6:$AN$238,18,FALSE) -> 4210.7494 | N39: =VLOOKUP(D39,[1]apoio_Preços_MGS!$A$6:$AN$238,19,FALSE) -> 0 | O39: =VLOOKUP(D39,[1]apoio_Preços_MGS!$A$6:$AN$238,20,FALSE) -> 0 | P39: =VLOOKUP(D39,[1]apoio_Preços_MGS!$A$6:$AN$238,21,FALSE) -> 0 | Q39: =VLOOKUP(D39,[1]apoio_Preços_MGS!$A$6:$AN$238,22,FALSE) -> 0 | R39: =VLOOKUP(D39,[1]apoio_Preços_MGS!$A$6:$AN$238,23,FALSE) -> 0 | S39: =VLOOKUP(D39,[1]apoio_Preços_MGS!$A$6:$AN$238,24,FALSE) -> 0 | T39: =VLOOKUP(D39,[1]apoio_Preços_MGS!$A$6:$AN$238,25,FALSE) -> 0 | U39: =SUM(M39:T39) -> 4210.7494 | V39: =VLOOKUP(D39,[1]apoio_Preços_MGS!$A$6:$AN$238,27,FALSE) -> 0.818 | W39: =U39*V39 -> 3444.393 | X39: =VLOOKUP(D39,[1]apoio_Preços_MGS!$A$6:$AN$238,29,FALSE) -> 0 | Y39: =VLOOKUP(D39,[1]apoio_Preços_MGS!$A$6:$AN$238,30,FALSE) -> 1.6581818 | Z39: =Y39+X39 -> 1.6581818 | AA39: =VLOOKUP(D39,[1]apoio_Preços_MGS!$A$6:$AN$238,32,FALSE) -> 8.0846388 | AB39: =VLOOKUP(D39,[1]apoio_Preços_MGS!$A$6:$AN$238,33,FALSE) -> 94.304056 | AC39: =VLOOKUP(D39,[1]apoio_Preços_MGS!$A$6:$AN$238,34,FALSE) -> 0 | AD39: =(U39+W39+Z39+AB39+AA39+VLOOKUP(C39,[1]apoio_Prec_Folha!$A:$S,7,FALSE))*AC39 -> 0 | AE39: =VLOOKUP(D39,[1]apoio_Preços_MGS!$A$6:$AN$238,36,FALSE) -> 0.07 | AF39: =(U39+W39+Z39+AB39+AD39+AA39+VLOOKUP(C39,[1]apoio_Prec_Folha!$A:$S,7,FALSE))*AE39 -> 581.75385 | AG39: =TRUNC(U39+W39+Z39+AB39+AA39+AD39+AF39,2) -> 8340.94 | AH39: =TRUNC($AG39*ROUND((7.6%+1.65%+$I39)/(1-(7.6%+1.65%+$I39)),5)+$AG39,2) -> 9727.03 | AI39: =AH39*K39 -> 252902.78 | AJ39: =AH39*L39 -> 15174167 | AK39: =VLOOKUP(D39,[1]apoio_Preços_MGS!$A$6:$AN$238,39,FALSE) -> 181.81818 | AL39: =IF(J39="demais municípios",VLOOKUP(D39,[1]apoio_Preços_MGS!$A$6:$AN$238,39,FALSE),0) -> 0 | AM39: =TRUNC(ROUND(($I39)/(1-($I39)),5)*VLOOKUP(D39,[1]apoio_Preços_MGS!$A$6:$AN$238,39,FALSE)+VLOOKUP(D39,[1]apoio_Preços_MGS!$A$6:$AN$238,39,FALSE),2) -> 191.38 | AN39: =AM39*K39 -> 4975.88 | AO39: =VLOOKUP(D39,[1]apoio_Preços_MGS!$A$6:$AN$238,40,FALSE) -> 551.58 | AP39: =IF(J39="demais municípios",VLOOKUP(D39,[1]apoio_Preços_MGS!$A$6:$AN$238,40,FALSE),0) -> 0 | AQ39: =TRUNC(ROUND(($I39)/(1-($I39)),5)*VLOOKUP(D39,[1]apoio_Preços_MGS!$A$6:$AN$238,40,FALSE)+VLOOKUP(D39,[1]apoio_Preços_MGS!$A$6:$AN$238,40,FALSE),2) -> 580.6 | AR39: =AQ39*K39 -> 15095.6 | AS39: =AN39+AR39 -> 20071.48 | AT39: =(AN39+AR39)*60 -> 1204288.8
A40: =CONCATENATE(F40,H40,I40) -> 106399400,02 | B40: =CONCATENATE(D40,I40) -> 3260,02 | C40: =VLOOKUP(D40,[1]apoio_Preços_MGS!$A$6:$B$238,2,FALSE) -> ANALISTA ESPECIALIZADO EM INFRAESTRUTURA | D40: 326 | E40: =VLOOKUP(D40,[1]apoio_Preços_MGS!$A$6:$F$238,6,FALSE) -> ANALISTA ESPECIALIZADO EM INFRAESTRUTURA - DIARISTA DIURNO - 40H | F40: =IFERROR(VLOOKUP(D40,'[1]apoio_cód catmas'!$B$2:$C$863,2,FALSE),0) -> 106399 | G40: =IF(H40="N/A",VLOOKUP(F40&40,'[1]apoio_cód catmas'!$A$1:$G$233,4,FALSE),VLOOKUP(F40&H40,'[1]apoio_cód catmas'!$A$1:$G$233,4,FALSE)) -> ANALISTA ESPECIALIZADO EM INFRAESTRUTURA - 30H, 36H, 40H OU 44H | H40: 40 | I40: 0.02 | J40: Demais Municípios | K40: 35 | L40: =K40*60 -> 2100 | M40: =VLOOKUP(D40,[1]apoio_Preços_MGS!$A$6:$AN$238,18,FALSE) -> 12213.62 | N40: =VLOOKUP(D40,[1]apoio_Preços_MGS!$A$6:$AN$238,19,FALSE) -> 0 | O40: =VLOOKUP(D40,[1]apoio_Preços_MGS!$A$6:$AN$238,20,FALSE) -> 0 | P40: =VLOOKUP(D40,[1]apoio_Preços_MGS!$A$6:$AN$238,21,FALSE) -> 0 | Q40: =VLOOKUP(D40,[1]apoio_Preços_MGS!$A$6:$AN$238,22,FALSE) -> 0 | R40: =VLOOKUP(D40,[1]apoio_Preços_MGS!$A$6:$AN$238,23,FALSE) -> 0 | S40: =VLOOKUP(D40,[1]apoio_Preços_MGS!$A$6:$AN$238,24,FALSE) -> 0 | T40: =VLOOKUP(D40,[1]apoio_Preços_MGS!$A$6:$AN$238,25,FALSE) -> 0 | U40: =SUM(M40:T40) -> 12213.62 | V40: =VLOOKUP(D40,[1]apoio_Preços_MGS!$A$6:$AN$238,27,FALSE) -> 0.818 | W40: =U40*V40 -> 9990.7408 | X40: =VLOOKUP(D40,[1]apoio_Preços_MGS!$A$6:$AN$238,29,FALSE) -> 0 | Y40: =VLOOKUP(D40,[1]apoio_Preços_MGS!$A$6:$AN$238,30,FALSE) -> 7.5437862 | Z40: =Y40+X40 -> 7.5437862 | AA40: =VLOOKUP(D40,[1]apoio_Preços_MGS!$A$6:$AN$238,32,FALSE) -> 9.6 | AB40: =VLOOKUP(D40,[1]apoio_Preços_MGS!$A$6:$AN$238,33,FALSE) -> 0.73920863 | AC40: =VLOOKUP(D40,[1]apoio_Preços_MGS!$A$6:$AN$238,34,FALSE) -> 0 | AD40: =(U40+W40+Z40+AB40+AA40+VLOOKUP(C40,[1]apoio_Prec_Folha!$A:$S,7,FALSE))*AC40 -> 0 | AE40: =VLOOKUP(D40,[1]apoio_Preços_MGS!$A$6:$AN$238,36,FALSE) -> 0.07 | AF40: =(U40+W40+Z40+AB40+AD40+AA40+VLOOKUP(C40,[1]apoio_Prec_Folha!$A:$S,7,FALSE))*AE40 -> 1591.3341 | AG40: =TRUNC(U40+W40+Z40+AB40+AA40+AD40+AF40,2) -> 23813.57 | AH40: =TRUNC($AG40*ROUND((7.6%+1.65%+$I40)/(1-(7.6%+1.65%+$I40)),5)+$AG40,2) -> 26832.17 | AI40: =AH40*K40 -> 939125.95 | AJ40: =AH40*L40 -> 56347557 | AK40: =VLOOKUP(D40,[1]apoio_Preços_MGS!$A$6:$AN$238,39,FALSE) -> 181.81818 | AL40: =IF(J40="demais municípios",VLOOKUP(D40,[1]apoio_Preços_MGS!$A$6:$AN$238,39,FALSE),0) -> 181.81818 | AM40: 0 | AN40: =AK40*K40 -> 6363.6364 | AO40: =VLOOKUP(D40,[1]apoio_Preços_MGS!$A$6:$AN$238,40,FALSE) -> 511.1 | AP40: =IF(J40="demais municípios",VLOOKUP(D40,[1]apoio_Preços_MGS!$A$6:$AN$238,40,FALSE),0) -> 511.1 | AQ40: 0 | AR40: =AO40*K40 -> 17888.5 | AS40: =AN40+AR40 -> 24252.136 | AT40: =(AN40+AR40)*60 -> 1455128.2
A41: =CONCATENATE(F41,H41,I41) -> 106399400,03 | B41: =CONCATENATE(D41,I41) -> 3260,03 | C41: =VLOOKUP(D41,[1]apoio_Preços_MGS!$A$6:$B$238,2,FALSE) -> ANALISTA ESPECIALIZADO EM INFRAESTRUTURA | D41: 326 | E41: =VLOOKUP(D41,[1]apoio_Preços_MGS!$A$6:$F$238,6,FALSE) -> ANALISTA ESPECIALIZADO EM INFRAESTRUTURA - DIARISTA DIURNO - 40H | F41: =IFERROR(VLOOKUP(D41,'[1]apoio_cód catmas'!$B$2:$C$863,2,FALSE),0) -> 106399 | G41: =IF(H41="N/A",VLOOKUP(F41&40,'[1]apoio_cód catmas'!$A$1:$G$233,4,FALSE),VLOOKUP(F41&H41,'[1]apoio_cód catmas'!$A$1:$G$233,4,FALSE)) -> ANALISTA ESPECIALIZADO EM INFRAESTRUTURA - 30H, 36H, 40H OU 44H | H41: 40 | I41: 0.03 | J41: Demais Municípios | K41: =69-4 -> 65 | L41: =K41*60 -> 3900 | M41: =VLOOKUP(D41,[1]apoio_Preços_MGS!$A$6:$AN$238,18,FALSE) -> 12213.62 | N41: =VLOOKUP(D41,[1]apoio_Preços_MGS!$A$6:$AN$238,19,FALSE) -> 0 | O41: =VLOOKUP(D41,[1]apoio_Preços_MGS!$A$6:$AN$238,20,FALSE) -> 0 | P41: =VLOOKUP(D41,[1]apoio_Preços_MGS!$A$6:$AN$238,21,FALSE) -> 0 | Q41: =VLOOKUP(D41,[1]apoio_Preços_MGS!$A$6:$AN$238,22,FALSE) -> 0 | R41: =VLOOKUP(D41,[1]apoio_Preços_MGS!$A$6:$AN$238,23,FALSE) -> 0 | S41: =VLOOKUP(D41,[1]apoio_Preços_MGS!$A$6:$AN$238,24,FALSE) -> 0 | T41: =VLOOKUP(D41,[1]apoio_Preços_MGS!$A$6:$AN$238,25,FALSE) -> 0 | U41: =SUM(M41:T41) -> 12213.62 | V41: =VLOOKUP(D41,[1]apoio_Preços_MGS!$A$6:$AN$238,27,FALSE) -> 0.818 | W41: =U41*V41 -> 9990.7408 | X41: =VLOOKUP(D41,[1]apoio_Preços_MGS!$A$6:$AN$238,29,FALSE) -> 0 | Y41: =VLOOKUP(D41,[1]apoio_Preços_MGS!$A$6:$AN$238,30,FALSE) -> 7.5437862 | Z41: =Y41+X41 -> 7.5437862 | AA41: =VLOOKUP(D41,[1]apoio_Preços_MGS!$A$6:$AN$238,32,FALSE) -> 9.6 | AB41: =VLOOKUP(D41,[1]apoio_Preços_MGS!$A$6:$AN$238,33,FALSE) -> 0.73920863 | AC41: =VLOOKUP(D41,[1]apoio_Preços_MGS!$A$6:$AN$238,34,FALSE) -> 0 | AD41: =(U41+W41+Z41+AB41+AA41+VLOOKUP(C41,[1]apoio_Prec_Folha!$A:$S,7,FALSE))*AC41 -> 0 | AE41: =VLOOKUP(D41,[1]apoio_Preços_MGS!$A$6:$AN$238,36,FALSE) -> 0.07 | AF41: =(U41+W41+Z41+AB41+AD41+AA41+VLOOKUP(C41,[1]apoio_Prec_Folha!$A:$S,7,FALSE))*AE41 -> 1591.3341 | AG41: =TRUNC(U41+W41+Z41+AB41+AA41+AD41+AF41,2) -> 23813.57 | AH41: =TRUNC($AG41*ROUND((7.6%+1.65%+$I41)/(1-(7.6%+1.65%+$I41)),5)+$AG41,2) -> 27137.94 | AI41: =AH41*K41 -> 1763966.1 | AJ41: =AH41*L41 -> 105837966 | AK41: =VLOOKUP(D41,[1]apoio_Preços_MGS!$A$6:$AN$238,39,FALSE) -> 181.81818 | AL41: =IF(J41="demais municípios",VLOOKUP(D41,[1]apoio_Preços_MGS!$A$6:$AN$238,39,FALSE),0) -> 181.81818 | AM41: 0 | AN41: =AK41*K41 -> 11818.182 | AO41: =VLOOKUP(D41,[1]apoio_Preços_MGS!$A$6:$AN$238,40,FALSE) -> 511.1 | AP41: =IF(J41="demais municípios",VLOOKUP(D41,[1]apoio_Preços_MGS!$A$6:$AN$238,40,FALSE),0) -> 511.1 | AQ41: 0 | AR41: =AO41*K41 -> 33221.5 | AS41: =AN41+AR41 -> 45039.682 | AT41: =(AN41+AR41)*60 -> 2702380.9
A42: =CONCATENATE(F42,H42,I42) -> 106399400,035 | B42: =CONCATENATE(D42,I42) -> 3260,035 | C42: =VLOOKUP(D42,[1]apoio_Preços_MGS!$A$6:$B$238,2,FALSE) -> ANALISTA ESPECIALIZADO EM INFRAESTRUTURA | D42: 326 | E42: =VLOOKUP(D42,[1]apoio_Preços_MGS!$A$6:$F$238,6,FALSE) -> ANALISTA ESPECIALIZADO EM INFRAESTRUTURA - DIARISTA DIURNO - 40H | F42: =IFERROR(VLOOKUP(D42,'[1]apoio_cód catmas'!$B$2:$C$863,2,FALSE),0) -> 106399 | G42: =IF(H42="N/A",VLOOKUP(F42&40,'[1]apoio_cód catmas'!$A$1:$G$233,4,FALSE),VLOOKUP(F42&H42,'[1]apoio_cód catmas'!$A$1:$G$233,4,FALSE)) -> ANALISTA ESPECIALIZADO EM INFRAESTRUTURA - 30H, 36H, 40H OU 44H | H42: 40 | I42: 0.035 | J42: Demais Municípios | K42: 9 | L42: =K42*60 -> 540 | M42: =VLOOKUP(D42,[1]apoio_Preços_MGS!$A$6:$AN$238,18,FALSE) -> 12213.62 | N42: =VLOOKUP(D42,[1]apoio_Preços_MGS!$A$6:$AN$238,19,FALSE) -> 0 | O42: =VLOOKUP(D42,[1]apoio_Preços_MGS!$A$6:$AN$238,20,FALSE) -> 0 | P42: =VLOOKUP(D42,[1]apoio_Preços_MGS!$A$6:$AN$238,21,FALSE) -> 0 | Q42: =VLOOKUP(D42,[1]apoio_Preços_MGS!$A$6:$AN$238,22,FALSE) -> 0 | R42: =VLOOKUP(D42,[1]apoio_Preços_MGS!$A$6:$AN$238,23,FALSE) -> 0 | S42: =VLOOKUP(D42,[1]apoio_Preços_MGS!$A$6:$AN$238,24,FALSE) -> 0 | T42: =VLOOKUP(D42,[1]apoio_Preços_MGS!$A$6:$AN$238,25,FALSE) -> 0 | U42: =SUM(M42:T42) -> 12213.62 | V42: =VLOOKUP(D42,[1]apoio_Preços_MGS!$A$6:$AN$238,27,FALSE) -> 0.818 | W42: =U42*V42 -> 9990.7408 | X42: =VLOOKUP(D42,[1]apoio_Preços_MGS!$A$6:$AN$238,29,FALSE) -> 0 | Y42: =VLOOKUP(D42,[1]apoio_Preços_MGS!$A$6:$AN$238,30,FALSE) -> 7.5437862 | Z42: =Y42+X42 -> 7.5437862 | AA42: =VLOOKUP(D42,[1]apoio_Preços_MGS!$A$6:$AN$238,32,FALSE) -> 9.6 | AB42: =VLOOKUP(D42,[1]apoio_Preços_MGS!$A$6:$AN$238,33,FALSE) -> 0.73920863 | AC42: =VLOOKUP(D42,[1]apoio_Preços_MGS!$A$6:$AN$238,34,FALSE) -> 0 | AD42: =(U42+W42+Z42+AB42+AA42+VLOOKUP(C42,[1]apoio_Prec_Folha!$A:$S,7,FALSE))*AC42 -> 0 | AE42: =VLOOKUP(D42,[1]apoio_Preços_MGS!$A$6:$AN$238,36,FALSE) -> 0.07 | AF42: =(U42+W42+Z42+AB42+AD42+AA42+VLOOKUP(C42,[1]apoio_Prec_Folha!$A:$S,7,FALSE))*AE42 -> 1591.3341 | AG42: =TRUNC(U42+W42+Z42+AB42+AA42+AD42+AF42,2) -> 23813.57 | AH42: =TRUNC($AG42*ROUND((7.6%+1.65%+$I42)/(1-(7.6%+1.65%+$I42)),5)+$AG42,2) -> 27293.44 | AI42: =AH42*K42 -> 245640.96 | AJ42: =AH42*L42 -> 14738458 | AK42: =VLOOKUP(D42,[1]apoio_Preços_MGS!$A$6:$AN$238,39,FALSE) -> 181.81818 | AL42: =IF(J42="demais municípios",VLOOKUP(D42,[1]apoio_Preços_MGS!$A$6:$AN$238,39,FALSE),0) -> 181.81818 | AM42: 0 | AN42: =AK42*K42 -> 1636.3636 | AO42: =VLOOKUP(D42,[1]apoio_Preços_MGS!$A$6:$AN$238,40,FALSE) -> 511.1 | AP42: =IF(J42="demais municípios",VLOOKUP(D42,[1]apoio_Preços_MGS!$A$6:$AN$238,40,FALSE),0) -> 511.1 | AQ42: 0 | AR42: =AO42*K42 -> 4599.9 | AS42: =AN42+AR42 -> 6236.2636 | AT42: =(AN42+AR42)*60 -> 374175.82
A43: =CONCATENATE(F43,H43,I43) -> 106399400,04 | B43: =CONCATENATE(D43,I43) -> 3260,04 | C43: =VLOOKUP(D43,[1]apoio_Preços_MGS!$A$6:$B$238,2,FALSE) -> ANALISTA ESPECIALIZADO EM INFRAESTRUTURA | D43: 326 | E43: =VLOOKUP(D43,[1]apoio_Preços_MGS!$A$6:$F$238,6,FALSE) -> ANALISTA ESPECIALIZADO EM INFRAESTRUTURA - DIARISTA DIURNO - 40H | F43: =IFERROR(VLOOKUP(D43,'[1]apoio_cód catmas'!$B$2:$C$863,2,FALSE),0) -> 106399 | G43: =IF(H43="N/A",VLOOKUP(F43&40,'[1]apoio_cód catmas'!$A$1:$G$233,4,FALSE),VLOOKUP(F43&H43,'[1]apoio_cód catmas'!$A$1:$G$233,4,FALSE)) -> ANALISTA ESPECIALIZADO EM INFRAESTRUTURA - 30H, 36H, 40H OU 44H | H43: 40 | I43: 0.04 | J43: Demais Municípios | K43: 15 | L43: =K43*60 -> 900 | M43: =VLOOKUP(D43,[1]apoio_Preços_MGS!$A$6:$AN$238,18,FALSE) -> 12213.62 | N43: =VLOOKUP(D43,[1]apoio_Preços_MGS!$A$6:$AN$238,19,FALSE) -> 0 | O43: =VLOOKUP(D43,[1]apoio_Preços_MGS!$A$6:$AN$238,20,FALSE) -> 0 | P43: =VLOOKUP(D43,[1]apoio_Preços_MGS!$A$6:$AN$238,21,FALSE) -> 0 | Q43: =VLOOKUP(D43,[1]apoio_Preços_MGS!$A$6:$AN$238,22,FALSE) -> 0 | R43: =VLOOKUP(D43,[1]apoio_Preços_MGS!$A$6:$AN$238,23,FALSE) -> 0 | S43: =VLOOKUP(D43,[1]apoio_Preços_MGS!$A$6:$AN$238,24,FALSE) -> 0 | T43: =VLOOKUP(D43,[1]apoio_Preços_MGS!$A$6:$AN$238,25,FALSE) -> 0 | U43: =SUM(M43:T43) -> 12213.62 | V43: =VLOOKUP(D43,[1]apoio_Preços_MGS!$A$6:$AN$238,27,FALSE) -> 0.818 | W43: =U43*V43 -> 9990.7408 | X43: =VLOOKUP(D43,[1]apoio_Preços_MGS!$A$6:$AN$238,29,FALSE) -> 0 | Y43: =VLOOKUP(D43,[1]apoio_Preços_MGS!$A$6:$AN$238,30,FALSE) -> 7.5437862 | Z43: =Y43+X43 -> 7.5437862 | AA43: =VLOOKUP(D43,[1]apoio_Preços_MGS!$A$6:$AN$238,32,FALSE) -> 9.6 | AB43: =VLOOKUP(D43,[1]apoio_Preços_MGS!$A$6:$AN$238,33,FALSE) -> 0.73920863 | AC43: =VLOOKUP(D43,[1]apoio_Preços_MGS!$A$6:$AN$238,34,FALSE) -> 0 | AD43: =(U43+W43+Z43+AB43+AA43+VLOOKUP(C43,[1]apoio_Prec_Folha!$A:$S,7,FALSE))*AC43 -> 0 | AE43: =VLOOKUP(D43,[1]apoio_Preços_MGS!$A$6:$AN$238,36,FALSE) -> 0.07 | AF43: =(U43+W43+Z43+AB43+AD43+AA43+VLOOKUP(C43,[1]apoio_Prec_Folha!$A:$S,7,FALSE))*AE43 -> 1591.3341 | AG43: =TRUNC(U43+W43+Z43+AB43+AA43+AD43+AF43,2) -> 23813.57 | AH43: =TRUNC($AG43*ROUND((7.6%+1.65%+$I43)/(1-(7.6%+1.65%+$I43)),5)+$AG43,2) -> 27450.85 | AI43: =AH43*K43 -> 411762.75 | AJ43: =AH43*L43 -> 24705765 | AK43: =VLOOKUP(D43,[1]apoio_Preços_MGS!$A$6:$AN$238,39,FALSE) -> 181.81818 | AL43: =IF(J43="demais municípios",VLOOKUP(D43,[1]apoio_Preços_MGS!$A$6:$AN$238,39,FALSE),0) -> 181.81818 | AM43: 0 | AN43: =AK43*K43 -> 2727.2727 | AO43: =VLOOKUP(D43,[1]apoio_Preços_MGS!$A$6:$AN$238,40,FALSE) -> 511.1 | AP43: =IF(J43="demais municípios",VLOOKUP(D43,[1]apoio_Preços_MGS!$A$6:$AN$238,40,FALSE),0) -> 511.1 | AQ43: 0 | AR43: =AO43*K43 -> 7666.5 | AS43: =AN43+AR43 -> 10393.773 | AT43: =(AN43+AR43)*60 -> 623626.36
A44: =CONCATENATE(F44,H44,I44) -> 106399400,05 | B44: =CONCATENATE(D44,I44) -> 3260,05 | C44: =VLOOKUP(D44,[1]apoio_Preços_MGS!$A$6:$B$238,2,FALSE) -> ANALISTA ESPECIALIZADO EM INFRAESTRUTURA | D44: 326 | E44: =VLOOKUP(D44,[1]apoio_Preços_MGS!$A$6:$F$238,6,FALSE) -> ANALISTA ESPECIALIZADO EM INFRAESTRUTURA - DIARISTA DIURNO - 40H | F44: =IFERROR(VLOOKUP(D44,'[1]apoio_cód catmas'!$B$2:$C$863,2,FALSE),0) -> 106399 | G44: =IF(H44="N/A",VLOOKUP(F44&40,'[1]apoio_cód catmas'!$A$1:$G$233,4,FALSE),VLOOKUP(F44&H44,'[1]apoio_cód catmas'!$A$1:$G$233,4,FALSE)) -> ANALISTA ESPECIALIZADO EM INFRAESTRUTURA - 30H, 36H, 40H OU 44H | H44: 40 | I44: 0.05 | J44: Demais Municípios | K44: 4 | L44: =K44*56 -> 224 | M44: =VLOOKUP(D44,[1]apoio_Preços_MGS!$A$6:$AN$238,18,FALSE) -> 12213.62 | N44: =VLOOKUP(D44,[1]apoio_Preços_MGS!$A$6:$AN$238,19,FALSE) -> 0 | O44: =VLOOKUP(D44,[1]apoio_Preços_MGS!$A$6:$AN$238,20,FALSE) -> 0 | P44: =VLOOKUP(D44,[1]apoio_Preços_MGS!$A$6:$AN$238,21,FALSE) -> 0 | Q44: =VLOOKUP(D44,[1]apoio_Preços_MGS!$A$6:$AN$238,22,FALSE) -> 0 | R44: =VLOOKUP(D44,[1]apoio_Preços_MGS!$A$6:$AN$238,23,FALSE) -> 0 | S44: =VLOOKUP(D44,[1]apoio_Preços_MGS!$A$6:$AN$238,24,FALSE) -> 0 | T44: =VLOOKUP(D44,[1]apoio_Preços_MGS!$A$6:$AN$238,25,FALSE) -> 0 | U44: =SUM(M44:T44) -> 12213.62 | V44: =VLOOKUP(D44,[1]apoio_Preços_MGS!$A$6:$AN$238,27,FALSE) -> 0.818 | W44: =U44*V44 -> 9990.7408 | X44: =VLOOKUP(D44,[1]apoio_Preços_MGS!$A$6:$AN$238,29,FALSE) -> 0 | Y44: =VLOOKUP(D44,[1]apoio_Preços_MGS!$A$6:$AN$238,30,FALSE) -> 7.5437862 | Z44: =Y44+X44 -> 7.5437862 | AA44: =VLOOKUP(D44,[1]apoio_Preços_MGS!$A$6:$AN$238,32,FALSE) -> 9.6 | AB44: =VLOOKUP(D44,[1]apoio_Preços_MGS!$A$6:$AN$238,33,FALSE) -> 0.73920863 | AC44: =VLOOKUP(D44,[1]apoio_Preços_MGS!$A$6:$AN$238,34,FALSE) -> 0 | AD44: =(U44+W44+Z44+AB44+AA44+VLOOKUP(C44,[1]apoio_Prec_Folha!$A:$S,7,FALSE))*AC44 -> 0 | AE44: =VLOOKUP(D44,[1]apoio_Preços_MGS!$A$6:$AN$238,36,FALSE) -> 0.07 | AF44: =(U44+W44+Z44+AB44+AD44+AA44+VLOOKUP(C44,[1]apoio_Prec_Folha!$A:$S,7,FALSE))*AE44 -> 1591.3341 | AG44: =TRUNC(U44+W44+Z44+AB44+AA44+AD44+AF44,2) -> 23813.57 | AH44: =TRUNC($AG44*ROUND((7.6%+1.65%+$I44)/(1-(7.6%+1.65%+$I44)),5)+$AG44,2) -> 27770.9 | AI44: =AH44*K44 -> 111083.6 | AJ44: =AH44*L44 -> 6220681.6 | AK44: =VLOOKUP(D44,[1]apoio_Preços_MGS!$A$6:$AN$238,39,FALSE) -> 181.81818 | AL44: =IF(J44="demais municípios",VLOOKUP(D44,[1]apoio_Preços_MGS!$A$6:$AN$238,39,FALSE),0) -> 181.81818 | AM44: 0 | AN44: =AK44*K44 -> 727.27273 | AO44: =VLOOKUP(D44,[1]apoio_Preços_MGS!$A$6:$AN$238,40,FALSE) -> 511.1 | AP44: =IF(J44="demais municípios",VLOOKUP(D44,[1]apoio_Preços_MGS!$A$6:$AN$238,40,FALSE),0) -> 511.1 | AQ44: 0 | AR44: =AO44*K44 -> 2044.4 | AS44: =AN44+AR44 -> 2771.6727 | AT44: =(AN44+AR44)*60 -> 166300.36
A45: =CONCATENATE(F45,H45,I45) -> 106399400,05 | B45: =CONCATENATE(D45,I45) -> 3260,05 | C45: =VLOOKUP(D45,[1]apoio_Preços_MGS!$A$6:$B$238,2,FALSE) -> ANALISTA ESPECIALIZADO EM INFRAESTRUTURA | D45: 326 | E45: =VLOOKUP(D45,[1]apoio_Preços_MGS!$A$6:$F$238,6,FALSE) -> ANALISTA ESPECIALIZADO EM INFRAESTRUTURA - DIARISTA DIURNO - 40H | F45: =IFERROR(VLOOKUP(D45,'[1]apoio_cód catmas'!$B$2:$C$863,2,FALSE),0) -> 106399 | G45: =IF(H45="N/A",VLOOKUP(F45&40,'[1]apoio_cód catmas'!$A$1:$G$233,4,FALSE),VLOOKUP(F45&H45,'[1]apoio_cód catmas'!$A$1:$G$233,4,FALSE)) -> ANALISTA ESPECIALIZADO EM INFRAESTRUTURA - 30H, 36H, 40H OU 44H | H45: 40 | I45: 0.05 | J45: Demais Municípios | K45: =356-K46 -> 15 | L45: =K45*60 -> 900 | M45: =VLOOKUP(D45,[1]apoio_Preços_MGS!$A$6:$AN$238,18,FALSE) -> 12213.62 | N45: =VLOOKUP(D45,[1]apoio_Preços_MGS!$A$6:$AN$238,19,FALSE) -> 0 | O45: =VLOOKUP(D45,[1]apoio_Preços_MGS!$A$6:$AN$238,20,FALSE) -> 0 | P45: =VLOOKUP(D45,[1]apoio_Preços_MGS!$A$6:$AN$238,21,FALSE) -> 0 | Q45: =VLOOKUP(D45,[1]apoio_Preços_MGS!$A$6:$AN$238,22,FALSE) -> 0 | R45: =VLOOKUP(D45,[1]apoio_Preços_MGS!$A$6:$AN$238,23,FALSE) -> 0 | S45: =VLOOKUP(D45,[1]apoio_Preços_MGS!$A$6:$AN$238,24,FALSE) -> 0 | T45: =VLOOKUP(D45,[1]apoio_Preços_MGS!$A$6:$AN$238,25,FALSE) -> 0 | U45: =SUM(M45:T45) -> 12213.62 | V45: =VLOOKUP(D45,[1]apoio_Preços_MGS!$A$6:$AN$238,27,FALSE) -> 0.818 | W45: =U45*V45 -> 9990.7408 | X45: =VLOOKUP(D45,[1]apoio_Preços_MGS!$A$6:$AN$238,29,FALSE) -> 0 | Y45: =VLOOKUP(D45,[1]apoio_Preços_MGS!$A$6:$AN$238,30,FALSE) -> 7.5437862 | Z45: =Y45+X45 -> 7.5437862 | AA45: =VLOOKUP(D45,[1]apoio_Preços_MGS!$A$6:$AN$238,32,FALSE) -> 9.6 | AB45: =VLOOKUP(D45,[1]apoio_Preços_MGS!$A$6:$AN$238,33,FALSE) -> 0.73920863 | AC45: =VLOOKUP(D45,[1]apoio_Preços_MGS!$A$6:$AN$238,34,FALSE) -> 0 | AD45: =(U45+W45+Z45+AB45+AA45+VLOOKUP(C45,[1]apoio_Prec_Folha!$A:$S,7,FALSE))*AC45 -> 0 | AE45: =VLOOKUP(D45,[1]apoio_Preços_MGS!$A$6:$AN$238,36,FALSE) -> 0.07 | AF45: =(U45+W45+Z45+AB45+AD45+AA45+VLOOKUP(C45,[1]apoio_Prec_Folha!$A:$S,7,FALSE))*AE45 -> 1591.3341 | AG45: =TRUNC(U45+W45+Z45+AB45+AA45+AD45+AF45,2) -> 23813.57 | AH45: =TRUNC($AG45*ROUND((7.6%+1.65%+$I45)/(1-(7.6%+1.65%+$I45)),5)+$AG45,2) -> 27770.9 | AI45: =AH45*K45 -> 416563.5 | AJ45: =AH45*L45 -> 24993810 | AK45: =VLOOKUP(D45,[1]apoio_Preços_MGS!$A$6:$AN$238,39,FALSE) -> 181.81818 | AL45: =IF(J45="demais municípios",VLOOKUP(D45,[1]apoio_Preços_MGS!$A$6:$AN$238,39,FALSE),0) -> 181.81818 | AM45: 0 | AN45: =AK45*K45 -> 2727.2727 | AO45: =VLOOKUP(D45,[1]apoio_Preços_MGS!$A$6:$AN$238,40,FALSE) -> 511.1 | AP45: =IF(J45="demais municípios",VLOOKUP(D45,[1]apoio_Preços_MGS!$A$6:$AN$238,40,FALSE),0) -> 511.1 | AQ45: 0 | AR45: =AO45*K45 -> 7666.5 | AS45: =AN45+AR45 -> 10393.773 | AT45: =(AN45+AR45)*60 -> 623626.36
A46: =CONCATENATE(F46,H46,I46) -> 106399400,05 | B46: =CONCATENATE(D46,I46) -> 3260,05 | C46: =VLOOKUP(D46,[1]apoio_Preços_MGS!$A$6:$B$238,2,FALSE) -> ANALISTA ESPECIALIZADO EM INFRAESTRUTURA | D46: 326 | E46: =VLOOKUP(D46,[1]apoio_Preços_MGS!$A$6:$F$238,6,FALSE) -> ANALISTA ESPECIALIZADO EM INFRAESTRUTURA - DIARISTA DIURNO - 40H | F46: =IFERROR(VLOOKUP(D46,'[1]apoio_cód catmas'!$B$2:$C$863,2,FALSE),0) -> 106399 | G46: =IF(H46="N/A",VLOOKUP(F46&40,'[1]apoio_cód catmas'!$A$1:$G$233,4,FALSE),VLOOKUP(F46&H46,'[1]apoio_cód catmas'!$A$1:$G$233,4,FALSE)) -> ANALISTA ESPECIALIZADO EM INFRAESTRUTURA - 30H, 36H, 40H OU 44H | H46: 40 | I46: 0.05 | J46: Belo Horizonte | K46: 341 | L46: =K46*60 -> 20460 | M46: =VLOOKUP(D46,[1]apoio_Preços_MGS!$A$6:$AN$238,18,FALSE) -> 12213.62 | N46: =VLOOKUP(D46,[1]apoio_Preços_MGS!$A$6:$AN$238,19,FALSE) -> 0 | O46: =VLOOKUP(D46,[1]apoio_Preços_MGS!$A$6:$AN$238,20,FALSE) -> 0 | P46: =VLOOKUP(D46,[1]apoio_Preços_MGS!$A$6:$AN$238,21,FALSE) -> 0 | Q46: =VLOOKUP(D46,[1]apoio_Preços_MGS!$A$6:$AN$238,22,FALSE) -> 0 | R46: =VLOOKUP(D46,[1]apoio_Preços_MGS!$A$6:$AN$238,23,FALSE) -> 0 | S46: =VLOOKUP(D46,[1]apoio_Preços_MGS!$A$6:$AN$238,24,FALSE) -> 0 | T46: =VLOOKUP(D46,[1]apoio_Preços_MGS!$A$6:$AN$238,25,FALSE) -> 0 | U46: =SUM(M46:T46) -> 12213.62 | V46: =VLOOKUP(D46,[1]apoio_Preços_MGS!$A$6:$AN$238,27,FALSE) -> 0.818 | W46: =U46*V46 -> 9990.7408 | X46: =VLOOKUP(D46,[1]apoio_Preços_MGS!$A$6:$AN$238,29,FALSE) -> 0 | Y46: =VLOOKUP(D46,[1]apoio_Preços_MGS!$A$6:$AN$238,30,FALSE) -> 7.5437862 | Z46: =Y46+X46 -> 7.5437862 | AA46: =VLOOKUP(D46,[1]apoio_Preços_MGS!$A$6:$AN$238,32,FALSE) -> 9.6 | AB46: =VLOOKUP(D46,[1]apoio_Preços_MGS!$A$6:$AN$238,33,FALSE) -> 0.73920863 | AC46: =VLOOKUP(D46,[1]apoio_Preços_MGS!$A$6:$AN$238,34,FALSE) -> 0 | AD46: =(U46+W46+Z46+AB46+AA46+VLOOKUP(C46,[1]apoio_Prec_Folha!$A:$S,7,FALSE))*AC46 -> 0 | AE46: =VLOOKUP(D46,[1]apoio_Preços_MGS!$A$6:$AN$238,36,FALSE) -> 0.07 | AF46: =(U46+W46+Z46+AB46+AD46+AA46+VLOOKUP(C46,[1]apoio_Prec_Folha!$A:$S,7,FALSE))*AE46 -> 1591.3341 | AG46: =TRUNC(U46+W46+Z46+AB46+AA46+AD46+AF46,2) -> 23813.57 | AH46: =TRUNC($AG46*ROUND((7.6%+1.65%+$I46)/(1-(7.6%+1.65%+$I46)),5)+$AG46,2) -> 27770.9 | AI46: =AH46*K46 -> 9469876.9 | AJ46: =AH46*L46 -> 568192614 | AK46: =VLOOKUP(D46,[1]apoio_Preços_MGS!$A$6:$AN$238,39,FALSE) -> 181.81818 | AL46: =IF(J46="demais municípios",VLOOKUP(D46,[1]apoio_Preços_MGS!$A$6:$AN$238,39,FALSE),0) -> 0 | AM46: 0 | AN46: =AM46*K46 -> 0 | AO46: =VLOOKUP(D46,[1]apoio_Preços_MGS!$A$6:$AN$238,40,FALSE) -> 511.1 | AP46: =IF(J46="demais municípios",VLOOKUP(D46,[1]apoio_Preços_MGS!$A$6:$AN$238,40,FALSE),0) -> 0 | AQ46: =TRUNC(ROUND(($I46)/(1-($I46)),5)*VLOOKUP(D46,[1]apoio_Preços_MGS!$A$6:$AN$238,40,FALSE)+VLOOKUP(D46,[1]apoio_Preços_MGS!$A$6:$AN$238,40,FALSE),2) -> 537.99 | AR46: =AQ46*K46 -> 183454.59 | AS46: =AN46+AR46 -> 183454.59 | AT46: =(AN46+AR46)*60 -> 11007275
A47: =CONCATENATE(F47,H47,I47) -> 106399440,05 | B47: =CONCATENATE(D47,I47) -> 3270,05 | C47: =VLOOKUP(D47,[1]apoio_Preços_MGS!$A$6:$B$238,2,FALSE) -> ANALISTA ESPECIALIZADO EM INFRAESTRUTURA | D47: 327 | E47: =VLOOKUP(D47,[1]apoio_Preços_MGS!$A$6:$F$238,6,FALSE) -> ANALISTA ESPECIALIZADO EM INFRAESTRUTURA - DIARISTA DIURNO - 44H | F47: =IFERROR(VLOOKUP(D47,'[1]apoio_cód catmas'!$B$2:$C$863,2,FALSE),0) -> 106399 | G47: =IF(H47="N/A",VLOOKUP(F47&40,'[1]apoio_cód catmas'!$A$1:$G$233,4,FALSE),VLOOKUP(F47&H47,'[1]apoio_cód catmas'!$A$1:$G$233,4,FALSE)) -> ANALISTA ESPECIALIZADO EM INFRAESTRUTURA - 30H, 36H, 40H OU 44H | H47: 44 | I47: 0.05 | J47: Belo Horizonte | K47: 2 | L47: =K47*60 -> 120 | M47: =VLOOKUP(D47,[1]apoio_Preços_MGS!$A$6:$AN$238,18,FALSE) -> 12213.62 | N47: =VLOOKUP(D47,[1]apoio_Preços_MGS!$A$6:$AN$238,19,FALSE) -> 0 | O47: =VLOOKUP(D47,[1]apoio_Preços_MGS!$A$6:$AN$238,20,FALSE) -> 0 | P47: =VLOOKUP(D47,[1]apoio_Preços_MGS!$A$6:$AN$238,21,FALSE) -> 0 | Q47: =VLOOKUP(D47,[1]apoio_Preços_MGS!$A$6:$AN$238,22,FALSE) -> 0 | R47: =VLOOKUP(D47,[1]apoio_Preços_MGS!$A$6:$AN$238,23,FALSE) -> 0 | S47: =VLOOKUP(D47,[1]apoio_Preços_MGS!$A$6:$AN$238,24,FALSE) -> 0 | T47: =VLOOKUP(D47,[1]apoio_Preços_MGS!$A$6:$AN$238,25,FALSE) -> 0 | U47: =SUM(M47:T47) -> 12213.62 | V47: =VLOOKUP(D47,[1]apoio_Preços_MGS!$A$6:$AN$238,27,FALSE) -> 0.818 | W47: =U47*V47 -> 9990.7408 | X47: =VLOOKUP(D47,[1]apoio_Preços_MGS!$A$6:$AN$238,29,FALSE) -> 0 | Y47: =VLOOKUP(D47,[1]apoio_Preços_MGS!$A$6:$AN$238,30,FALSE) -> 7.5437862 | Z47: =Y47+X47 -> 7.5437862 | AA47: =VLOOKUP(D47,[1]apoio_Preços_MGS!$A$6:$AN$238,32,FALSE) -> 9.6 | AB47: =VLOOKUP(D47,[1]apoio_Preços_MGS!$A$6:$AN$238,33,FALSE) -> 0.010683453 | AC47: =VLOOKUP(D47,[1]apoio_Preços_MGS!$A$6:$AN$238,34,FALSE) -> 0 | AD47: =(U47+W47+Z47+AB47+AA47+VLOOKUP(C47,[1]apoio_Prec_Folha!$A:$S,7,FALSE))*AC47 -> 0 | AE47: =VLOOKUP(D47,[1]apoio_Preços_MGS!$A$6:$AN$238,36,FALSE) -> 0.07 | AF47: =(U47+W47+Z47+AB47+AD47+AA47+VLOOKUP(C47,[1]apoio_Prec_Folha!$A:$S,7,FALSE))*AE47 -> 1591.2831 | AG47: =TRUNC(U47+W47+Z47+AB47+AA47+AD47+AF47,2) -> 23812.79 | AH47: =TRUNC($AG47*ROUND((7.6%+1.65%+$I47)/(1-(7.6%+1.65%+$I47)),5)+$AG47,2) -> 27769.99 | AI47: =AH47*K47 -> 55539.98 | AJ47: =AH47*L47 -> 3332398.8 | AK47: =VLOOKUP(D47,[1]apoio_Preços_MGS!$A$6:$AN$238,39,FALSE) -> 200 | AL47: =IF(J47="demais municípios",VLOOKUP(D47,[1]apoio_Preços_MGS!$A$6:$AN$238,39,FALSE),0) -> 0 | AM47: 0 | AN47: =AM47*K47 -> 0 | AO47: =VLOOKUP(D47,[1]apoio_Preços_MGS!$A$6:$AN$238,40,FALSE) -> 511.1 | AP47: =IF(J47="demais municípios",VLOOKUP(D47,[1]apoio_Preços_MGS!$A$6:$AN$238,40,FALSE),0) -> 0 | AQ47: =TRUNC(ROUND(($I47)/(1-($I47)),5)*VLOOKUP(D47,[1]apoio_Preços_MGS!$A$6:$AN$238,40,FALSE)+VLOOKUP(D47,[1]apoio_Preços_MGS!$A$6:$AN$238,40,FALSE),2) -> 537.99 | AR47: =AQ47*K47 -> 1075.98 | AS47: =AN47+AR47 -> 1075.98 | AT47: =(AN47+AR47)*60 -> 64558.8
A48: =CONCATENATE(F48,H48,I48) -> 106402440,05 | B48: =CONCATENATE(D48,I48) -> 4090,05 | C48: =VLOOKUP(D48,[1]apoio_Preços_MGS!$A$6:$B$238,2,FALSE) -> ANALISTA ESPECIALIZADO EM CIÊNCIAS EXATAS E DA TERRA I | D48: 409 | E48: =VLOOKUP(D48,[1]apoio_Preços_MGS!$A$6:$F$238,6,FALSE) -> ANALISTA ESPECIALIZADO EM CIÊNCIAS EXATAS E DA TERRA I (EXCLUSIVO SEJUSP) - 12x36 DIURNO - 44H | F48: =IFERROR(VLOOKUP(D48,'[1]apoio_cód catmas'!$B$2:$C$863,2,FALSE),0) -> 106402 | G48: =IF(H48="N/A",VLOOKUP(F48&40,'[1]apoio_cód catmas'!$A$1:$G$233,4,FALSE),VLOOKUP(F48&H48,'[1]apoio_cód catmas'!$A$1:$G$233,4,FALSE)) -> ANALISTA ESPECIALIZADO EM CIENCIAS EXATAS E DA TERRA I - 12X36 DIURNO - (EXCLUSIVO SEJUSP) - 44H | H48: 44 | I48: 0.05 | J48: Belo Horizonte | K48: 6 | L48: =K48*60 -> 360 | M48: =VLOOKUP(D48,[1]apoio_Preços_MGS!$A$6:$AN$238,18,FALSE) -> 5698.5268 | N48: =VLOOKUP(D48,[1]apoio_Preços_MGS!$A$6:$AN$238,19,FALSE) -> 0 | O48: =VLOOKUP(D48,[1]apoio_Preços_MGS!$A$6:$AN$238,20,FALSE) -> 0 | P48: =VLOOKUP(D48,[1]apoio_Preços_MGS!$A$6:$AN$238,21,FALSE) -> 0 | Q48: =VLOOKUP(D48,[1]apoio_Preços_MGS!$A$6:$AN$238,22,FALSE) -> 0 | R48: =VLOOKUP(D48,[1]apoio_Preços_MGS!$A$6:$AN$238,23,FALSE) -> 0 | S48: =VLOOKUP(D48,[1]apoio_Preços_MGS!$A$6:$AN$238,24,FALSE) -> 0 | T48: =VLOOKUP(D48,[1]apoio_Preços_MGS!$A$6:$AN$238,25,FALSE) -> 7.9146205 | U48: =SUM(M48:T48) -> 5706.4414 | V48: =VLOOKUP(D48,[1]apoio_Preços_MGS!$A$6:$AN$238,27,FALSE) -> 0.818 | W48: =U48*V48 -> 4667.8691 | X48: =VLOOKUP(D48,[1]apoio_Preços_MGS!$A$6:$AN$238,29,FALSE) -> 0 | Y48: =VLOOKUP(D48,[1]apoio_Preços_MGS!$A$6:$AN$238,30,FALSE) -> 0 | Z48: =Y48+X48 -> 0 | AA48: =VLOOKUP(D48,[1]apoio_Preços_MGS!$A$6:$AN$238,32,FALSE) -> 9.6 | AB48: =VLOOKUP(D48,[1]apoio_Preços_MGS!$A$6:$AN$238,33,FALSE) -> 42.051344 | AC48: =VLOOKUP(D48,[1]apoio_Preços_MGS!$A$6:$AN$238,34,FALSE) -> 0 | AD48: =(U48+W48+Z48+AB48+AA48+VLOOKUP(C48,[1]apoio_Prec_Folha!$A:$S,7,FALSE))*AC48 -> 0 | AE48: =VLOOKUP(D48,[1]apoio_Preços_MGS!$A$6:$AN$238,36,FALSE) -> 0.07 | AF48: =(U48+W48+Z48+AB48+AD48+AA48+VLOOKUP(C48,[1]apoio_Prec_Folha!$A:$S,7,FALSE))*AE48 -> 767.76047 | AG48: =TRUNC(U48+W48+Z48+AB48+AA48+AD48+AF48,2) -> 11193.72 | AH48: =TRUNC($AG48*ROUND((7.6%+1.65%+$I48)/(1-(7.6%+1.65%+$I48)),5)+$AG48,2) -> 13053.89 | AI48: =AH48*K48 -> 78323.34 | AJ48: =AH48*L48 -> 4699400.4 | AK48: =VLOOKUP(D48,[1]apoio_Preços_MGS!$A$6:$AN$238,39,FALSE) -> 200 | AL48: =IF(J48="demais municípios",VLOOKUP(D48,[1]apoio_Preços_MGS!$A$6:$AN$238,39,FALSE),0) -> 0 | AM48: 0 | AN48: =AM48*K48 -> 0 | AO48: =VLOOKUP(D48,[1]apoio_Preços_MGS!$A$6:$AN$238,40,FALSE) -> 542.04 | AP48: =IF(J48="demais municípios",VLOOKUP(D48,[1]apoio_Preços_MGS!$A$6:$AN$238,40,FALSE),0) -> 0 | AQ48: =TRUNC(ROUND(($I48)/(1-($I48)),5)*VLOOKUP(D48,[1]apoio_Preços_MGS!$A$6:$AN$238,40,FALSE)+VLOOKUP(D48,[1]apoio_Preços_MGS!$A$6:$AN$238,40,FALSE),2) -> 570.56 | AR48: =AQ48*K48 -> 3423.36 | AS48: =AN48+AR48 -> 3423.36 | AT48: =(AN48+AR48)*60 -> 205401.6
A49: =CONCATENATE(F49,H49,I49) -> 106410440,05 | B49: =CONCATENATE(D49,I49) -> 4100,05 | C49: =VLOOKUP(D49,[1]apoio_Preços_MGS!$A$6:$B$238,2,FALSE) -> ANALISTA ESPECIALIZADO EM CIÊNCIAS EXATAS E DA TERRA I | D49: 410 | E49: =VLOOKUP(D49,[1]apoio_Preços_MGS!$A$6:$F$238,6,FALSE) -> ANALISTA ESPECIALIZADO EM CIÊNCIAS EXATAS E DA TERRA I (EXCLUSIVO SEJUSP) - 12x36 NOTURNO - 44H | F49: =IFERROR(VLOOKUP(D49,'[1]apoio_cód catmas'!$B$2:$C$863,2,FALSE),0) -> 106410 | G49: =IF(H49="N/A",VLOOKUP(F49&40,'[1]apoio_cód catmas'!$A$1:$G$233,4,FALSE),VLOOKUP(F49&H49,'[1]apoio_cód catmas'!$A$1:$G$233,4,FALSE)) -> ANALISTA ESPECIALIZADO EM CIENCIAS EXATAS E DA TERRA I - 12X36 NOTURNO - (EXCLUSIVO SEJUSP) - 44H | H49: 44 | I49: 0.05 | J49: Belo Horizonte | K49: 5 | L49: =K49*60 -> 300 | M49: =VLOOKUP(D49,[1]apoio_Preços_MGS!$A$6:$AN$238,18,FALSE) -> 5698.5268 | N49: =VLOOKUP(D49,[1]apoio_Preços_MGS!$A$6:$AN$238,19,FALSE) -> 0 | O49: =VLOOKUP(D49,[1]apoio_Preços_MGS!$A$6:$AN$238,20,FALSE) -> 1327.5257 | P49: =VLOOKUP(D49,[1]apoio_Preços_MGS!$A$6:$AN$238,21,FALSE) -> 28.977848 | Q49: =VLOOKUP(D49,[1]apoio_Preços_MGS!$A$6:$AN$238,22,FALSE) -> 108.6669 | R49: =VLOOKUP(D49,[1]apoio_Preços_MGS!$A$6:$AN$238,23,FALSE) -> 0 | S49: =VLOOKUP(D49,[1]apoio_Preços_MGS!$A$6:$AN$238,24,FALSE) -> 0 | T49: =VLOOKUP(D49,[1]apoio_Preços_MGS!$A$6:$AN$238,25,FALSE) -> 7.9146205 | U49: =SUM(M49:T49) -> 7171.6119 | V49: =VLOOKUP(D49,[1]apoio_Preços_MGS!$A$6:$AN$238,27,FALSE) -> 0.818 | W49: =U49*V49 -> 5866.3785 | X49: =VLOOKUP(D49,[1]apoio_Preços_MGS!$A$6:$AN$238,29,FALSE) -> 0 | Y49: =VLOOKUP(D49,[1]apoio_Preços_MGS!$A$6:$AN$238,30,FALSE) -> 0 | Z49: =Y49+X49 -> 0 | AA49: =VLOOKUP(D49,[1]apoio_Preços_MGS!$A$6:$AN$238,32,FALSE) -> 9.6 | AB49: =VLOOKUP(D49,[1]apoio_Preços_MGS!$A$6:$AN$238,33,FALSE) -> 42.051344 | AC49: =VLOOKUP(D49,[1]apoio_Preços_MGS!$A$6:$AN$238,34,FALSE) -> 0 | AD49: =(U49+W49+Z49+AB49+AA49+VLOOKUP(C49,[1]apoio_Prec_Folha!$A:$S,7,FALSE))*AC49 -> 0 | AE49: =VLOOKUP(D49,[1]apoio_Preços_MGS!$A$6:$AN$238,36,FALSE) -> 0.07 | AF49: =(U49+W49+Z49+AB49+AD49+AA49+VLOOKUP(C49,[1]apoio_Prec_Folha!$A:$S,7,FALSE))*AE49 -> 954.21806 | AG49: =TRUNC(U49+W49+Z49+AB49+AA49+AD49+AF49,2) -> 14043.85 | AH49: =TRUNC($AG49*ROUND((7.6%+1.65%+$I49)/(1-(7.6%+1.65%+$I49)),5)+$AG49,2) -> 16377.65 | AI49: =AH49*K49 -> 81888.25 | AJ49: =AH49*L49 -> 4913295 | AK49: =VLOOKUP(D49,[1]apoio_Preços_MGS!$A$6:$AN$238,39,FALSE) -> 200 | AL49: =IF(J49="demais municípios",VLOOKUP(D49,[1]apoio_Preços_MGS!$A$6:$AN$238,39,FALSE),0) -> 0 | AM49: 0 | AN49: =AM49*K49 -> 0 | AO49: =VLOOKUP(D49,[1]apoio_Preços_MGS!$A$6:$AN$238,40,FALSE) -> 542.04 | AP49: =IF(J49="demais municípios",VLOOKUP(D49,[1]apoio_Preços_MGS!$A$6:$AN$238,40,FALSE),0) -> 0 | AQ49: =TRUNC(ROUND(($I49)/(1-($I49)),5)*VLOOKUP(D49,[1]apoio_Preços_MGS!$A$6:$AN$238,40,FALSE)+VLOOKUP(D49,[1]apoio_Preços_MGS!$A$6:$AN$238,40,FALSE),2) -> 570.56 | AR49: =AQ49*K49 -> 2852.8 | AS49: =AN49+AR49 -> 2852.8 | AT49: =(AN49+AR49)*60 -> 171168
A50: =CONCATENATE(F50,H50,I50) -> 106429400,02 | B50: =CONCATENATE(D50,I50) -> 3460,02 | C50: =VLOOKUP(D50,[1]apoio_Preços_MGS!$A$6:$B$238,2,FALSE) -> ANALISTA ESPECIALIZADO EM CIÊNCIAS EXATAS E DA TERRA I | D50: 346 | E50: =VLOOKUP(D50,[1]apoio_Preços_MGS!$A$6:$F$238,6,FALSE) -> ANALISTA ESPECIALIZADO EM CIÊNCIAS EXATAS E DA TERRA I - DIARISTA DIURNO - 40H | F50: =IFERROR(VLOOKUP(D50,'[1]apoio_cód catmas'!$B$2:$C$863,2,FALSE),0) -> 106429 | G50: =IF(H50="N/A",VLOOKUP(F50&40,'[1]apoio_cód catmas'!$A$1:$G$233,4,FALSE),VLOOKUP(F50&H50,'[1]apoio_cód catmas'!$A$1:$G$233,4,FALSE)) -> ANALISTA ESPECIALIZADO EM CIENCIAS EXATAS E DA TERRA I- 30H,36H, 40H OU 44H | H50: 40 | I50: 0.02 | J50: Demais Municípios | K50: 11 | L50: =K50*60 -> 660 | M50: =VLOOKUP(D50,[1]apoio_Preços_MGS!$A$6:$AN$238,18,FALSE) -> 5180.4789 | N50: =VLOOKUP(D50,[1]apoio_Preços_MGS!$A$6:$AN$238,19,FALSE) -> 0 | O50: =VLOOKUP(D50,[1]apoio_Preços_MGS!$A$6:$AN$238,20,FALSE) -> 0 | P50: =VLOOKUP(D50,[1]apoio_Preços_MGS!$A$6:$AN$238,21,FALSE) -> 0 | Q50: =VLOOKUP(D50,[1]apoio_Preços_MGS!$A$6:$AN$238,22,FALSE) -> 0 | R50: =VLOOKUP(D50,[1]apoio_Preços_MGS!$A$6:$AN$238,23,FALSE) -> 0 | S50: =VLOOKUP(D50,[1]apoio_Preços_MGS!$A$6:$AN$238,24,FALSE) -> 0 | T50: =VLOOKUP(D50,[1]apoio_Preços_MGS!$A$6:$AN$238,25,FALSE) -> 0 | U50: =SUM(M50:T50) -> 5180.4789 | V50: =VLOOKUP(D50,[1]apoio_Preços_MGS!$A$6:$AN$238,27,FALSE) -> 0.818 | W50: =U50*V50 -> 4237.6317 | X50: =VLOOKUP(D50,[1]apoio_Preços_MGS!$A$6:$AN$238,29,FALSE) -> 0 | Y50: =VLOOKUP(D50,[1]apoio_Preços_MGS!$A$6:$AN$238,30,FALSE) -> 0 | Z50: =Y50+X50 -> 0 | AA50: =VLOOKUP(D50,[1]apoio_Preços_MGS!$A$6:$AN$238,32,FALSE) -> 9.6 | AB50: =VLOOKUP(D50,[1]apoio_Preços_MGS!$A$6:$AN$238,33,FALSE) -> 51.755368 | AC50: =VLOOKUP(D50,[1]apoio_Preços_MGS!$A$6:$AN$238,34,FALSE) -> 0 | AD50: =(U50+W50+Z50+AB50+AA50+VLOOKUP(C50,[1]apoio_Prec_Folha!$A:$S,7,FALSE))*AC50 -> 0 | AE50: =VLOOKUP(D50,[1]apoio_Preços_MGS!$A$6:$AN$238,36,FALSE) -> 0.07 | AF50: =(U50+W50+Z50+AB50+AD50+AA50+VLOOKUP(C50,[1]apoio_Prec_Folha!$A:$S,7,FALSE))*AE50 -> 701.50576 | AG50: =TRUNC(U50+W50+Z50+AB50+AA50+AD50+AF50,2) -> 10180.97 | AH50: =TRUNC($AG50*ROUND((7.6%+1.65%+$I50)/(1-(7.6%+1.65%+$I50)),5)+$AG50,2) -> 11471.5 | AI50: =AH50*K50 -> 126186.5 | AJ50: =AH50*L50 -> 7571190 | AK50: =VLOOKUP(D50,[1]apoio_Preços_MGS!$A$6:$AN$238,39,FALSE) -> 181.81818 | AL50: =IF(J50="demais municípios",VLOOKUP(D50,[1]apoio_Preços_MGS!$A$6:$AN$238,39,FALSE),0) -> 181.81818 | AM50: 0 | AN50: =AK50*K50 -> 2000 | AO50: =VLOOKUP(D50,[1]apoio_Preços_MGS!$A$6:$AN$238,40,FALSE) -> 542.04 | AP50: =IF(J50="demais municípios",VLOOKUP(D50,[1]apoio_Preços_MGS!$A$6:$AN$238,40,FALSE),0) -> 542.04 | AQ50: 0 | AR50: =AO50*K50 -> 5962.44 | AS50: =AN50+AR50 -> 7962.44 | AT50: =(AN50+AR50)*60 -> 477746.4
A51: =CONCATENATE(F51,H51,I51) -> 106429400,03 | B51: =CONCATENATE(D51,I51) -> 3460,03 | C51: =VLOOKUP(D51,[1]apoio_Preços_MGS!$A$6:$B$238,2,FALSE) -> ANALISTA ESPECIALIZADO EM CIÊNCIAS EXATAS E DA TERRA I | D51: 346 | E51: =VLOOKUP(D51,[1]apoio_Preços_MGS!$A$6:$F$238,6,FALSE) -> ANALISTA ESPECIALIZADO EM CIÊNCIAS EXATAS E DA TERRA I - DIARISTA DIURNO - 40H | F51: =IFERROR(VLOOKUP(D51,'[1]apoio_cód catmas'!$B$2:$C$863,2,FALSE),0) -> 106429 | G51: =IF(H51="N/A",VLOOKUP(F51&40,'[1]apoio_cód catmas'!$A$1:$G$233,4,FALSE),VLOOKUP(F51&H51,'[1]apoio_cód catmas'!$A$1:$G$233,4,FALSE)) -> ANALISTA ESPECIALIZADO EM CIENCIAS EXATAS E DA TERRA I- 30H,36H, 40H OU 44H | H51: 40 | I51: 0.03 | J51: Demais Municípios | K51: =29-1 -> 28 | L51: =K51*60 -> 1680 | M51: =VLOOKUP(D51,[1]apoio_Preços_MGS!$A$6:$AN$238,18,FALSE) -> 5180.4789 | N51: =VLOOKUP(D51,[1]apoio_Preços_MGS!$A$6:$AN$238,19,FALSE) -> 0 | O51: =VLOOKUP(D51,[1]apoio_Preços_MGS!$A$6:$AN$238,20,FALSE) -> 0 | P51: =VLOOKUP(D51,[1]apoio_Preços_MGS!$A$6:$AN$238,21,FALSE) -> 0 | Q51: =VLOOKUP(D51,[1]apoio_Preços_MGS!$A$6:$AN$238,22,FALSE) -> 0 | R51: =VLOOKUP(D51,[1]apoio_Preços_MGS!$A$6:$AN$238,23,FALSE) -> 0 | S51: =VLOOKUP(D51,[1]apoio_Preços_MGS!$A$6:$AN$238,24,FALSE) -> 0 | T51: =VLOOKUP(D51,[1]apoio_Preços_MGS!$A$6:$AN$238,25,FALSE) -> 0 | U51: =SUM(M51:T51) -> 5180.4789 | V51: =VLOOKUP(D51,[1]apoio_Preços_MGS!$A$6:$AN$238,27,FALSE) -> 0.818 | W51: =U51*V51 -> 4237.6317 | X51: =VLOOKUP(D51,[1]apoio_Preços_MGS!$A$6:$AN$238,29,FALSE) -> 0 | Y51: =VLOOKUP(D51,[1]apoio_Preços_MGS!$A$6:$AN$238,30,FALSE) -> 0 | Z51: =Y51+X51 -> 0 | AA51: =VLOOKUP(D51,[1]apoio_Preços_MGS!$A$6:$AN$238,32,FALSE) -> 9.6 | AB51: =VLOOKUP(D51,[1]apoio_Preços_MGS!$A$6:$AN$238,33,FALSE) -> 51.755368 | AC51: =VLOOKUP(D51,[1]apoio_Preços_MGS!$A$6:$AN$238,34,FALSE) -> 0 | AD51: =(U51+W51+Z51+AB51+AA51+VLOOKUP(C51,[1]apoio_Prec_Folha!$A:$S,7,FALSE))*AC51 -> 0 | AE51: =VLOOKUP(D51,[1]apoio_Preços_MGS!$A$6:$AN$238,36,FALSE) -> 0.07 | AF51: =(U51+W51+Z51+AB51+AD51+AA51+VLOOKUP(C51,[1]apoio_Prec_Folha!$A:$S,7,FALSE))*AE51 -> 701.50576 | AG51: =TRUNC(U51+W51+Z51+AB51+AA51+AD51+AF51,2) -> 10180.97 | AH51: =TRUNC($AG51*ROUND((7.6%+1.65%+$I51)/(1-(7.6%+1.65%+$I51)),5)+$AG51,2) -> 11602.23 | AI51: =AH51*K51 -> 324862.44 | AJ51: =AH51*L51 -> 19491746 | AK51: =VLOOKUP(D51,[1]apoio_Preços_MGS!$A$6:$AN$238,39,FALSE) -> 181.81818 | AL51: =IF(J51="demais municípios",VLOOKUP(D51,[1]apoio_Preços_MGS!$A$6:$AN$238,39,FALSE),0) -> 181.81818 | AM51: 0 | AN51: =AK51*K51 -> 5090.9091 | AO51: =VLOOKUP(D51,[1]apoio_Preços_MGS!$A$6:$AN$238,40,FALSE) -> 542.04 | AP51: =IF(J51="demais municípios",VLOOKUP(D51,[1]apoio_Preços_MGS!$A$6:$AN$238,40,FALSE),0) -> 542.04 | AQ51: 0 | AR51: =AO51*K51 -> 15177.12 | AS51: =AN51+AR51 -> 20268.029 | AT51: =(AN51+AR51)*60 -> 1216081.7
A52: =CONCATENATE(F52,H52,I52) -> 106429400,04 | B52: =CONCATENATE(D52,I52) -> 3460,04 | C52: =VLOOKUP(D52,[1]apoio_Preços_MGS!$A$6:$B$238,2,FALSE) -> ANALISTA ESPECIALIZADO EM CIÊNCIAS EXATAS E DA TERRA I | D52: 346 | E52: =VLOOKUP(D52,[1]apoio_Preços_MGS!$A$6:$F$238,6,FALSE) -> ANALISTA ESPECIALIZADO EM CIÊNCIAS EXATAS E DA TERRA I - DIARISTA DIURNO - 40H | F52: =IFERROR(VLOOKUP(D52,'[1]apoio_cód catmas'!$B$2:$C$863,2,FALSE),0) -> 106429 | G52: =IF(H52="N/A",VLOOKUP(F52&40,'[1]apoio_cód catmas'!$A$1:$G$233,4,FALSE),VLOOKUP(F52&H52,'[1]apoio_cód catmas'!$A$1:$G$233,4,FALSE)) -> ANALISTA ESPECIALIZADO EM CIENCIAS EXATAS E DA TERRA I- 30H,36H, 40H OU 44H | H52: 40 | I52: 0.04 | J52: Demais Municípios | K52: 2 | L52: =K52*60 -> 120 | M52: =VLOOKUP(D52,[1]apoio_Preços_MGS!$A$6:$AN$238,18,FALSE) -> 5180.4789 | N52: =VLOOKUP(D52,[1]apoio_Preços_MGS!$A$6:$AN$238,19,FALSE) -> 0 | O52: =VLOOKUP(D52,[1]apoio_Preços_MGS!$A$6:$AN$238,20,FALSE) -> 0 | P52: =VLOOKUP(D52,[1]apoio_Preços_MGS!$A$6:$AN$238,21,FALSE) -> 0 | Q52: =VLOOKUP(D52,[1]apoio_Preços_MGS!$A$6:$AN$238,22,FALSE) -> 0 | R52: =VLOOKUP(D52,[1]apoio_Preços_MGS!$A$6:$AN$238,23,FALSE) -> 0 | S52: =VLOOKUP(D52,[1]apoio_Preços_MGS!$A$6:$AN$238,24,FALSE) -> 0 | T52: =VLOOKUP(D52,[1]apoio_Preços_MGS!$A$6:$AN$238,25,FALSE) -> 0 | U52: =SUM(M52:T52) -> 5180.4789 | V52: =VLOOKUP(D52,[1]apoio_Preços_MGS!$A$6:$AN$238,27,FALSE) -> 0.818 | W52: =U52*V52 -> 4237.6317 | X52: =VLOOKUP(D52,[1]apoio_Preços_MGS!$A$6:$AN$238,29,FALSE) -> 0 | Y52: =VLOOKUP(D52,[1]apoio_Preços_MGS!$A$6:$AN$238,30,FALSE) -> 0 | Z52: =Y52+X52 -> 0 | AA52: =VLOOKUP(D52,[1]apoio_Preços_MGS!$A$6:$AN$238,32,FALSE) -> 9.6 | AB52: =VLOOKUP(D52,[1]apoio_Preços_MGS!$A$6:$AN$238,33,FALSE) -> 51.755368 | AC52: =VLOOKUP(D52,[1]apoio_Preços_MGS!$A$6:$AN$238,34,FALSE) -> 0 | AD52: =(U52+W52+Z52+AB52+AA52+VLOOKUP(C52,[1]apoio_Prec_Folha!$A:$S,7,FALSE))*AC52 -> 0 | AE52: =VLOOKUP(D52,[1]apoio_Preços_MGS!$A$6:$AN$238,36,FALSE) -> 0.07 | AF52: =(U52+W52+Z52+AB52+AD52+AA52+VLOOKUP(C52,[1]apoio_Prec_Folha!$A:$S,7,FALSE))*AE52 -> 701.50576 | AG52: =TRUNC(U52+W52+Z52+AB52+AA52+AD52+AF52,2) -> 10180.97 | AH52: =TRUNC($AG52*ROUND((7.6%+1.65%+$I52)/(1-(7.6%+1.65%+$I52)),5)+$AG52,2) -> 11736.01 | AI52: =AH52*K52 -> 23472.02 | AJ52: =AH52*L52 -> 1408321.2 | AK52: =VLOOKUP(D52,[1]apoio_Preços_MGS!$A$6:$AN$238,39,FALSE) -> 181.81818 | AL52: =IF(J52="demais municípios",VLOOKUP(D52,[1]apoio_Preços_MGS!$A$6:$AN$238,39,FALSE),0) -> 181.81818 | AM52: 0 | AN52: =AK52*K52 -> 363.63636 | AO52: =VLOOKUP(D52,[1]apoio_Preços_MGS!$A$6:$AN$238,40,FALSE) -> 542.04 | AP52: =IF(J52="demais municípios",VLOOKUP(D52,[1]apoio_Preços_MGS!$A$6:$AN$238,40,FALSE),0) -> 542.04 | AQ52: 0 | AR52: =AO52*K52 -> 1084.08 | AS52: =AN52+AR52 -> 1447.7164 | AT52: =(AN52+AR52)*60 -> 86862.982
A53: =CONCATENATE(F53,H53,I53) -> 106429400,05 | B53: =CONCATENATE(D53,I53) -> 3460,05 | C53: =VLOOKUP(D53,[1]apoio_Preços_MGS!$A$6:$B$238,2,FALSE) -> ANALISTA ESPECIALIZADO EM CIÊNCIAS EXATAS E DA TERRA I | D53: 346 | E53: =VLOOKUP(D53,[1]apoio_Preços_MGS!$A$6:$F$238,6,FALSE) -> ANALISTA ESPECIALIZADO EM CIÊNCIAS EXATAS E DA TERRA I - DIARISTA DIURNO - 40H | F53: =IFERROR(VLOOKUP(D53,'[1]apoio_cód catmas'!$B$2:$C$863,2,FALSE),0) -> 106429 | G53: =IF(H53="N/A",VLOOKUP(F53&40,'[1]apoio_cód catmas'!$A$1:$G$233,4,FALSE),VLOOKUP(F53&H53,'[1]apoio_cód catmas'!$A$1:$G$233,4,FALSE)) -> ANALISTA ESPECIALIZADO EM CIENCIAS EXATAS E DA TERRA I- 30H,36H, 40H OU 44H | H53: 40 | I53: 0.05 | J53: Demais Municípios | K53: 1 | L53: =K53*56 -> 56 | M53: =VLOOKUP(D53,[1]apoio_Preços_MGS!$A$6:$AN$238,18,FALSE) -> 5180.4789 | N53: =VLOOKUP(D53,[1]apoio_Preços_MGS!$A$6:$AN$238,19,FALSE) -> 0 | O53: =VLOOKUP(D53,[1]apoio_Preços_MGS!$A$6:$AN$238,20,FALSE) -> 0 | P53: =VLOOKUP(D53,[1]apoio_Preços_MGS!$A$6:$AN$238,21,FALSE) -> 0 | Q53: =VLOOKUP(D53,[1]apoio_Preços_MGS!$A$6:$AN$238,22,FALSE) -> 0 | R53: =VLOOKUP(D53,[1]apoio_Preços_MGS!$A$6:$AN$238,23,FALSE) -> 0 | S53: =VLOOKUP(D53,[1]apoio_Preços_MGS!$A$6:$AN$238,24,FALSE) -> 0 | T53: =VLOOKUP(D53,[1]apoio_Preços_MGS!$A$6:$AN$238,25,FALSE) -> 0 | U53: =SUM(M53:T53) -> 5180.4789 | V53: =VLOOKUP(D53,[1]apoio_Preços_MGS!$A$6:$AN$238,27,FALSE) -> 0.818 | W53: =U53*V53 -> 4237.6317 | X53: =VLOOKUP(D53,[1]apoio_Preços_MGS!$A$6:$AN$238,29,FALSE) -> 0 | Y53: =VLOOKUP(D53,[1]apoio_Preços_MGS!$A$6:$AN$238,30,FALSE) -> 0 | Z53: =Y53+X53 -> 0 | AA53: =VLOOKUP(D53,[1]apoio_Preços_MGS!$A$6:$AN$238,32,FALSE) -> 9.6 | AB53: =VLOOKUP(D53,[1]apoio_Preços_MGS!$A$6:$AN$238,33,FALSE) -> 51.755368 | AC53: =VLOOKUP(D53,[1]apoio_Preços_MGS!$A$6:$AN$238,34,FALSE) -> 0 | AD53: =(U53+W53+Z53+AB53+AA53+VLOOKUP(C53,[1]apoio_Prec_Folha!$A:$S,7,FALSE))*AC53 -> 0 | AE53: =VLOOKUP(D53,[1]apoio_Preços_MGS!$A$6:$AN$238,36,FALSE) -> 0.07 | AF53: =(U53+W53+Z53+AB53+AD53+AA53+VLOOKUP(C53,[1]apoio_Prec_Folha!$A:$S,7,FALSE))*AE53 -> 701.50576 | AG53: =TRUNC(U53+W53+Z53+AB53+AA53+AD53+AF53,2) -> 10180.97 | AH53: =TRUNC($AG53*ROUND((7.6%+1.65%+$I53)/(1-(7.6%+1.65%+$I53)),5)+$AG53,2) -> 11872.84 | AI53: =AH53*K53 -> 11872.84 | AJ53: =AH53*L53 -> 664879.04 | AK53: =VLOOKUP(D53,[1]apoio_Preços_MGS!$A$6:$AN$238,39,FALSE) -> 181.81818 | AL53: =IF(J53="demais municípios",VLOOKUP(D53,[1]apoio_Preços_MGS!$A$6:$AN$238,39,FALSE),0) -> 181.81818 | AM53: 0 | AN53: =AK53*K53 -> 181.81818 | AO53: =VLOOKUP(D53,[1]apoio_Preços_MGS!$A$6:$AN$238,40,FALSE) -> 542.04 | AP53: =IF(J53="demais municípios",VLOOKUP(D53,[1]apoio_Preços_MGS!$A$6:$AN$238,40,FALSE),0) -> 542.04 | AQ53: 0 | AR53: =AO53*K53 -> 542.04 | AS53: =AN53+AR53 -> 723.85818 | AT53: =(AN53+AR53)*60 -> 43431.491
A54: =CONCATENATE(F54,H54,I54) -> 106429400,05 | B54: =CONCATENATE(D54,I54) -> 3460,05 | C54: =VLOOKUP(D54,[1]apoio_Preços_MGS!$A$6:$B$238,2,FALSE) -> ANALISTA ESPECIALIZADO EM CIÊNCIAS EXATAS E DA TERRA I | D54: 346 | E54: =VLOOKUP(D54,[1]apoio_Preços_MGS!$A$6:$F$238,6,FALSE) -> ANALISTA ESPECIALIZADO EM CIÊNCIAS EXATAS E DA TERRA I - DIARISTA DIURNO - 40H | F54: =IFERROR(VLOOKUP(D54,'[1]apoio_cód catmas'!$B$2:$C$863,2,FALSE),0) -> 106429 | G54: =IF(H54="N/A",VLOOKUP(F54&40,'[1]apoio_cód catmas'!$A$1:$G$233,4,FALSE),VLOOKUP(F54&H54,'[1]apoio_cód catmas'!$A$1:$G$233,4,FALSE)) -> ANALISTA ESPECIALIZADO EM CIENCIAS EXATAS E DA TERRA I- 30H,36H, 40H OU 44H | H54: 40 | I54: 0.05 | J54: Demais Municípios | K54: =102-K55 -> 3 | L54: =K54*60 -> 180 | M54: =VLOOKUP(D54,[1]apoio_Preços_MGS!$A$6:$AN$238,18,FALSE) -> 5180.4789 | N54: =VLOOKUP(D54,[1]apoio_Preços_MGS!$A$6:$AN$238,19,FALSE) -> 0 | O54: =VLOOKUP(D54,[1]apoio_Preços_MGS!$A$6:$AN$238,20,FALSE) -> 0 | P54: =VLOOKUP(D54,[1]apoio_Preços_MGS!$A$6:$AN$238,21,FALSE) -> 0 | Q54: =VLOOKUP(D54,[1]apoio_Preços_MGS!$A$6:$AN$238,22,FALSE) -> 0 | R54: =VLOOKUP(D54,[1]apoio_Preços_MGS!$A$6:$AN$238,23,FALSE) -> 0 | S54: =VLOOKUP(D54,[1]apoio_Preços_MGS!$A$6:$AN$238,24,FALSE) -> 0 | T54: =VLOOKUP(D54,[1]apoio_Preços_MGS!$A$6:$AN$238,25,FALSE) -> 0 | U54: =SUM(M54:T54) -> 5180.4789 | V54: =VLOOKUP(D54,[1]apoio_Preços_MGS!$A$6:$AN$238,27,FALSE) -> 0.818 | W54: =U54*V54 -> 4237.6317 | X54: =VLOOKUP(D54,[1]apoio_Preços_MGS!$A$6:$AN$238,29,FALSE) -> 0 | Y54: =VLOOKUP(D54,[1]apoio_Preços_MGS!$A$6:$AN$238,30,FALSE) -> 0 | Z54: =Y54+X54 -> 0 | AA54: =VLOOKUP(D54,[1]apoio_Preços_MGS!$A$6:$AN$238,32,FALSE) -> 9.6 | AB54: =VLOOKUP(D54,[1]apoio_Preços_MGS!$A$6:$AN$238,33,FALSE) -> 51.755368 | AC54: =VLOOKUP(D54,[1]apoio_Preços_MGS!$A$6:$AN$238,34,FALSE) -> 0 | AD54: =(U54+W54+Z54+AB54+AA54+VLOOKUP(C54,[1]apoio_Prec_Folha!$A:$S,7,FALSE))*AC54 -> 0 | AE54: =VLOOKUP(D54,[1]apoio_Preços_MGS!$A$6:$AN$238,36,FALSE) -> 0.07 | AF54: =(U54+W54+Z54+AB54+AD54+AA54+VLOOKUP(C54,[1]apoio_Prec_Folha!$A:$S,7,FALSE))*AE54 -> 701.50576 | AG54: =TRUNC(U54+W54+Z54+AB54+AA54+AD54+AF54,2) -> 10180.97 | AH54: =TRUNC($AG54*ROUND((7.6%+1.65%+$I54)/(1-(7.6%+1.65%+$I54)),5)+$AG54,2) -> 11872.84 | AI54: =AH54*K54 -> 35618.52 | AJ54: =AH54*L54 -> 2137111.2 | AK54: =VLOOKUP(D54,[1]apoio_Preços_MGS!$A$6:$AN$238,39,FALSE) -> 181.81818 | AL54: =IF(J54="demais municípios",VLOOKUP(D54,[1]apoio_Preços_MGS!$A$6:$AN$238,39,FALSE),0) -> 181.81818 | AM54: 0 | AN54: =AK54*K54 -> 545.45455 | AO54: =VLOOKUP(D54,[1]apoio_Preços_MGS!$A$6:$AN$238,40,FALSE) -> 542.04 | AP54: =IF(J54="demais municípios",VLOOKUP(D54,[1]apoio_Preços_MGS!$A$6:$AN$238,40,FALSE),0) -> 542.04 | AQ54: 0 | AR54: =AO54*K54 -> 1626.12 | AS54: =AN54+AR54 -> 2171.5745 | AT54: =(AN54+AR54)*60 -> 130294.47
A55: =CONCATENATE(F55,H55,I55) -> 106429400,05 | B55: =CONCATENATE(D55,I55) -> 3460,05 | C55: =VLOOKUP(D55,[1]apoio_Preços_MGS!$A$6:$B$238,2,FALSE) -> ANALISTA ESPECIALIZADO EM CIÊNCIAS EXATAS E DA TERRA I | D55: 346 | E55: =VLOOKUP(D55,[1]apoio_Preços_MGS!$A$6:$F$238,6,FALSE) -> ANALISTA ESPECIALIZADO EM CIÊNCIAS EXATAS E DA TERRA I - DIARISTA DIURNO - 40H | F55: =IFERROR(VLOOKUP(D55,'[1]apoio_cód catmas'!$B$2:$C$863,2,FALSE),0) -> 106429 | G55: =IF(H55="N/A",VLOOKUP(F55&40,'[1]apoio_cód catmas'!$A$1:$G$233,4,FALSE),VLOOKUP(F55&H55,'[1]apoio_cód catmas'!$A$1:$G$233,4,FALSE)) -> ANALISTA ESPECIALIZADO EM CIENCIAS EXATAS E DA TERRA I- 30H,36H, 40H OU 44H | H55: 40 | I55: 0.05 | J55: Belo Horizonte | K55: 99 | L55: =K55*60 -> 5940 | M55: =VLOOKUP(D55,[1]apoio_Preços_MGS!$A$6:$AN$238,18,FALSE) -> 5180.4789 | N55: =VLOOKUP(D55,[1]apoio_Preços_MGS!$A$6:$AN$238,19,FALSE) -> 0 | O55: =VLOOKUP(D55,[1]apoio_Preços_MGS!$A$6:$AN$238,20,FALSE) -> 0 | P55: =VLOOKUP(D55,[1]apoio_Preços_MGS!$A$6:$AN$238,21,FALSE) -> 0 | Q55: =VLOOKUP(D55,[1]apoio_Preços_MGS!$A$6:$AN$238,22,FALSE) -> 0 | R55: =VLOOKUP(D55,[1]apoio_Preços_MGS!$A$6:$AN$238,23,FALSE) -> 0 | S55: =VLOOKUP(D55,[1]apoio_Preços_MGS!$A$6:$AN$238,24,FALSE) -> 0 | T55: =VLOOKUP(D55,[1]apoio_Preços_MGS!$A$6:$AN$238,25,FALSE) -> 0 | U55: =SUM(M55:T55) -> 5180.4789 | V55: =VLOOKUP(D55,[1]apoio_Preços_MGS!$A$6:$AN$238,27,FALSE) -> 0.818 | W55: =U55*V55 -> 4237.6317 | X55: =VLOOKUP(D55,[1]apoio_Preços_MGS!$A$6:$AN$238,29,FALSE) -> 0 | Y55: =VLOOKUP(D55,[1]apoio_Preços_MGS!$A$6:$AN$238,30,FALSE) -> 0 | Z55: =Y55+X55 -> 0 | AA55: =VLOOKUP(D55,[1]apoio_Preços_MGS!$A$6:$AN$238,32,FALSE) -> 9.6 | AB55: =VLOOKUP(D55,[1]apoio_Preços_MGS!$A$6:$AN$238,33,FALSE) -> 51.755368 | AC55: =VLOOKUP(D55,[1]apoio_Preços_MGS!$A$6:$AN$238,34,FALSE) -> 0 | AD55: =(U55+W55+Z55+AB55+AA55+VLOOKUP(C55,[1]apoio_Prec_Folha!$A:$S,7,FALSE))*AC55 -> 0 | AE55: =VLOOKUP(D55,[1]apoio_Preços_MGS!$A$6:$AN$238,36,FALSE) -> 0.07 | AF55: =(U55+W55+Z55+AB55+AD55+AA55+VLOOKUP(C55,[1]apoio_Prec_Folha!$A:$S,7,FALSE))*AE55 -> 701.50576 | AG55: =TRUNC(U55+W55+Z55+AB55+AA55+AD55+AF55,2) -> 10180.97 | AH55: =TRUNC($AG55*ROUND((7.6%+1.65%+$I55)/(1-(7.6%+1.65%+$I55)),5)+$AG55,2) -> 11872.84 | AI55: =AH55*K55 -> 1175411.2 | AJ55: =AH55*L55 -> 70524670 | AK55: =VLOOKUP(D55,[1]apoio_Preços_MGS!$A$6:$AN$238,39,FALSE) -> 181.81818 | AL55: =IF(J55="demais municípios",VLOOKUP(D55,[1]apoio_Preços_MGS!$A$6:$AN$238,39,FALSE),0) -> 0 | AM55: 0 | AN55: =AM55*K55 -> 0 | AO55: =VLOOKUP(D55,[1]apoio_Preços_MGS!$A$6:$AN$238,40,FALSE) -> 542.04 | AP55: =IF(J55="demais municípios",VLOOKUP(D55,[1]apoio_Preços_MGS!$A$6:$AN$238,40,FALSE),0) -> 0 | AQ55: =TRUNC(ROUND(($I55)/(1-($I55)),5)*VLOOKUP(D55,[1]apoio_Preços_MGS!$A$6:$AN$238,40,FALSE)+VLOOKUP(D55,[1]apoio_Preços_MGS!$A$6:$AN$238,40,FALSE),2) -> 570.56 | AR55: =AQ55*K55 -> 56485.44 | AS55: =AN55+AR55 -> 56485.44 | AT55: =(AN55+AR55)*60 -> 3389126.4
A56: =CONCATENATE(F56,H56,I56) -> 106429440,04 | B56: =CONCATENATE(D56,I56) -> 3470,04 | C56: =VLOOKUP(D56,[1]apoio_Preços_MGS!$A$6:$B$238,2,FALSE) -> ANALISTA ESPECIALIZADO EM CIÊNCIAS EXATAS E DA TERRA I | D56: 347 | E56: =VLOOKUP(D56,[1]apoio_Preços_MGS!$A$6:$F$238,6,FALSE) -> ANALISTA ESPECIALIZADO EM CIÊNCIAS EXATAS E DA TERRA I - DIARISTA DIURNO - 44H | F56: =IFERROR(VLOOKUP(D56,'[1]apoio_cód catmas'!$B$2:$C$863,2,FALSE),0) -> 106429 | G56: =IF(H56="N/A",VLOOKUP(F56&40,'[1]apoio_cód catmas'!$A$1:$G$233,4,FALSE),VLOOKUP(F56&H56,'[1]apoio_cód catmas'!$A$1:$G$233,4,FALSE)) -> ANALISTA ESPECIALIZADO EM CIENCIAS EXATAS E DA TERRA I- 30H,36H, 40H OU 44H | H56: 44 | I56: 0.04 | J56: Demais Municípios | K56: 2 | L56: =K56*60 -> 120 | M56: =VLOOKUP(D56,[1]apoio_Preços_MGS!$A$6:$AN$238,18,FALSE) -> 5698.5268 | N56: =VLOOKUP(D56,[1]apoio_Preços_MGS!$A$6:$AN$238,19,FALSE) -> 0 | O56: =VLOOKUP(D56,[1]apoio_Preços_MGS!$A$6:$AN$238,20,FALSE) -> 0 | P56: =VLOOKUP(D56,[1]apoio_Preços_MGS!$A$6:$AN$238,21,FALSE) -> 0 | Q56: =VLOOKUP(D56,[1]apoio_Preços_MGS!$A$6:$AN$238,22,FALSE) -> 0 | R56: =VLOOKUP(D56,[1]apoio_Preços_MGS!$A$6:$AN$238,23,FALSE) -> 0 | S56: =VLOOKUP(D56,[1]apoio_Preços_MGS!$A$6:$AN$238,24,FALSE) -> 0 | T56: =VLOOKUP(D56,[1]apoio_Preços_MGS!$A$6:$AN$238,25,FALSE) -> 0 | U56: =SUM(M56:T56) -> 5698.5268 | V56: =VLOOKUP(D56,[1]apoio_Preços_MGS!$A$6:$AN$238,27,FALSE) -> 0.818 | W56: =U56*V56 -> 4661.3949 | X56: =VLOOKUP(D56,[1]apoio_Preços_MGS!$A$6:$AN$238,29,FALSE) -> 0 | Y56: =VLOOKUP(D56,[1]apoio_Preços_MGS!$A$6:$AN$238,30,FALSE) -> 0 | Z56: =Y56+X56 -> 0 | AA56: =VLOOKUP(D56,[1]apoio_Preços_MGS!$A$6:$AN$238,32,FALSE) -> 9.6 | AB56: =VLOOKUP(D56,[1]apoio_Preços_MGS!$A$6:$AN$238,33,FALSE) -> 42.051344 | AC56: =VLOOKUP(D56,[1]apoio_Preços_MGS!$A$6:$AN$238,34,FALSE) -> 0 | AD56: =(U56+W56+Z56+AB56+AA56+VLOOKUP(C56,[1]apoio_Prec_Folha!$A:$S,7,FALSE))*AC56 -> 0 | AE56: =VLOOKUP(D56,[1]apoio_Preços_MGS!$A$6:$AN$238,36,FALSE) -> 0.07 | AF56: =(U56+W56+Z56+AB56+AD56+AA56+VLOOKUP(C56,[1]apoio_Prec_Folha!$A:$S,7,FALSE))*AE56 -> 766.75326 | AG56: =TRUNC(U56+W56+Z56+AB56+AA56+AD56+AF56,2) -> 11178.32 | AH56: =TRUNC($AG56*ROUND((7.6%+1.65%+$I56)/(1-(7.6%+1.65%+$I56)),5)+$AG56,2) -> 12885.69 | AI56: =AH56*K56 -> 25771.38 | AJ56: =AH56*L56 -> 1546282.8 | AK56: =VLOOKUP(D56,[1]apoio_Preços_MGS!$A$6:$AN$238,39,FALSE) -> 200 | AL56: =IF(J56="demais municípios",VLOOKUP(D56,[1]apoio_Preços_MGS!$A$6:$AN$238,39,FALSE),0) -> 200 | AM56: 0 | AN56: =AK56*K56 -> 400 | AO56: =VLOOKUP(D56,[1]apoio_Preços_MGS!$A$6:$AN$238,40,FALSE) -> 542.04 | AP56: =IF(J56="demais municípios",VLOOKUP(D56,[1]apoio_Preços_MGS!$A$6:$AN$238,40,FALSE),0) -> 542.04 | AQ56: 0 | AR56: =AO56*K56 -> 1084.08 | AS56: =AN56+AR56 -> 1484.08 | AT56: =(AN56+AR56)*60 -> 89044.8
A57: =CONCATENATE(F57,H57,I57) -> 106429440,05 | B57: =CONCATENATE(D57,I57) -> 3470,05 | C57: =VLOOKUP(D57,[1]apoio_Preços_MGS!$A$6:$B$238,2,FALSE) -> ANALISTA ESPECIALIZADO EM CIÊNCIAS EXATAS E DA TERRA I | D57: 347 | E57: =VLOOKUP(D57,[1]apoio_Preços_MGS!$A$6:$F$238,6,FALSE) -> ANALISTA ESPECIALIZADO EM CIÊNCIAS EXATAS E DA TERRA I - DIARISTA DIURNO - 44H | F57: =IFERROR(VLOOKUP(D57,'[1]apoio_cód catmas'!$B$2:$C$863,2,FALSE),0) -> 106429 | G57: =IF(H57="N/A",VLOOKUP(F57&40,'[1]apoio_cód catmas'!$A$1:$G$233,4,FALSE),VLOOKUP(F57&H57,'[1]apoio_cód catmas'!$A$1:$G$233,4,FALSE)) -> ANALISTA ESPECIALIZADO EM CIENCIAS EXATAS E DA TERRA I- 30H,36H, 40H OU 44H | H57: 44 | I57: 0.05 | J57: Belo Horizonte | K57: 2 | L57: =K57*60 -> 120 | M57: =VLOOKUP(D57,[1]apoio_Preços_MGS!$A$6:$AN$238,18,FALSE) -> 5698.5268 | N57: =VLOOKUP(D57,[1]apoio_Preços_MGS!$A$6:$AN$238,19,FALSE) -> 0 | O57: =VLOOKUP(D57,[1]apoio_Preços_MGS!$A$6:$AN$238,20,FALSE) -> 0 | P57: =VLOOKUP(D57,[1]apoio_Preços_MGS!$A$6:$AN$238,21,FALSE) -> 0 | Q57: =VLOOKUP(D57,[1]apoio_Preços_MGS!$A$6:$AN$238,22,FALSE) -> 0 | R57: =VLOOKUP(D57,[1]apoio_Preços_MGS!$A$6:$AN$238,23,FALSE) -> 0 | S57: =VLOOKUP(D57,[1]apoio_Preços_MGS!$A$6:$AN$238,24,FALSE) -> 0 | T57: =VLOOKUP(D57,[1]apoio_Preços_MGS!$A$6:$AN$238,25,FALSE) -> 0 | U57: =SUM(M57:T57) -> 5698.5268 | V57: =VLOOKUP(D57,[1]apoio_Preços_MGS!$A$6:$AN$238,27,FALSE) -> 0.818 | W57: =U57*V57 -> 4661.3949 | X57: =VLOOKUP(D57,[1]apoio_Preços_MGS!$A$6:$AN$238,29,FALSE) -> 0 | Y57: =VLOOKUP(D57,[1]apoio_Preços_MGS!$A$6:$AN$238,30,FALSE) -> 0 | Z57: =Y57+X57 -> 0 | AA57: =VLOOKUP(D57,[1]apoio_Preços_MGS!$A$6:$AN$238,32,FALSE) -> 9.6 | AB57: =VLOOKUP(D57,[1]apoio_Preços_MGS!$A$6:$AN$238,33,FALSE) -> 42.051344 | AC57: =VLOOKUP(D57,[1]apoio_Preços_MGS!$A$6:$AN$238,34,FALSE) -> 0 | AD57: =(U57+W57+Z57+AB57+AA57+VLOOKUP(C57,[1]apoio_Prec_Folha!$A:$S,7,FALSE))*AC57 -> 0 | AE57: =VLOOKUP(D57,[1]apoio_Preços_MGS!$A$6:$AN$238,36,FALSE) -> 0.07 | AF57: =(U57+W57+Z57+AB57+AD57+AA57+VLOOKUP(C57,[1]apoio_Prec_Folha!$A:$S,7,FALSE))*AE57 -> 766.75326 | AG57: =TRUNC(U57+W57+Z57+AB57+AA57+AD57+AF57,2) -> 11178.32 | AH57: =TRUNC($AG57*ROUND((7.6%+1.65%+$I57)/(1-(7.6%+1.65%+$I57)),5)+$AG57,2) -> 13035.93 | AI57: =AH57*K57 -> 26071.86 | AJ57: =AH57*L57 -> 1564311.6 | AK57: =VLOOKUP(D57,[1]apoio_Preços_MGS!$A$6:$AN$238,39,FALSE) -> 200 | AL57: =IF(J57="demais municípios",VLOOKUP(D57,[1]apoio_Preços_MGS!$A$6:$AN$238,39,FALSE),0) -> 0 | AM57: 0 | AN57: =AM57*K57 -> 0 | AO57: =VLOOKUP(D57,[1]apoio_Preços_MGS!$A$6:$AN$238,40,FALSE) -> 542.04 | AP57: =IF(J57="demais municípios",VLOOKUP(D57,[1]apoio_Preços_MGS!$A$6:$AN$238,40,FALSE),0) -> 0 | AQ57: =TRUNC(ROUND(($I57)/(1-($I57)),5)*VLOOKUP(D57,[1]apoio_Preços_MGS!$A$6:$AN$238,40,FALSE)+VLOOKUP(D57,[1]apoio_Preços_MGS!$A$6:$AN$238,40,FALSE),2) -> 570.56 | AR57: =AQ57*K57 -> 1141.12 | AS57: =AN57+AR57 -> 1141.12 | AT57: =(AN57+AR57)*60 -> 68467.2
A58: =CONCATENATE(F58,H58,I58) -> 117706440,03 | B58: =CONCATENATE(D58,I58) -> 13590,03 | C58: =VLOOKUP(D58,[1]apoio_Preços_MGS!$A$6:$B$238,2,FALSE) -> ANALISTA ESPECIALIZADO EM CIÊNCIAS HUMANAS | D58: 1359 | E58: =VLOOKUP(D58,[1]apoio_Preços_MGS!$A$6:$F$238,6,FALSE) -> ANALISTA ESPECIALIZADO EM CIÊNCIAS HUMANAS - 12x36 NOTURNO - 44H | F58: =IFERROR(VLOOKUP(D58,'[1]apoio_cód catmas'!$B$2:$C$863,2,FALSE),0) -> 117706 | G58: =IF(H58="N/A",VLOOKUP(F58&40,'[1]apoio_cód catmas'!$A$1:$G$233,4,FALSE),VLOOKUP(F58&H58,'[1]apoio_cód catmas'!$A$1:$G$233,4,FALSE)) -> ANALISTA ESPECIALIZADO EM CIENCIAS HUMANAS - 12X36 NOTURNO - 44H | H58: 44 | I58: 0.03 | J58: Demais Municípios | K58: 3 | L58: =K58*60 -> 180 | M58: =VLOOKUP(D58,[1]apoio_Preços_MGS!$A$6:$AN$238,18,FALSE) -> 4578.4022 | N58: =VLOOKUP(D58,[1]apoio_Preços_MGS!$A$6:$AN$238,19,FALSE) -> 0 | O58: =VLOOKUP(D58,[1]apoio_Preços_MGS!$A$6:$AN$238,20,FALSE) -> 1066.5821 | P58: =VLOOKUP(D58,[1]apoio_Preços_MGS!$A$6:$AN$238,21,FALSE) -> 23.28185 | Q58: =VLOOKUP(D58,[1]apoio_Preços_MGS!$A$6:$AN$238,22,FALSE) -> 87.30691 | R58: =VLOOKUP(D58,[1]apoio_Preços_MGS!$A$6:$AN$238,23,FALSE) -> 0 | S58: =VLOOKUP(D58,[1]apoio_Preços_MGS!$A$6:$AN$238,24,FALSE) -> 0 | T58: =VLOOKUP(D58,[1]apoio_Preços_MGS!$A$6:$AN$238,25,FALSE) -> 6.3588919 | U58: =SUM(M58:T58) -> 5761.9319 | V58: =VLOOKUP(D58,[1]apoio_Preços_MGS!$A$6:$AN$238,27,FALSE) -> 0.818 | W58: =U58*V58 -> 4713.2603 | X58: =VLOOKUP(D58,[1]apoio_Preços_MGS!$A$6:$AN$238,29,FALSE) -> 0 | Y58: =VLOOKUP(D58,[1]apoio_Preços_MGS!$A$6:$AN$238,30,FALSE) -> 0 | Z58: =Y58+X58 -> 0 | AA58: =VLOOKUP(D58,[1]apoio_Preços_MGS!$A$6:$AN$238,32,FALSE) -> 8.7905322 | AB58: =VLOOKUP(D58,[1]apoio_Preços_MGS!$A$6:$AN$238,33,FALSE) -> 85.980635 | AC58: =VLOOKUP(D58,[1]apoio_Preços_MGS!$A$6:$AN$238,34,FALSE) -> 0 | AD58: =(U58+W58+Z58+AB58+AA58+VLOOKUP(C58,[1]apoio_Prec_Folha!$A:$S,7,FALSE))*AC58 -> 0 | AE58: =VLOOKUP(D58,[1]apoio_Preços_MGS!$A$6:$AN$238,36,FALSE) -> 0.07 | AF58: =(U58+W58+Z58+AB58+AD58+AA58+VLOOKUP(C58,[1]apoio_Prec_Folha!$A:$S,7,FALSE))*AE58 -> 778.11734 | AG58: =TRUNC(U58+W58+Z58+AB58+AA58+AD58+AF58,2) -> 11348.08 | AH58: =TRUNC($AG58*ROUND((7.6%+1.65%+$I58)/(1-(7.6%+1.65%+$I58)),5)+$AG58,2) -> 12932.27 | AI58: =AH58*K58 -> 38796.81 | AJ58: =AH58*L58 -> 2327808.6 | AK58: =VLOOKUP(D58,[1]apoio_Preços_MGS!$A$6:$AN$238,39,FALSE) -> 200 | AL58: =IF(J58="demais municípios",VLOOKUP(D58,[1]apoio_Preços_MGS!$A$6:$AN$238,39,FALSE),0) -> 200 | AM58: 0 | AN58: =AK58*K58 -> 600 | AO58: =VLOOKUP(D58,[1]apoio_Preços_MGS!$A$6:$AN$238,40,FALSE) -> 545.99 | AP58: =IF(J58="demais municípios",VLOOKUP(D58,[1]apoio_Preços_MGS!$A$6:$AN$238,40,FALSE),0) -> 545.99 | AQ58: 0 | AR58: =AO58*K58 -> 1637.97 | AS58: =AN58+AR58 -> 2237.97 | AT58: =(AN58+AR58)*60 -> 134278.2
A59: =CONCATENATE(F59,H59,I59) -> 106437300,03 | B59: =CONCATENATE(D59,I59) -> 3520,03 | C59: =VLOOKUP(D59,[1]apoio_Preços_MGS!$A$6:$B$238,2,FALSE) -> ANALISTA ESPECIALIZADO EM CIÊNCIAS HUMANAS | D59: 352 | E59: =VLOOKUP(D59,[1]apoio_Preços_MGS!$A$6:$F$238,6,FALSE) -> ANALISTA ESPECIALIZADO EM CIÊNCIAS HUMANAS - DIARISTA DIURNO - 30H | F59: =IFERROR(VLOOKUP(D59,'[1]apoio_cód catmas'!$B$2:$C$863,2,FALSE),0) -> 106437 | G59: =IF(H59="N/A",VLOOKUP(F59&40,'[1]apoio_cód catmas'!$A$1:$G$233,4,FALSE),VLOOKUP(F59&H59,'[1]apoio_cód catmas'!$A$1:$G$233,4,FALSE)) -> ANALISTA ESPECIALIZADO EM CIENCIAS HUMANAS - 30H, 36H, 40H E 44H. | H59: 30 | I59: 0.03 | J59: Demais Municípios | K59: =6-2 -> 4 | L59: =K59*60 -> 240 | M59: =VLOOKUP(D59,[1]apoio_Preços_MGS!$A$6:$AN$238,18,FALSE) -> 3121.6379 | N59: =VLOOKUP(D59,[1]apoio_Preços_MGS!$A$6:$AN$238,19,FALSE) -> 0 | O59: =VLOOKUP(D59,[1]apoio_Preços_MGS!$A$6:$AN$238,20,FALSE) -> 0 | P59: =VLOOKUP(D59,[1]apoio_Preços_MGS!$A$6:$AN$238,21,FALSE) -> 0 | Q59: =VLOOKUP(D59,[1]apoio_Preços_MGS!$A$6:$AN$238,22,FALSE) -> 0 | R59: =VLOOKUP(D59,[1]apoio_Preços_MGS!$A$6:$AN$238,23,FALSE) -> 0 | S59: =VLOOKUP(D59,[1]apoio_Preços_MGS!$A$6:$AN$238,24,FALSE) -> 0 | T59: =VLOOKUP(D59,[1]apoio_Preços_MGS!$A$6:$AN$238,25,FALSE) -> 0 | U59: =SUM(M59:T59) -> 3121.6379 | V59: =VLOOKUP(D59,[1]apoio_Preços_MGS!$A$6:$AN$238,27,FALSE) -> 0.818 | W59: =U59*V59 -> 2553.4998 | X59: =VLOOKUP(D59,[1]apoio_Preços_MGS!$A$6:$AN$238,29,FALSE) -> 0 | Y59: =VLOOKUP(D59,[1]apoio_Preços_MGS!$A$6:$AN$238,30,FALSE) -> 0 | Z59: =Y59+X59 -> 0 | AA59: =VLOOKUP(D59,[1]apoio_Preços_MGS!$A$6:$AN$238,32,FALSE) -> 5.9935447 | AB59: =VLOOKUP(D59,[1]apoio_Preços_MGS!$A$6:$AN$238,33,FALSE) -> 122.12538 | AC59: =VLOOKUP(D59,[1]apoio_Preços_MGS!$A$6:$AN$238,34,FALSE) -> 0 | AD59: =(U59+W59+Z59+AB59+AA59+VLOOKUP(C59,[1]apoio_Prec_Folha!$A:$S,7,FALSE))*AC59 -> 0 | AE59: =VLOOKUP(D59,[1]apoio_Preços_MGS!$A$6:$AN$238,36,FALSE) -> 0.07 | AF59: =(U59+W59+Z59+AB59+AD59+AA59+VLOOKUP(C59,[1]apoio_Prec_Folha!$A:$S,7,FALSE))*AE59 -> 444.44786 | AG59: =TRUNC(U59+W59+Z59+AB59+AA59+AD59+AF59,2) -> 6247.7 | AH59: =TRUNC($AG59*ROUND((7.6%+1.65%+$I59)/(1-(7.6%+1.65%+$I59)),5)+$AG59,2) -> 7119.87 | AI59: =AH59*K59 -> 28479.48 | AJ59: =AH59*L59 -> 1708768.8 | AK59: =VLOOKUP(D59,[1]apoio_Preços_MGS!$A$6:$AN$238,39,FALSE) -> 136.36364 | AL59: =IF(J59="demais municípios",VLOOKUP(D59,[1]apoio_Preços_MGS!$A$6:$AN$238,39,FALSE),0) -> 136.36364 | AM59: 0 | AN59: =AK59*K59 -> 545.45455 | AO59: =VLOOKUP(D59,[1]apoio_Preços_MGS!$A$6:$AN$238,40,FALSE) -> 545.99 | AP59: =IF(J59="demais municípios",VLOOKUP(D59,[1]apoio_Preços_MGS!$A$6:$AN$238,40,FALSE),0) -> 545.99 | AQ59: 0 | AR59: =AO59*K59 -> 2183.96 | AS59: =AN59+AR59 -> 2729.4145 | AT59: =(AN59+AR59)*60 -> 163764.87
A60: =CONCATENATE(F60,H60,I60) -> 106437300,04 | B60: =CONCATENATE(D60,I60) -> 3520,04 | C60: =VLOOKUP(D60,[1]apoio_Preços_MGS!$A$6:$B$238,2,FALSE) -> ANALISTA ESPECIALIZADO EM CIÊNCIAS HUMANAS | D60: 352 | E60: =VLOOKUP(D60,[1]apoio_Preços_MGS!$A$6:$F$238,6,FALSE) -> ANALISTA ESPECIALIZADO EM CIÊNCIAS HUMANAS - DIARISTA DIURNO - 30H | F60: =IFERROR(VLOOKUP(D60,'[1]apoio_cód catmas'!$B$2:$C$863,2,FALSE),0) -> 106437 | G60: =IF(H60="N/A",VLOOKUP(F60&40,'[1]apoio_cód catmas'!$A$1:$G$233,4,FALSE),VLOOKUP(F60&H60,'[1]apoio_cód catmas'!$A$1:$G$233,4,FALSE)) -> ANALISTA ESPECIALIZADO EM CIENCIAS HUMANAS - 30H, 36H, 40H E 44H. | H60: 30 | I60: 0.04 | J60: Demais Municípios | K60: 2 | L60: =K60*60 -> 120 | M60: =VLOOKUP(D60,[1]apoio_Preços_MGS!$A$6:$AN$238,18,FALSE) -> 3121.6379 | N60: =VLOOKUP(D60,[1]apoio_Preços_MGS!$A$6:$AN$238,19,FALSE) -> 0 | O60: =VLOOKUP(D60,[1]apoio_Preços_MGS!$A$6:$AN$238,20,FALSE) -> 0 | P60: =VLOOKUP(D60,[1]apoio_Preços_MGS!$A$6:$AN$238,21,FALSE) -> 0 | Q60: =VLOOKUP(D60,[1]apoio_Preços_MGS!$A$6:$AN$238,22,FALSE) -> 0 | R60: =VLOOKUP(D60,[1]apoio_Preços_MGS!$A$6:$AN$238,23,FALSE) -> 0 | S60: =VLOOKUP(D60,[1]apoio_Preços_MGS!$A$6:$AN$238,24,FALSE) -> 0 | T60: =VLOOKUP(D60,[1]apoio_Preços_MGS!$A$6:$AN$238,25,FALSE) -> 0 | U60: =SUM(M60:T60) -> 3121.6379 | V60: =VLOOKUP(D60,[1]apoio_Preços_MGS!$A$6:$AN$238,27,FALSE) -> 0.818 | W60: =U60*V60 -> 2553.4998 | X60: =VLOOKUP(D60,[1]apoio_Preços_MGS!$A$6:$AN$238,29,FALSE) -> 0 | Y60: =VLOOKUP(D60,[1]apoio_Preços_MGS!$A$6:$AN$238,30,FALSE) -> 0 | Z60: =Y60+X60 -> 0 | AA60: =VLOOKUP(D60,[1]apoio_Preços_MGS!$A$6:$AN$238,32,FALSE) -> 5.9935447 | AB60: =VLOOKUP(D60,[1]apoio_Preços_MGS!$A$6:$AN$238,33,FALSE) -> 122.12538 | AC60: =VLOOKUP(D60,[1]apoio_Preços_MGS!$A$6:$AN$238,34,FALSE) -> 0 | AD60: =(U60+W60+Z60+AB60+AA60+VLOOKUP(C60,[1]apoio_Prec_Folha!$A:$S,7,FALSE))*AC60 -> 0 | AE60: =VLOOKUP(D60,[1]apoio_Preços_MGS!$A$6:$AN$238,36,FALSE) -> 0.07 | AF60: =(U60+W60+Z60+AB60+AD60+AA60+VLOOKUP(C60,[1]apoio_Prec_Folha!$A:$S,7,FALSE))*AE60 -> 444.44786 | AG60: =TRUNC(U60+W60+Z60+AB60+AA60+AD60+AF60,2) -> 6247.7 | AH60: =TRUNC($AG60*ROUND((7.6%+1.65%+$I60)/(1-(7.6%+1.65%+$I60)),5)+$AG60,2) -> 7201.97 | AI60: =AH60*K60 -> 14403.94 | AJ60: =AH60*L60 -> 864236.4 | AK60: =VLOOKUP(D60,[1]apoio_Preços_MGS!$A$6:$AN$238,39,FALSE) -> 136.36364 | AL60: =IF(J60="demais municípios",VLOOKUP(D60,[1]apoio_Preços_MGS!$A$6:$AN$238,39,FALSE),0) -> 136.36364 | AM60: 0 | AN60: =AK60*K60 -> 272.72727 | AO60: =VLOOKUP(D60,[1]apoio_Preços_MGS!$A$6:$AN$238,40,FALSE) -> 545.99 | AP60: =IF(J60="demais municípios",VLOOKUP(D60,[1]apoio_Preços_MGS!$A$6:$AN$238,40,FALSE),0) -> 545.99 | AQ60: 0 | AR60: =AO60*K60 -> 1091.98 | AS60: =AN60+AR60 -> 1364.7073 | AT60: =(AN60+AR60)*60 -> 81882.436
A61: =CONCATENATE(F61,H61,I61) -> 106437300,05 | B61: =CONCATENATE(D61,I61) -> 3520,05 | C61: =VLOOKUP(D61,[1]apoio_Preços_MGS!$A$6:$B$238,2,FALSE) -> ANALISTA ESPECIALIZADO EM CIÊNCIAS HUMANAS | D61: 352 | E61: =VLOOKUP(D61,[1]apoio_Preços_MGS!$A$6:$F$238,6,FALSE) -> ANALISTA ESPECIALIZADO EM CIÊNCIAS HUMANAS - DIARISTA DIURNO - 30H | F61: =IFERROR(VLOOKUP(D61,'[1]apoio_cód catmas'!$B$2:$C$863,2,FALSE),0) -> 106437 | G61: =IF(H61="N/A",VLOOKUP(F61&40,'[1]apoio_cód catmas'!$A$1:$G$233,4,FALSE),VLOOKUP(F61&H61,'[1]apoio_cód catmas'!$A$1:$G$233,4,FALSE)) -> ANALISTA ESPECIALIZADO EM CIENCIAS HUMANAS - 30H, 36H, 40H E 44H. | H61: 30 | I61: 0.05 | J61: Demais Municípios | K61: 2 | L61: =K61*56 -> 112 | M61: =VLOOKUP(D61,[1]apoio_Preços_MGS!$A$6:$AN$238,18,FALSE) -> 3121.6379 | N61: =VLOOKUP(D61,[1]apoio_Preços_MGS!$A$6:$AN$238,19,FALSE) -> 0 | O61: =VLOOKUP(D61,[1]apoio_Preços_MGS!$A$6:$AN$238,20,FALSE) -> 0 | P61: =VLOOKUP(D61,[1]apoio_Preços_MGS!$A$6:$AN$238,21,FALSE) -> 0 | Q61: =VLOOKUP(D61,[1]apoio_Preços_MGS!$A$6:$AN$238,22,FALSE) -> 0 | R61: =VLOOKUP(D61,[1]apoio_Preços_MGS!$A$6:$AN$238,23,FALSE) -> 0 | S61: =VLOOKUP(D61,[1]apoio_Preços_MGS!$A$6:$AN$238,24,FALSE) -> 0 | T61: =VLOOKUP(D61,[1]apoio_Preços_MGS!$A$6:$AN$238,25,FALSE) -> 0 | U61: =SUM(M61:T61) -> 3121.6379 | V61: =VLOOKUP(D61,[1]apoio_Preços_MGS!$A$6:$AN$238,27,FALSE) -> 0.818 | W61: =U61*V61 -> 2553.4998 | X61: =VLOOKUP(D61,[1]apoio_Preços_MGS!$A$6:$AN$238,29,FALSE) -> 0 | Y61: =VLOOKUP(D61,[1]apoio_Preços_MGS!$A$6:$AN$238,30,FALSE) -> 0 | Z61: =Y61+X61 -> 0 | AA61: =VLOOKUP(D61,[1]apoio_Preços_MGS!$A$6:$AN$238,32,FALSE) -> 5.9935447 | AB61: =VLOOKUP(D61,[1]apoio_Preços_MGS!$A$6:$AN$238,33,FALSE) -> 122.12538 | AC61: =VLOOKUP(D61,[1]apoio_Preços_MGS!$A$6:$AN$238,34,FALSE) -> 0 | AD61: =(U61+W61+Z61+AB61+AA61+VLOOKUP(C61,[1]apoio_Prec_Folha!$A:$S,7,FALSE))*AC61 -> 0 | AE61: =VLOOKUP(D61,[1]apoio_Preços_MGS!$A$6:$AN$238,36,FALSE) -> 0.07 | AF61: =(U61+W61+Z61+AB61+AD61+AA61+VLOOKUP(C61,[1]apoio_Prec_Folha!$A:$S,7,FALSE))*AE61 -> 444.44786 | AG61: =TRUNC(U61+W61+Z61+AB61+AA61+AD61+AF61,2) -> 6247.7 | AH61: =TRUNC($AG61*ROUND((7.6%+1.65%+$I61)/(1-(7.6%+1.65%+$I61)),5)+$AG61,2) -> 7285.94 | AI61: =AH61*K61 -> 14571.88 | AJ61: =AH61*L61 -> 816025.28 | AK61: =VLOOKUP(D61,[1]apoio_Preços_MGS!$A$6:$AN$238,39,FALSE) -> 136.36364 | AL61: =IF(J61="demais municípios",VLOOKUP(D61,[1]apoio_Preços_MGS!$A$6:$AN$238,39,FALSE),0) -> 136.36364 | AM61: 0 | AN61: =AK61*K61 -> 272.72727 | AO61: =VLOOKUP(D61,[1]apoio_Preços_MGS!$A$6:$AN$238,40,FALSE) -> 545.99 | AP61: =IF(J61="demais municípios",VLOOKUP(D61,[1]apoio_Preços_MGS!$A$6:$AN$238,40,FALSE),0) -> 545.99 | AQ61: 0 | AR61: =AO61*K61 -> 1091.98 | AS61: =AN61+AR61 -> 1364.7073 | AT61: =(AN61+AR61)*60 -> 81882.436
A62: =CONCATENATE(F62,H62,I62) -> 106437300,05 | B62: =CONCATENATE(D62,I62) -> 3520,05 | C62: =VLOOKUP(D62,[1]apoio_Preços_MGS!$A$6:$B$238,2,FALSE) -> ANALISTA ESPECIALIZADO EM CIÊNCIAS HUMANAS | D62: 352 | E62: =VLOOKUP(D62,[1]apoio_Preços_MGS!$A$6:$F$238,6,FALSE) -> ANALISTA ESPECIALIZADO EM CIÊNCIAS HUMANAS - DIARISTA DIURNO - 30H | F62: =IFERROR(VLOOKUP(D62,'[1]apoio_cód catmas'!$B$2:$C$863,2,FALSE),0) -> 106437 | G62: =IF(H62="N/A",VLOOKUP(F62&40,'[1]apoio_cód catmas'!$A$1:$G$233,4,FALSE),VLOOKUP(F62&H62,'[1]apoio_cód catmas'!$A$1:$G$233,4,FALSE)) -> ANALISTA ESPECIALIZADO EM CIENCIAS HUMANAS - 30H, 36H, 40H E 44H. | H62: 30 | I62: 0.05 | J62: Demais Municípios | K62: =17-K63 -> 4 | L62: =K62*60 -> 240 | M62: =VLOOKUP(D62,[1]apoio_Preços_MGS!$A$6:$AN$238,18,FALSE) -> 3121.6379 | N62: =VLOOKUP(D62,[1]apoio_Preços_MGS!$A$6:$AN$238,19,FALSE) -> 0 | O62: =VLOOKUP(D62,[1]apoio_Preços_MGS!$A$6:$AN$238,20,FALSE) -> 0 | P62: =VLOOKUP(D62,[1]apoio_Preços_MGS!$A$6:$AN$238,21,FALSE) -> 0 | Q62: =VLOOKUP(D62,[1]apoio_Preços_MGS!$A$6:$AN$238,22,FALSE) -> 0 | R62: =VLOOKUP(D62,[1]apoio_Preços_MGS!$A$6:$AN$238,23,FALSE) -> 0 | S62: =VLOOKUP(D62,[1]apoio_Preços_MGS!$A$6:$AN$238,24,FALSE) -> 0 | T62: =VLOOKUP(D62,[1]apoio_Preços_MGS!$A$6:$AN$238,25,FALSE) -> 0 | U62: =SUM(M62:T62) -> 3121.6379 | V62: =VLOOKUP(D62,[1]apoio_Preços_MGS!$A$6:$AN$238,27,FALSE) -> 0.818 | W62: =U62*V62 -> 2553.4998 | X62: =VLOOKUP(D62,[1]apoio_Preços_MGS!$A$6:$AN$238,29,FALSE) -> 0 | Y62: =VLOOKUP(D62,[1]apoio_Preços_MGS!$A$6:$AN$238,30,FALSE) -> 0 | Z62: =Y62+X62 -> 0 | AA62: =VLOOKUP(D62,[1]apoio_Preços_MGS!$A$6:$AN$238,32,FALSE) -> 5.9935447 | AB62: =VLOOKUP(D62,[1]apoio_Preços_MGS!$A$6:$AN$238,33,FALSE) -> 122.12538 | AC62: =VLOOKUP(D62,[1]apoio_Preços_MGS!$A$6:$AN$238,34,FALSE) -> 0 | AD62: =(U62+W62+Z62+AB62+AA62+VLOOKUP(C62,[1]apoio_Prec_Folha!$A:$S,7,FALSE))*AC62 -> 0 | AE62: =VLOOKUP(D62,[1]apoio_Preços_MGS!$A$6:$AN$238,36,FALSE) -> 0.07 | AF62: =(U62+W62+Z62+AB62+AD62+AA62+VLOOKUP(C62,[1]apoio_Prec_Folha!$A:$S,7,FALSE))*AE62 -> 444.44786 | AG62: =TRUNC(U62+W62+Z62+AB62+AA62+AD62+AF62,2) -> 6247.7 | AH62: =TRUNC($AG62*ROUND((7.6%+1.65%+$I62)/(1-(7.6%+1.65%+$I62)),5)+$AG62,2) -> 7285.94 | AI62: =AH62*K62 -> 29143.76 | AJ62: =AH62*L62 -> 1748625.6 | AK62: =VLOOKUP(D62,[1]apoio_Preços_MGS!$A$6:$AN$238,39,FALSE) -> 136.36364 | AL62: =IF(J62="demais municípios",VLOOKUP(D62,[1]apoio_Preços_MGS!$A$6:$AN$238,39,FALSE),0) -> 136.36364 | AM62: 0 | AN62: =AK62*K62 -> 545.45455 | AO62: =VLOOKUP(D62,[1]apoio_Preços_MGS!$A$6:$AN$238,40,FALSE) -> 545.99 | AP62: =IF(J62="demais municípios",VLOOKUP(D62,[1]apoio_Preços_MGS!$A$6:$AN$238,40,FALSE),0) -> 545.99 | AQ62: 0 | AR62: =AO62*K62 -> 2183.96 | AS62: =AN62+AR62 -> 2729.4145 | AT62: =(AN62+AR62)*60 -> 163764.87
A63: =CONCATENATE(F63,H63,I63) -> 106437300,05 | B63: =CONCATENATE(D63,I63) -> 3520,05 | C63: =VLOOKUP(D63,[1]apoio_Preços_MGS!$A$6:$B$238,2,FALSE) -> ANALISTA ESPECIALIZADO EM CIÊNCIAS HUMANAS | D63: 352 | E63: =VLOOKUP(D63,[1]apoio_Preços_MGS!$A$6:$F$238,6,FALSE) -> ANALISTA ESPECIALIZADO EM CIÊNCIAS HUMANAS - DIARISTA DIURNO - 30H | F63: =IFERROR(VLOOKUP(D63,'[1]apoio_cód catmas'!$B$2:$C$863,2,FALSE),0) -> 106437 | G63: =IF(H63="N/A",VLOOKUP(F63&40,'[1]apoio_cód catmas'!$A$1:$G$233,4,FALSE),VLOOKUP(F63&H63,'[1]apoio_cód catmas'!$A$1:$G$233,4,FALSE)) -> ANALISTA ESPECIALIZADO EM CIENCIAS HUMANAS - 30H, 36H, 40H E 44H. | H63: 30 | I63: 0.05 | J63: Belo Horizonte | K63: 13 | L63: =K63*60 -> 780 | M63: =VLOOKUP(D63,[1]apoio_Preços_MGS!$A$6:$AN$238,18,FALSE) -> 3121.6379 | N63: =VLOOKUP(D63,[1]apoio_Preços_MGS!$A$6:$AN$238,19,FALSE) -> 0 | O63: =VLOOKUP(D63,[1]apoio_Preços_MGS!$A$6:$AN$238,20,FALSE) -> 0 | P63: =VLOOKUP(D63,[1]apoio_Preços_MGS!$A$6:$AN$238,21,FALSE) -> 0 | Q63: =VLOOKUP(D63,[1]apoio_Preços_MGS!$A$6:$AN$238,22,FALSE) -> 0 | R63: =VLOOKUP(D63,[1]apoio_Preços_MGS!$A$6:$AN$238,23,FALSE) -> 0 | S63: =VLOOKUP(D63,[1]apoio_Preços_MGS!$A$6:$AN$238,24,FALSE) -> 0 | T63: =VLOOKUP(D63,[1]apoio_Preços_MGS!$A$6:$AN$238,25,FALSE) -> 0 | U63: =SUM(M63:T63) -> 3121.6379 | V63: =VLOOKUP(D63,[1]apoio_Preços_MGS!$A$6:$AN$238,27,FALSE) -> 0.818 | W63: =U63*V63 -> 2553.4998 | X63: =VLOOKUP(D63,[1]apoio_Preços_MGS!$A$6:$AN$238,29,FALSE) -> 0 | Y63: =VLOOKUP(D63,[1]apoio_Preços_MGS!$A$6:$AN$238,30,FALSE) -> 0 | Z63: =Y63+X63 -> 0 | AA63: =VLOOKUP(D63,[1]apoio_Preços_MGS!$A$6:$AN$238,32,FALSE) -> 5.9935447 | AB63: =VLOOKUP(D63,[1]apoio_Preços_MGS!$A$6:$AN$238,33,FALSE) -> 122.12538 | AC63: =VLOOKUP(D63,[1]apoio_Preços_MGS!$A$6:$AN$238,34,FALSE) -> 0 | AD63: =(U63+W63+Z63+AB63+AA63+VLOOKUP(C63,[1]apoio_Prec_Folha!$A:$S,7,FALSE))*AC63 -> 0 | AE63: =VLOOKUP(D63,[1]apoio_Preços_MGS!$A$6:$AN$238,36,FALSE) -> 0.07 | AF63: =(U63+W63+Z63+AB63+AD63+AA63+VLOOKUP(C63,[1]apoio_Prec_Folha!$A:$S,7,FALSE))*AE63 -> 444.44786 | AG63: =TRUNC(U63+W63+Z63+AB63+AA63+AD63+AF63,2) -> 6247.7 | AH63: =TRUNC($AG63*ROUND((7.6%+1.65%+$I63)/(1-(7.6%+1.65%+$I63)),5)+$AG63,2) -> 7285.94 | AI63: =AH63*K63 -> 94717.22 | AJ63: =AH63*L63 -> 5683033.2 | AK63: =VLOOKUP(D63,[1]apoio_Preços_MGS!$A$6:$AN$238,39,FALSE) -> 136.36364 | AL63: =IF(J63="demais municípios",VLOOKUP(D63,[1]apoio_Preços_MGS!$A$6:$AN$238,39,FALSE),0) -> 0 | AM63: =TRUNC(ROUND(($I63)/(1-($I63)),5)*VLOOKUP(D63,[1]apoio_Preços_MGS!$A$6:$AN$238,39,FALSE)+VLOOKUP(D63,[1]apoio_Preços_MGS!$A$6:$AN$238,39,FALSE),2) -> 143.54 | AN63: =AM63*K63 -> 1866.02 | AO63: =VLOOKUP(D63,[1]apoio_Preços_MGS!$A$6:$AN$238,40,FALSE) -> 545.99 | AP63: =IF(J63="demais municípios",VLOOKUP(D63,[1]apoio_Preços_MGS!$A$6:$AN$238,40,FALSE),0) -> 0 | AQ63: =TRUNC(ROUND(($I63)/(1-($I63)),5)*VLOOKUP(D63,[1]apoio_Preços_MGS!$A$6:$AN$238,40,FALSE)+VLOOKUP(D63,[1]apoio_Preços_MGS!$A$6:$AN$238,40,FALSE),2) -> 574.72 | AR63: =AQ63*K63 -> 7471.36 | AS63: =AN63+AR63 -> 9337.38 | AT63: =(AN63+AR63)*60 -> 560242.8
A64: =CONCATENATE(F64,H64,I64) -> 106437400,03 | B64: =CONCATENATE(D64,I64) -> 3540,03 | C64: =VLOOKUP(D64,[1]apoio_Preços_MGS!$A$6:$B$238,2,FALSE) -> ANALISTA ESPECIALIZADO EM CIÊNCIAS HUMANAS | D64: 354 | E64: =VLOOKUP(D64,[1]apoio_Preços_MGS!$A$6:$F$238,6,FALSE) -> ANALISTA ESPECIALIZADO EM CIÊNCIAS HUMANAS - DIARISTA DIURNO - 40H | F64: =IFERROR(VLOOKUP(D64,'[1]apoio_cód catmas'!$B$2:$C$863,2,FALSE),0) -> 106437 | G64: =IF(H64="N/A",VLOOKUP(F64&40,'[1]apoio_cód catmas'!$A$1:$G$233,4,FALSE),VLOOKUP(F64&H64,'[1]apoio_cód catmas'!$A$1:$G$233,4,FALSE)) -> ANALISTA ESPECIALIZADO EM CIENCIAS HUMANAS - 30H, 36H, 40H E 44H. | H64: 40 | I64: 0.03 | J64: Demais Municípios | K64: =11-2 -> 9 | L64: =K64*60 -> 540 | M64: =VLOOKUP(D64,[1]apoio_Preços_MGS!$A$6:$AN$238,18,FALSE) -> 4162.1838 | N64: =VLOOKUP(D64,[1]apoio_Preços_MGS!$A$6:$AN$238,19,FALSE) -> 0 | O64: =VLOOKUP(D64,[1]apoio_Preços_MGS!$A$6:$AN$238,20,FALSE) -> 0 | P64: =VLOOKUP(D64,[1]apoio_Preços_MGS!$A$6:$AN$238,21,FALSE) -> 0 | Q64: =VLOOKUP(D64,[1]apoio_Preços_MGS!$A$6:$AN$238,22,FALSE) -> 0 | R64: =VLOOKUP(D64,[1]apoio_Preços_MGS!$A$6:$AN$238,23,FALSE) -> 0 | S64: =VLOOKUP(D64,[1]apoio_Preços_MGS!$A$6:$AN$238,24,FALSE) -> 0 | T64: =VLOOKUP(D64,[1]apoio_Preços_MGS!$A$6:$AN$238,25,FALSE) -> 0 | U64: =SUM(M64:T64) -> 4162.1838 | V64: =VLOOKUP(D64,[1]apoio_Preços_MGS!$A$6:$AN$238,27,FALSE) -> 0.818 | W64: =U64*V64 -> 3404.6663 | X64: =VLOOKUP(D64,[1]apoio_Preços_MGS!$A$6:$AN$238,29,FALSE) -> 0 | Y64: =VLOOKUP(D64,[1]apoio_Preços_MGS!$A$6:$AN$238,30,FALSE) -> 0 | Z64: =Y64+X64 -> 0 | AA64: =VLOOKUP(D64,[1]apoio_Preços_MGS!$A$6:$AN$238,32,FALSE) -> 7.9913929 | AB64: =VLOOKUP(D64,[1]apoio_Preços_MGS!$A$6:$AN$238,33,FALSE) -> 96.307706 | AC64: =VLOOKUP(D64,[1]apoio_Preços_MGS!$A$6:$AN$238,34,FALSE) -> 0 | AD64: =(U64+W64+Z64+AB64+AA64+VLOOKUP(C64,[1]apoio_Prec_Folha!$A:$S,7,FALSE))*AC64 -> 0 | AE64: =VLOOKUP(D64,[1]apoio_Preços_MGS!$A$6:$AN$238,36,FALSE) -> 0.07 | AF64: =(U64+W64+Z64+AB64+AD64+AA64+VLOOKUP(C64,[1]apoio_Prec_Folha!$A:$S,7,FALSE))*AE64 -> 575.20035 | AG64: =TRUNC(U64+W64+Z64+AB64+AA64+AD64+AF64,2) -> 8246.34 | AH64: =TRUNC($AG64*ROUND((7.6%+1.65%+$I64)/(1-(7.6%+1.65%+$I64)),5)+$AG64,2) -> 9397.52 | AI64: =AH64*K64 -> 84577.68 | AJ64: =AH64*L64 -> 5074660.8 | AK64: =VLOOKUP(D64,[1]apoio_Preços_MGS!$A$6:$AN$238,39,FALSE) -> 181.81818 | AL64: =IF(J64="demais municípios",VLOOKUP(D64,[1]apoio_Preços_MGS!$A$6:$AN$238,39,FALSE),0) -> 181.81818 | AM64: 0 | AN64: =AK64*K64 -> 1636.3636 | AO64: =VLOOKUP(D64,[1]apoio_Preços_MGS!$A$6:$AN$238,40,FALSE) -> 545.99 | AP64: =IF(J64="demais municípios",VLOOKUP(D64,[1]apoio_Preços_MGS!$A$6:$AN$238,40,FALSE),0) -> 545.99 | AQ64: 0 | AR64: =AO64*K64 -> 4913.91 | AS64: =AN64+AR64 -> 6550.2736 | AT64: =(AN64+AR64)*60 -> 393016.42
A65: =CONCATENATE(F65,H65,I65) -> 106437400,05 | B65: =CONCATENATE(D65,I65) -> 3540,05 | C65: =VLOOKUP(D65,[1]apoio_Preços_MGS!$A$6:$B$238,2,FALSE) -> ANALISTA ESPECIALIZADO EM CIÊNCIAS HUMANAS | D65: 354 | E65: =VLOOKUP(D65,[1]apoio_Preços_MGS!$A$6:$F$238,6,FALSE) -> ANALISTA ESPECIALIZADO EM CIÊNCIAS HUMANAS - DIARISTA DIURNO - 40H | F65: =IFERROR(VLOOKUP(D65,'[1]apoio_cód catmas'!$B$2:$C$863,2,FALSE),0) -> 106437 | G65: =IF(H65="N/A",VLOOKUP(F65&40,'[1]apoio_cód catmas'!$A$1:$G$233,4,FALSE),VLOOKUP(F65&H65,'[1]apoio_cód catmas'!$A$1:$G$233,4,FALSE)) -> ANALISTA ESPECIALIZADO EM CIENCIAS HUMANAS - 30H, 36H, 40H E 44H. | H65: 40 | I65: 0.05 | J65: Demais Municípios | K65: 2 | L65: =K65*56 -> 112 | M65: =VLOOKUP(D65,[1]apoio_Preços_MGS!$A$6:$AN$238,18,FALSE) -> 4162.1838 | N65: =VLOOKUP(D65,[1]apoio_Preços_MGS!$A$6:$AN$238,19,FALSE) -> 0 | O65: =VLOOKUP(D65,[1]apoio_Preços_MGS!$A$6:$AN$238,20,FALSE) -> 0 | P65: =VLOOKUP(D65,[1]apoio_Preços_MGS!$A$6:$AN$238,21,FALSE) -> 0 | Q65: =VLOOKUP(D65,[1]apoio_Preços_MGS!$A$6:$AN$238,22,FALSE) -> 0 | R65: =VLOOKUP(D65,[1]apoio_Preços_MGS!$A$6:$AN$238,23,FALSE) -> 0 | S65: =VLOOKUP(D65,[1]apoio_Preços_MGS!$A$6:$AN$238,24,FALSE) -> 0 | T65: =VLOOKUP(D65,[1]apoio_Preços_MGS!$A$6:$AN$238,25,FALSE) -> 0 | U65: =SUM(M65:T65) -> 4162.1838 | V65: =VLOOKUP(D65,[1]apoio_Preços_MGS!$A$6:$AN$238,27,FALSE) -> 0.818 | W65: =U65*V65 -> 3404.6663 | X65: =VLOOKUP(D65,[1]apoio_Preços_MGS!$A$6:$AN$238,29,FALSE) -> 0 | Y65: =VLOOKUP(D65,[1]apoio_Preços_MGS!$A$6:$AN$238,30,FALSE) -> 0 | Z65: =Y65+X65 -> 0 | AA65: =VLOOKUP(D65,[1]apoio_Preços_MGS!$A$6:$AN$238,32,FALSE) -> 7.9913929 | AB65: =VLOOKUP(D65,[1]apoio_Preços_MGS!$A$6:$AN$238,33,FALSE) -> 96.307706 | AC65: =VLOOKUP(D65,[1]apoio_Preços_MGS!$A$6:$AN$238,34,FALSE) -> 0 | AD65: =(U65+W65+Z65+AB65+AA65+VLOOKUP(C65,[1]apoio_Prec_Folha!$A:$S,7,FALSE))*AC65 -> 0 | AE65: =VLOOKUP(D65,[1]apoio_Preços_MGS!$A$6:$AN$238,36,FALSE) -> 0.07 | AF65: =(U65+W65+Z65+AB65+AD65+AA65+VLOOKUP(C65,[1]apoio_Prec_Folha!$A:$S,7,FALSE))*AE65 -> 575.20035 | AG65: =TRUNC(U65+W65+Z65+AB65+AA65+AD65+AF65,2) -> 8246.34 | AH65: =TRUNC($AG65*ROUND((7.6%+1.65%+$I65)/(1-(7.6%+1.65%+$I65)),5)+$AG65,2) -> 9616.71 | AI65: =AH65*K65 -> 19233.42 | AJ65: =AH65*L65 -> 1077071.5 | AK65: =VLOOKUP(D65,[1]apoio_Preços_MGS!$A$6:$AN$238,39,FALSE) -> 181.81818 | AL65: =IF(J65="demais municípios",VLOOKUP(D65,[1]apoio_Preços_MGS!$A$6:$AN$238,39,FALSE),0) -> 181.81818 | AM65: 0 | AN65: =AK65*K65 -> 363.63636 | AO65: =VLOOKUP(D65,[1]apoio_Preços_MGS!$A$6:$AN$238,40,FALSE) -> 545.99 | AP65: =IF(J65="demais municípios",VLOOKUP(D65,[1]apoio_Preços_MGS!$A$6:$AN$238,40,FALSE),0) -> 545.99 | AQ65: 0 | AR65: =AO65*K65 -> 1091.98 | AS65: =AN65+AR65 -> 1455.6164 | AT65: =(AN65+AR65)*60 -> 87336.982
A66: =CONCATENATE(F66,H66,I66) -> 106437400,05 | B66: =CONCATENATE(D66,I66) -> 3540,05 | C66: =VLOOKUP(D66,[1]apoio_Preços_MGS!$A$6:$B$238,2,FALSE) -> ANALISTA ESPECIALIZADO EM CIÊNCIAS HUMANAS | D66: 354 | E66: =VLOOKUP(D66,[1]apoio_Preços_MGS!$A$6:$F$238,6,FALSE) -> ANALISTA ESPECIALIZADO EM CIÊNCIAS HUMANAS - DIARISTA DIURNO - 40H | F66: =IFERROR(VLOOKUP(D66,'[1]apoio_cód catmas'!$B$2:$C$863,2,FALSE),0) -> 106437 | G66: =IF(H66="N/A",VLOOKUP(F66&40,'[1]apoio_cód catmas'!$A$1:$G$233,4,FALSE),VLOOKUP(F66&H66,'[1]apoio_cód catmas'!$A$1:$G$233,4,FALSE)) -> ANALISTA ESPECIALIZADO EM CIENCIAS HUMANAS - 30H, 36H, 40H E 44H. | H66: 40 | I66: 0.05 | J66: Demais Municípios | K66: =89-K67 -> 4 | L66: =K66*60 -> 240 | M66: =VLOOKUP(D66,[1]apoio_Preços_MGS!$A$6:$AN$238,18,FALSE) -> 4162.1838 | N66: =VLOOKUP(D66,[1]apoio_Preços_MGS!$A$6:$AN$238,19,FALSE) -> 0 | O66: =VLOOKUP(D66,[1]apoio_Preços_MGS!$A$6:$AN$238,20,FALSE) -> 0 | P66: =VLOOKUP(D66,[1]apoio_Preços_MGS!$A$6:$AN$238,21,FALSE) -> 0 | Q66: =VLOOKUP(D66,[1]apoio_Preços_MGS!$A$6:$AN$238,22,FALSE) -> 0 | R66: =VLOOKUP(D66,[1]apoio_Preços_MGS!$A$6:$AN$238,23,FALSE) -> 0 | S66: =VLOOKUP(D66,[1]apoio_Preços_MGS!$A$6:$AN$238,24,FALSE) -> 0 | T66: =VLOOKUP(D66,[1]apoio_Preços_MGS!$A$6:$AN$238,25,FALSE) -> 0 | U66: =SUM(M66:T66) -> 4162.1838 | V66: =VLOOKUP(D66,[1]apoio_Preços_MGS!$A$6:$AN$238,27,FALSE) -> 0.818 | W66: =U66*V66 -> 3404.6663 | X66: =VLOOKUP(D66,[1]apoio_Preços_MGS!$A$6:$AN$238,29,FALSE) -> 0 | Y66: =VLOOKUP(D66,[1]apoio_Preços_MGS!$A$6:$AN$238,30,FALSE) -> 0 | Z66: =Y66+X66 -> 0 | AA66: =VLOOKUP(D66,[1]apoio_Preços_MGS!$A$6:$AN$238,32,FALSE) -> 7.9913929 | AB66: =VLOOKUP(D66,[1]apoio_Preços_MGS!$A$6:$AN$238,33,FALSE) -> 96.307706 | AC66: =VLOOKUP(D66,[1]apoio_Preços_MGS!$A$6:$AN$238,34,FALSE) -> 0 | AD66: =(U66+W66+Z66+AB66+AA66+VLOOKUP(C66,[1]apoio_Prec_Folha!$A:$S,7,FALSE))*AC66 -> 0 | AE66: =VLOOKUP(D66,[1]apoio_Preços_MGS!$A$6:$AN$238,36,FALSE) -> 0.07 | AF66: =(U66+W66+Z66+AB66+AD66+AA66+VLOOKUP(C66,[1]apoio_Prec_Folha!$A:$S,7,FALSE))*AE66 -> 575.20035 | AG66: =TRUNC(U66+W66+Z66+AB66+AA66+AD66+AF66,2) -> 8246.34 | AH66: =TRUNC($AG66*ROUND((7.6%+1.65%+$I66)/(1-(7.6%+1.65%+$I66)),5)+$AG66,2) -> 9616.71 | AI66: =AH66*K66 -> 38466.84 | AJ66: =AH66*L66 -> 2308010.4 | AK66: =VLOOKUP(D66,[1]apoio_Preços_MGS!$A$6:$AN$238,39,FALSE) -> 181.81818 | AL66: =IF(J66="demais municípios",VLOOKUP(D66,[1]apoio_Preços_MGS!$A$6:$AN$238,39,FALSE),0) -> 181.81818 | AM66: 0 | AN66: =AK66*K66 -> 727.27273 | AO66: =VLOOKUP(D66,[1]apoio_Preços_MGS!$A$6:$AN$238,40,FALSE) -> 545.99 | AP66: =IF(J66="demais municípios",VLOOKUP(D66,[1]apoio_Preços_MGS!$A$6:$AN$238,40,FALSE),0) -> 545.99 | AQ66: 0 | AR66: =AO66*K66 -> 2183.96 | AS66: =AN66+AR66 -> 2911.2327 | AT66: =(AN66+AR66)*60 -> 174673.96
A67: =CONCATENATE(F67,H67,I67) -> 106437400,05 | B67: =CONCATENATE(D67,I67) -> 3540,05 | C67: =VLOOKUP(D67,[1]apoio_Preços_MGS!$A$6:$B$238,2,FALSE) -> ANALISTA ESPECIALIZADO EM CIÊNCIAS HUMANAS | D67: 354 | E67: =VLOOKUP(D67,[1]apoio_Preços_MGS!$A$6:$F$238,6,FALSE) -> ANALISTA ESPECIALIZADO EM CIÊNCIAS HUMANAS - DIARISTA DIURNO - 40H | F67: =IFERROR(VLOOKUP(D67,'[1]apoio_cód catmas'!$B$2:$C$863,2,FALSE),0) -> 106437 | G67: =IF(H67="N/A",VLOOKUP(F67&40,'[1]apoio_cód catmas'!$A$1:$G$233,4,FALSE),VLOOKUP(F67&H67,'[1]apoio_cód catmas'!$A$1:$G$233,4,FALSE)) -> ANALISTA ESPECIALIZADO EM CIENCIAS HUMANAS - 30H, 36H, 40H E 44H. | H67: 40 | I67: 0.05 | J67: Belo Horizonte | K67: 85 | L67: =K67*60 -> 5100 | M67: =VLOOKUP(D67,[1]apoio_Preços_MGS!$A$6:$AN$238,18,FALSE) -> 4162.1838 | N67: =VLOOKUP(D67,[1]apoio_Preços_MGS!$A$6:$AN$238,19,FALSE) -> 0 | O67: =VLOOKUP(D67,[1]apoio_Preços_MGS!$A$6:$AN$238,20,FALSE) -> 0 | P67: =VLOOKUP(D67,[1]apoio_Preços_MGS!$A$6:$AN$238,21,FALSE) -> 0 | Q67: =VLOOKUP(D67,[1]apoio_Preços_MGS!$A$6:$AN$238,22,FALSE) -> 0 | R67: =VLOOKUP(D67,[1]apoio_Preços_MGS!$A$6:$AN$238,23,FALSE) -> 0 | S67: =VLOOKUP(D67,[1]apoio_Preços_MGS!$A$6:$AN$238,24,FALSE) -> 0 | T67: =VLOOKUP(D67,[1]apoio_Preços_MGS!$A$6:$AN$238,25,FALSE) -> 0 | U67: =SUM(M67:T67) -> 4162.1838 | V67: =VLOOKUP(D67,[1]apoio_Preços_MGS!$A$6:$AN$238,27,FALSE) -> 0.818 | W67: =U67*V67 -> 3404.6663 | X67: =VLOOKUP(D67,[1]apoio_Preços_MGS!$A$6:$AN$238,29,FALSE) -> 0 | Y67: =VLOOKUP(D67,[1]apoio_Preços_MGS!$A$6:$AN$238,30,FALSE) -> 0 | Z67: =Y67+X67 -> 0 | AA67: =VLOOKUP(D67,[1]apoio_Preços_MGS!$A$6:$AN$238,32,FALSE) -> 7.9913929 | AB67: =VLOOKUP(D67,[1]apoio_Preços_MGS!$A$6:$AN$238,33,FALSE) -> 96.307706 | AC67: =VLOOKUP(D67,[1]apoio_Preços_MGS!$A$6:$AN$238,34,FALSE) -> 0 | AD67: =(U67+W67+Z67+AB67+AA67+VLOOKUP(C67,[1]apoio_Prec_Folha!$A:$S,7,FALSE))*AC67 -> 0 | AE67: =VLOOKUP(D67,[1]apoio_Preços_MGS!$A$6:$AN$238,36,FALSE) -> 0.07 | AF67: =(U67+W67+Z67+AB67+AD67+AA67+VLOOKUP(C67,[1]apoio_Prec_Folha!$A:$S,7,FALSE))*AE67 -> 575.20035 | AG67: =TRUNC(U67+W67+Z67+AB67+AA67+AD67+AF67,2) -> 8246.34 | AH67: =TRUNC($AG67*ROUND((7.6%+1.65%+$I67)/(1-(7.6%+1.65%+$I67)),5)+$AG67,2) -> 9616.71 | AI67: =AH67*K67 -> 817420.35 | AJ67: =AH67*L67 -> 49045221 | AK67: =VLOOKUP(D67,[1]apoio_Preços_MGS!$A$6:$AN$238,39,FALSE) -> 181.81818 | AL67: =IF(J67="demais municípios",VLOOKUP(D67,[1]apoio_Preços_MGS!$A$6:$AN$238,39,FALSE),0) -> 0 | AM67: =TRUNC(ROUND(($I67)/(1-($I67)),5)*VLOOKUP(D67,[1]apoio_Preços_MGS!$A$6:$AN$238,39,FALSE)+VLOOKUP(D67,[1]apoio_Preços_MGS!$A$6:$AN$238,39,FALSE),2) -> 191.38 | AN67: =AM67*K67 -> 16267.3 | AO67: =VLOOKUP(D67,[1]apoio_Preços_MGS!$A$6:$AN$238,40,FALSE) -> 545.99 | AP67: =IF(J67="demais municípios",VLOOKUP(D67,[1]apoio_Preços_MGS!$A$6:$AN$238,40,FALSE),0) -> 0 | AQ67: =TRUNC(ROUND(($I67)/(1-($I67)),5)*VLOOKUP(D67,[1]apoio_Preços_MGS!$A$6:$AN$238,40,FALSE)+VLOOKUP(D67,[1]apoio_Preços_MGS!$A$6:$AN$238,40,FALSE),2) -> 574.72 | AR67: =AQ67*K67 -> 48851.2 | AS67: =AN67+AR67 -> 65118.5 | AT67: =(AN67+AR67)*60 -> 3907110
A68: =CONCATENATE(F68,H68,I68) -> 106437440,05 | B68: =CONCATENATE(D68,I68) -> 3550,05 | C68: =VLOOKUP(D68,[1]apoio_Preços_MGS!$A$6:$B$238,2,FALSE) -> ANALISTA ESPECIALIZADO EM CIÊNCIAS HUMANAS | D68: 355 | E68: =VLOOKUP(D68,[1]apoio_Preços_MGS!$A$6:$F$238,6,FALSE) -> ANALISTA ESPECIALIZADO EM CIÊNCIAS HUMANAS - DIARISTA DIURNO - 44H | F68: =IFERROR(VLOOKUP(D68,'[1]apoio_cód catmas'!$B$2:$C$863,2,FALSE),0) -> 106437 | G68: =IF(H68="N/A",VLOOKUP(F68&40,'[1]apoio_cód catmas'!$A$1:$G$233,4,FALSE),VLOOKUP(F68&H68,'[1]apoio_cód catmas'!$A$1:$G$233,4,FALSE)) -> ANALISTA ESPECIALIZADO EM CIENCIAS HUMANAS - 30H, 36H, 40H E 44H. | H68: 44 | I68: 0.05 | J68: Belo Horizonte | K68: 2 | L68: =K68*60 -> 120 | M68: =VLOOKUP(D68,[1]apoio_Preços_MGS!$A$6:$AN$238,18,FALSE) -> 4578.4022 | N68: =VLOOKUP(D68,[1]apoio_Preços_MGS!$A$6:$AN$238,19,FALSE) -> 0 | O68: =VLOOKUP(D68,[1]apoio_Preços_MGS!$A$6:$AN$238,20,FALSE) -> 0 | P68: =VLOOKUP(D68,[1]apoio_Preços_MGS!$A$6:$AN$238,21,FALSE) -> 0 | Q68: =VLOOKUP(D68,[1]apoio_Preços_MGS!$A$6:$AN$238,22,FALSE) -> 0 | R68: =VLOOKUP(D68,[1]apoio_Preços_MGS!$A$6:$AN$238,23,FALSE) -> 0 | S68: =VLOOKUP(D68,[1]apoio_Preços_MGS!$A$6:$AN$238,24,FALSE) -> 0 | T68: =VLOOKUP(D68,[1]apoio_Preços_MGS!$A$6:$AN$238,25,FALSE) -> 0 | U68: =SUM(M68:T68) -> 4578.4022 | V68: =VLOOKUP(D68,[1]apoio_Preços_MGS!$A$6:$AN$238,27,FALSE) -> 0.818 | W68: =U68*V68 -> 3745.133 | X68: =VLOOKUP(D68,[1]apoio_Preços_MGS!$A$6:$AN$238,29,FALSE) -> 0 | Y68: =VLOOKUP(D68,[1]apoio_Preços_MGS!$A$6:$AN$238,30,FALSE) -> 0 | Z68: =Y68+X68 -> 0 | AA68: =VLOOKUP(D68,[1]apoio_Preços_MGS!$A$6:$AN$238,32,FALSE) -> 8.7905322 | AB68: =VLOOKUP(D68,[1]apoio_Preços_MGS!$A$6:$AN$238,33,FALSE) -> 85.980635 | AC68: =VLOOKUP(D68,[1]apoio_Preços_MGS!$A$6:$AN$238,34,FALSE) -> 0 | AD68: =(U68+W68+Z68+AB68+AA68+VLOOKUP(C68,[1]apoio_Prec_Folha!$A:$S,7,FALSE))*AC68 -> 0 | AE68: =VLOOKUP(D68,[1]apoio_Preços_MGS!$A$6:$AN$238,36,FALSE) -> 0.07 | AF68: =(U68+W68+Z68+AB68+AD68+AA68+VLOOKUP(C68,[1]apoio_Prec_Folha!$A:$S,7,FALSE))*AE68 -> 627.50134 | AG68: =TRUNC(U68+W68+Z68+AB68+AA68+AD68+AF68,2) -> 9045.8 | AH68: =TRUNC($AG68*ROUND((7.6%+1.65%+$I68)/(1-(7.6%+1.65%+$I68)),5)+$AG68,2) -> 10549.03 | AI68: =AH68*K68 -> 21098.06 | AJ68: =AH68*L68 -> 1265883.6 | AK68: =VLOOKUP(D68,[1]apoio_Preços_MGS!$A$6:$AN$238,39,FALSE) -> 200 | AL68: =IF(J68="demais municípios",VLOOKUP(D68,[1]apoio_Preços_MGS!$A$6:$AN$238,39,FALSE),0) -> 0 | AM68: =TRUNC(ROUND(($I68)/(1-($I68)),5)*VLOOKUP(D68,[1]apoio_Preços_MGS!$A$6:$AN$238,39,FALSE)+VLOOKUP(D68,[1]apoio_Preços_MGS!$A$6:$AN$238,39,FALSE),2) -> 210.52 | AN68: =AM68*K68 -> 421.04 | AO68: =VLOOKUP(D68,[1]apoio_Preços_MGS!$A$6:$AN$238,40,FALSE) -> 545.99 | AP68: =IF(J68="demais municípios",VLOOKUP(D68,[1]apoio_Preços_MGS!$A$6:$AN$238,40,FALSE),0) -> 0 | AQ68: =TRUNC(ROUND(($I68)/(1-($I68)),5)*VLOOKUP(D68,[1]apoio_Preços_MGS!$A$6:$AN$238,40,FALSE)+VLOOKUP(D68,[1]apoio_Preços_MGS!$A$6:$AN$238,40,FALSE),2) -> 574.72 | AR68: =AQ68*K68 -> 1149.44 | AS68: =AN68+AR68 -> 1570.48 | AT68: =(AN68+AR68)*60 -> 94228.8
A69: =CONCATENATE(F69,H69,I69) -> 106445400,02 | B69: =CONCATENATE(D69,I69) -> 3300,02 | C69: =VLOOKUP(D69,[1]apoio_Preços_MGS!$A$6:$B$238,2,FALSE) -> ANALISTA ESPECIALIZADO EM CIÊNCIAS SOCIAIS APLICADAS I | D69: 330 | E69: =VLOOKUP(D69,[1]apoio_Preços_MGS!$A$6:$F$238,6,FALSE) -> ANALISTA ESPECIALIZADO EM CIÊNCIAS SOCIAIS APLICADAS I - DIARISTA DIURNO - 40H | F69: =IFERROR(VLOOKUP(D69,'[1]apoio_cód catmas'!$B$2:$C$863,2,FALSE),0) -> 106445 | G69: =IF(H69="N/A",VLOOKUP(F69&40,'[1]apoio_cód catmas'!$A$1:$G$233,4,FALSE),VLOOKUP(F69&H69,'[1]apoio_cód catmas'!$A$1:$G$233,4,FALSE)) -> ANALISTA ESPECIALIZADO EM CIENCIAS SOCIAIS APLICADAS I - 30H36H, 40H OU 44H | H69: 40 | I69: 0.02 | J69: Demais Municípios | K69: 1 | L69: =K69*60 -> 60 | M69: =VLOOKUP(D69,[1]apoio_Preços_MGS!$A$6:$AN$238,18,FALSE) -> 5222.6933 | N69: =VLOOKUP(D69,[1]apoio_Preços_MGS!$A$6:$AN$238,19,FALSE) -> 0 | O69: =VLOOKUP(D69,[1]apoio_Preços_MGS!$A$6:$AN$238,20,FALSE) -> 0 | P69: =VLOOKUP(D69,[1]apoio_Preços_MGS!$A$6:$AN$238,21,FALSE) -> 0 | Q69: =VLOOKUP(D69,[1]apoio_Preços_MGS!$A$6:$AN$238,22,FALSE) -> 0 | R69: =VLOOKUP(D69,[1]apoio_Preços_MGS!$A$6:$AN$238,23,FALSE) -> 0 | S69: =VLOOKUP(D69,[1]apoio_Preços_MGS!$A$6:$AN$238,24,FALSE) -> 0 | T69: =VLOOKUP(D69,[1]apoio_Preços_MGS!$A$6:$AN$238,25,FALSE) -> 0 | U69: =SUM(M69:T69) -> 5222.6933 | V69: =VLOOKUP(D69,[1]apoio_Preços_MGS!$A$6:$AN$238,27,FALSE) -> 0.818 | W69: =U69*V69 -> 4272.1631 | X69: =VLOOKUP(D69,[1]apoio_Preços_MGS!$A$6:$AN$238,29,FALSE) -> 0 | Y69: =VLOOKUP(D69,[1]apoio_Preços_MGS!$A$6:$AN$238,30,FALSE) -> 0 | Z69: =Y69+X69 -> 0 | AA69: =VLOOKUP(D69,[1]apoio_Preços_MGS!$A$6:$AN$238,32,FALSE) -> 9.6 | AB69: =VLOOKUP(D69,[1]apoio_Preços_MGS!$A$6:$AN$238,33,FALSE) -> 58.74533 | AC69: =VLOOKUP(D69,[1]apoio_Preços_MGS!$A$6:$AN$238,34,FALSE) -> 0 | AD69: =(U69+W69+Z69+AB69+AA69+VLOOKUP(C69,[1]apoio_Prec_Folha!$A:$S,7,FALSE))*AC69 -> 0 | AE69: =VLOOKUP(D69,[1]apoio_Preços_MGS!$A$6:$AN$238,36,FALSE) -> 0.07 | AF69: =(U69+W69+Z69+AB69+AD69+AA69+VLOOKUP(C69,[1]apoio_Prec_Folha!$A:$S,7,FALSE))*AE69 -> 708.03473 | AG69: =TRUNC(U69+W69+Z69+AB69+AA69+AD69+AF69,2) -> 10271.23 | AH69: =TRUNC($AG69*ROUND((7.6%+1.65%+$I69)/(1-(7.6%+1.65%+$I69)),5)+$AG69,2) -> 11573.21 | AI69: =AH69*K69 -> 11573.21 | AJ69: =AH69*L69 -> 694392.6 | AK69: =VLOOKUP(D69,[1]apoio_Preços_MGS!$A$6:$AN$238,39,FALSE) -> 181.81818 | AL69: =IF(J69="demais municípios",VLOOKUP(D69,[1]apoio_Preços_MGS!$A$6:$AN$238,39,FALSE),0) -> 181.81818 | AM69: 0 | AN69: =AK69*K69 -> 181.81818 | AO69: =VLOOKUP(D69,[1]apoio_Preços_MGS!$A$6:$AN$238,40,FALSE) -> 551.58 | AP69: =IF(J69="demais municípios",VLOOKUP(D69,[1]apoio_Preços_MGS!$A$6:$AN$238,40,FALSE),0) -> 551.58 | AQ69: 0 | AR69: =AO69*K69 -> 551.58 | AS69: =AN69+AR69 -> 733.39818 | AT69: =(AN69+AR69)*60 -> 44003.891
A70: =CONCATENATE(F70,H70,I70) -> 106445400,03 | B70: =CONCATENATE(D70,I70) -> 3300,03 | C70: =VLOOKUP(D70,[1]apoio_Preços_MGS!$A$6:$B$238,2,FALSE) -> ANALISTA ESPECIALIZADO EM CIÊNCIAS SOCIAIS APLICADAS I | D70: 330 | E70: =VLOOKUP(D70,[1]apoio_Preços_MGS!$A$6:$F$238,6,FALSE) -> ANALISTA ESPECIALIZADO EM CIÊNCIAS SOCIAIS APLICADAS I - DIARISTA DIURNO - 40H | F70: =IFERROR(VLOOKUP(D70,'[1]apoio_cód catmas'!$B$2:$C$863,2,FALSE),0) -> 106445 | G70: =IF(H70="N/A",VLOOKUP(F70&40,'[1]apoio_cód catmas'!$A$1:$G$233,4,FALSE),VLOOKUP(F70&H70,'[1]apoio_cód catmas'!$A$1:$G$233,4,FALSE)) -> ANALISTA ESPECIALIZADO EM CIENCIAS SOCIAIS APLICADAS I - 30H36H, 40H OU 44H | H70: 40 | I70: 0.03 | J70: Demais Municípios | K70: =12-1 -> 11 | L70: =K70*60 -> 660 | M70: =VLOOKUP(D70,[1]apoio_Preços_MGS!$A$6:$AN$238,18,FALSE) -> 5222.6933 | N70: =VLOOKUP(D70,[1]apoio_Preços_MGS!$A$6:$AN$238,19,FALSE) -> 0 | O70: =VLOOKUP(D70,[1]apoio_Preços_MGS!$A$6:$AN$238,20,FALSE) -> 0 | P70: =VLOOKUP(D70,[1]apoio_Preços_MGS!$A$6:$AN$238,21,FALSE) -> 0 | Q70: =VLOOKUP(D70,[1]apoio_Preços_MGS!$A$6:$AN$238,22,FALSE) -> 0 | R70: =VLOOKUP(D70,[1]apoio_Preços_MGS!$A$6:$AN$238,23,FALSE) -> 0 | S70: =VLOOKUP(D70,[1]apoio_Preços_MGS!$A$6:$AN$238,24,FALSE) -> 0 | T70: =VLOOKUP(D70,[1]apoio_Preços_MGS!$A$6:$AN$238,25,FALSE) -> 0 | U70: =SUM(M70:T70) -> 5222.6933 | V70: =VLOOKUP(D70,[1]apoio_Preços_MGS!$A$6:$AN$238,27,FALSE) -> 0.818 | W70: =U70*V70 -> 4272.1631 | X70: =VLOOKUP(D70,[1]apoio_Preços_MGS!$A$6:$AN$238,29,FALSE) -> 0 | Y70: =VLOOKUP(D70,[1]apoio_Preços_MGS!$A$6:$AN$238,30,FALSE) -> 0 | Z70: =Y70+X70 -> 0 | AA70: =VLOOKUP(D70,[1]apoio_Preços_MGS!$A$6:$AN$238,32,FALSE) -> 9.6 | AB70: =VLOOKUP(D70,[1]apoio_Preços_MGS!$A$6:$AN$238,33,FALSE) -> 58.74533 | AC70: =VLOOKUP(D70,[1]apoio_Preços_MGS!$A$6:$AN$238,34,FALSE) -> 0 | AD70: =(U70+W70+Z70+AB70+AA70+VLOOKUP(C70,[1]apoio_Prec_Folha!$A:$S,7,FALSE))*AC70 -> 0 | AE70: =VLOOKUP(D70,[1]apoio_Preços_MGS!$A$6:$AN$238,36,FALSE) -> 0.07 | AF70: =(U70+W70+Z70+AB70+AD70+AA70+VLOOKUP(C70,[1]apoio_Prec_Folha!$A:$S,7,FALSE))*AE70 -> 708.03473 | AG70: =TRUNC(U70+W70+Z70+AB70+AA70+AD70+AF70,2) -> 10271.23 | AH70: =TRUNC($AG70*ROUND((7.6%+1.65%+$I70)/(1-(7.6%+1.65%+$I70)),5)+$AG70,2) -> 11705.09 | AI70: =AH70*K70 -> 128755.99 | AJ70: =AH70*L70 -> 7725359.4 | AK70: =VLOOKUP(D70,[1]apoio_Preços_MGS!$A$6:$AN$238,39,FALSE) -> 181.81818 | AL70: =IF(J70="demais municípios",VLOOKUP(D70,[1]apoio_Preços_MGS!$A$6:$AN$238,39,FALSE),0) -> 181.81818 | AM70: 0 | AN70: =AK70*K70 -> 2000 | AO70: =VLOOKUP(D70,[1]apoio_Preços_MGS!$A$6:$AN$238,40,FALSE) -> 551.58 | AP70: =IF(J70="demais municípios",VLOOKUP(D70,[1]apoio_Preços_MGS!$A$6:$AN$238,40,FALSE),0) -> 551.58 | AQ70: 0 | AR70: =AO70*K70 -> 6067.38 | AS70: =AN70+AR70 -> 8067.38 | AT70: =(AN70+AR70)*60 -> 484042.8
A71: =CONCATENATE(F71,H71,I71) -> 106445400,05 | B71: =CONCATENATE(D71,I71) -> 3300,05 | C71: =VLOOKUP(D71,[1]apoio_Preços_MGS!$A$6:$B$238,2,FALSE) -> ANALISTA ESPECIALIZADO EM CIÊNCIAS SOCIAIS APLICADAS I | D71: 330 | E71: =VLOOKUP(D71,[1]apoio_Preços_MGS!$A$6:$F$238,6,FALSE) -> ANALISTA ESPECIALIZADO EM CIÊNCIAS SOCIAIS APLICADAS I - DIARISTA DIURNO - 40H | F71: =IFERROR(VLOOKUP(D71,'[1]apoio_cód catmas'!$B$2:$C$863,2,FALSE),0) -> 106445 | G71: =IF(H71="N/A",VLOOKUP(F71&40,'[1]apoio_cód catmas'!$A$1:$G$233,4,FALSE),VLOOKUP(F71&H71,'[1]apoio_cód catmas'!$A$1:$G$233,4,FALSE)) -> ANALISTA ESPECIALIZADO EM CIENCIAS SOCIAIS APLICADAS I - 30H36H, 40H OU 44H | H71: 40 | I71: 0.05 | J71: Demais Municípios | K71: 1 | L71: =K71*56 -> 56 | M71: =VLOOKUP(D71,[1]apoio_Preços_MGS!$A$6:$AN$238,18,FALSE) -> 5222.6933 | N71: =VLOOKUP(D71,[1]apoio_Preços_MGS!$A$6:$AN$238,19,FALSE) -> 0 | O71: =VLOOKUP(D71,[1]apoio_Preços_MGS!$A$6:$AN$238,20,FALSE) -> 0 | P71: =VLOOKUP(D71,[1]apoio_Preços_MGS!$A$6:$AN$238,21,FALSE) -> 0 | Q71: =VLOOKUP(D71,[1]apoio_Preços_MGS!$A$6:$AN$238,22,FALSE) -> 0 | R71: =VLOOKUP(D71,[1]apoio_Preços_MGS!$A$6:$AN$238,23,FALSE) -> 0 | S71: =VLOOKUP(D71,[1]apoio_Preços_MGS!$A$6:$AN$238,24,FALSE) -> 0 | T71: =VLOOKUP(D71,[1]apoio_Preços_MGS!$A$6:$AN$238,25,FALSE) -> 0 | U71: =SUM(M71:T71) -> 5222.6933 | V71: =VLOOKUP(D71,[1]apoio_Preços_MGS!$A$6:$AN$238,27,FALSE) -> 0.818 | W71: =U71*V71 -> 4272.1631 | X71: =VLOOKUP(D71,[1]apoio_Preços_MGS!$A$6:$AN$238,29,FALSE) -> 0 | Y71: =VLOOKUP(D71,[1]apoio_Preços_MGS!$A$6:$AN$238,30,FALSE) -> 0 | Z71: =Y71+X71 -> 0 | AA71: =VLOOKUP(D71,[1]apoio_Preços_MGS!$A$6:$AN$238,32,FALSE) -> 9.6 | AB71: =VLOOKUP(D71,[1]apoio_Preços_MGS!$A$6:$AN$238,33,FALSE) -> 58.74533 | AC71: =VLOOKUP(D71,[1]apoio_Preços_MGS!$A$6:$AN$238,34,FALSE) -> 0 | AD71: =(U71+W71+Z71+AB71+AA71+VLOOKUP(C71,[1]apoio_Prec_Folha!$A:$S,7,FALSE))*AC71 -> 0 | AE71: =VLOOKUP(D71,[1]apoio_Preços_MGS!$A$6:$AN$238,36,FALSE) -> 0.07 | AF71: =(U71+W71+Z71+AB71+AD71+AA71+VLOOKUP(C71,[1]apoio_Prec_Folha!$A:$S,7,FALSE))*AE71 -> 708.03473 | AG71: =TRUNC(U71+W71+Z71+AB71+AA71+AD71+AF71,2) -> 10271.23 | AH71: =TRUNC($AG71*ROUND((7.6%+1.65%+$I71)/(1-(7.6%+1.65%+$I71)),5)+$AG71,2) -> 11978.1 | AI71: =AH71*K71 -> 11978.1 | AJ71: =AH71*L71 -> 670773.6 | AK71: =VLOOKUP(D71,[1]apoio_Preços_MGS!$A$6:$AN$238,39,FALSE) -> 181.81818 | AL71: =IF(J71="demais municípios",VLOOKUP(D71,[1]apoio_Preços_MGS!$A$6:$AN$238,39,FALSE),0) -> 181.81818 | AM71: 0 | AN71: =AK71*K71 -> 181.81818 | AO71: =VLOOKUP(D71,[1]apoio_Preços_MGS!$A$6:$AN$238,40,FALSE) -> 551.58 | AP71: =IF(J71="demais municípios",VLOOKUP(D71,[1]apoio_Preços_MGS!$A$6:$AN$238,40,FALSE),0) -> 551.58 | AQ71: 0 | AR71: =AO71*K71 -> 551.58 | AS71: =AN71+AR71 -> 733.39818 | AT71: =(AN71+AR71)*60 -> 44003.891
A72: =CONCATENATE(F72,H72,I72) -> 106445400,05 | B72: =CONCATENATE(D72,I72) -> 3300,05 | C72: =VLOOKUP(D72,[1]apoio_Preços_MGS!$A$6:$B$238,2,FALSE) -> ANALISTA ESPECIALIZADO EM CIÊNCIAS SOCIAIS APLICADAS I | D72: 330 | E72: =VLOOKUP(D72,[1]apoio_Preços_MGS!$A$6:$F$238,6,FALSE) -> ANALISTA ESPECIALIZADO EM CIÊNCIAS SOCIAIS APLICADAS I - DIARISTA DIURNO - 40H | F72: =IFERROR(VLOOKUP(D72,'[1]apoio_cód catmas'!$B$2:$C$863,2,FALSE),0) -> 106445 | G72: =IF(H72="N/A",VLOOKUP(F72&40,'[1]apoio_cód catmas'!$A$1:$G$233,4,FALSE),VLOOKUP(F72&H72,'[1]apoio_cód catmas'!$A$1:$G$233,4,FALSE)) -> ANALISTA ESPECIALIZADO EM CIENCIAS SOCIAIS APLICADAS I - 30H36H, 40H OU 44H | H72: 40 | I72: 0.05 | J72: Demais Municípios | K72: =402-K73 -> 2 | L72: =K72*60 -> 120 | M72: =VLOOKUP(D72,[1]apoio_Preços_MGS!$A$6:$AN$238,18,FALSE) -> 5222.6933 | N72: =VLOOKUP(D72,[1]apoio_Preços_MGS!$A$6:$AN$238,19,FALSE) -> 0 | O72: =VLOOKUP(D72,[1]apoio_Preços_MGS!$A$6:$AN$238,20,FALSE) -> 0 | P72: =VLOOKUP(D72,[1]apoio_Preços_MGS!$A$6:$AN$238,21,FALSE) -> 0 | Q72: =VLOOKUP(D72,[1]apoio_Preços_MGS!$A$6:$AN$238,22,FALSE) -> 0 | R72: =VLOOKUP(D72,[1]apoio_Preços_MGS!$A$6:$AN$238,23,FALSE) -> 0 | S72: =VLOOKUP(D72,[1]apoio_Preços_MGS!$A$6:$AN$238,24,FALSE) -> 0 | T72: =VLOOKUP(D72,[1]apoio_Preços_MGS!$A$6:$AN$238,25,FALSE) -> 0 | U72: =SUM(M72:T72) -> 5222.6933 | V72: =VLOOKUP(D72,[1]apoio_Preços_MGS!$A$6:$AN$238,27,FALSE) -> 0.818 | W72: =U72*V72 -> 4272.1631 | X72: =VLOOKUP(D72,[1]apoio_Preços_MGS!$A$6:$AN$238,29,FALSE) -> 0 | Y72: =VLOOKUP(D72,[1]apoio_Preços_MGS!$A$6:$AN$238,30,FALSE) -> 0 | Z72: =Y72+X72 -> 0 | AA72: =VLOOKUP(D72,[1]apoio_Preços_MGS!$A$6:$AN$238,32,FALSE) -> 9.6 | AB72: =VLOOKUP(D72,[1]apoio_Preços_MGS!$A$6:$AN$238,33,FALSE) -> 58.74533 | AC72: =VLOOKUP(D72,[1]apoio_Preços_MGS!$A$6:$AN$238,34,FALSE) -> 0 | AD72: =(U72+W72+Z72+AB72+AA72+VLOOKUP(C72,[1]apoio_Prec_Folha!$A:$S,7,FALSE))*AC72 -> 0 | AE72: =VLOOKUP(D72,[1]apoio_Preços_MGS!$A$6:$AN$238,36,FALSE) -> 0.07 | AF72: =(U72+W72+Z72+AB72+AD72+AA72+VLOOKUP(C72,[1]apoio_Prec_Folha!$A:$S,7,FALSE))*AE72 -> 708.03473 | AG72: =TRUNC(U72+W72+Z72+AB72+AA72+AD72+AF72,2) -> 10271.23 | AH72: =TRUNC($AG72*ROUND((7.6%+1.65%+$I72)/(1-(7.6%+1.65%+$I72)),5)+$AG72,2) -> 11978.1 | AI72: =AH72*K72 -> 23956.2 | AJ72: =AH72*L72 -> 1437372 | AK72: =VLOOKUP(D72,[1]apoio_Preços_MGS!$A$6:$AN$238,39,FALSE) -> 181.81818 | AL72: =IF(J72="demais municípios",VLOOKUP(D72,[1]apoio_Preços_MGS!$A$6:$AN$238,39,FALSE),0) -> 181.81818 | AM72: 0 | AN72: =AK72*K72 -> 363.63636 | AO72: =VLOOKUP(D72,[1]apoio_Preços_MGS!$A$6:$AN$238,40,FALSE) -> 551.58 | AP72: =IF(J72="demais municípios",VLOOKUP(D72,[1]apoio_Preços_MGS!$A$6:$AN$238,40,FALSE),0) -> 551.58 | AQ72: 0 | AR72: =AO72*K72 -> 1103.16 | AS72: =AN72+AR72 -> 1466.7964 | AT72: =(AN72+AR72)*60 -> 88007.782
