Workbook

Sheet I.Anexo A 
A1: CHAVE02 | B1: CHAVE02 | C1: Posto Serviço | D1: Código MGS | E1: Posto de Serviço - MGS | F1: Item de serviço - CATMAS | G1: ANEXO A - 3º TERMO ADITIVO | H1: Carga Horária | I1: Alíquota ISSQN | J1: Município | K1: Qtd Mensal | L1: Qtd total do item de pedido | M1: Salário-base | N1: Periculosidade | O1: Adicional Noturno | P1: Prorrogação da Jornada Noturna | Q1: Hora Ficta Noturna | R1: Hora Extra Intervalo | S1: Feriado Trabalhado | T1: Dia do Trabalhador | U1: Total da Remuneração | V1: Encargos Sociais e Trabalhistas | X1: Uniforme | Y1: EPI | Z1: Total de Insumos | AA1: Seguro de Vida | AB1: Vale-Transporte | AC1: Reserva Técnica | AE1: Taxa de Administração | AG1: Preço Unitário do Posto Vazio antes dos Tributos | AH1: Preço Unitário do Posto com Tributos (PORTAL DE COMPRAS) | AI1: Preço Total do Posto Mensal | AJ1: Preço Total do Posto (Até o fim da Vigência) | AK1: Preço Unitário da Cesta Básica Antes dos Tributos | AL1: Preço Unitário da Cesta Básica (Demais Municípios) | AM1: Preço Unitário da Cesta Básica (Belo Horizonte) | AN1: Preço Total da Cesta Básica com Tributos | AO1: Preço Unitário do Auxílio Alimentação Antes dos Tributos | AP1: Preço Unitário do Auxílio Alimentação (Demais Municípios) | AQ1: Preço Unitário do Auxílio Alimentação (Belo Horizonte) | AR1: Preço Total do Auxílio Alimentação Mensal | AS1: Preço Total do Auxílio Alimentação e Cesta Básica Mensal | AT1: Preço Total do Auxílio Alimentação e Cesta Básica (Até o fim da Vigência)
G2: Posto de Serviço - CATMAS | V2: % | W2: Valor | AC2: % | AD2: Valor | AE2: % | AF2: Valor
A3: =CONCATENATE(F3,H3,I3) -> 140970400,02 | B3: =CONCATENATE(D3,I3) -> 16980,02 | C3: =VLOOKUP(D3,[1]apoio_Preços_MGS!$A$6:$B$238,2,FALSE) -> AGENTE DE CAMPO | D3: 1698 | E3: AGENTE DE CAMPO - (PERIC.) - DIARISTA DIURNO - 40H | F3: 140970 | G3: =IF(H3="N/A",VLOOKUP(F3&40,'[1]apoio_cód catmas'!$A$1:$G$233,4,FALSE),VLOOKUP(F3&H3,'[1]apoio_cód catmas'!$A$1:$G$233,4,FALSE)) -> AGENTE DE CAMPO (PERICULOSIDADE) DIARISTA DIURNO - 40 H | H3: 40 | I3: 0.02 | J3: Demais Municípios | K3: 6 | L3: =K3*60 -> 360 | M3: =VLOOKUP(D3,[1]apoio_Preços_MGS!$A$6:$AN$238,18,FALSE) -> 2122.7947 | N3: =VLOOKUP(D3,[1]apoio_Preços_MGS!$A$6:$AN$238,19,FALSE) -> 636.83842 | O3: =VLOOKUP(D3,[1]apoio_Preços_MGS!$A$6:$AN$238,20,FALSE) -> 0 | P3: =VLOOKUP(D3,[1]apoio_Preços_MGS!$A$6:$AN$238,21,FALSE) -> 0 | Q3: =VLOOKUP(D3,[1]apoio_Preços_MGS!$A$6:$AN$238,22,FALSE) -> 0 | R3: =VLOOKUP(D3,[1]apoio_Preços_MGS!$A$6:$AN$238,23,FALSE) -> 0 | S3: =VLOOKUP(D3,[1]apoio_Preços_MGS!$A$6:$AN$238,24,FALSE) -> 0 | T3: =VLOOKUP(D3,[1]apoio_Preços_MGS!$A$6:$AN$238,25,FALSE) -> 0 | U3: =SUM(M3:T3) -> 2759.6332 | V3: =VLOOKUP(D3,[1]apoio_Preços_MGS!$A$6:$AN$238,27,FALSE) -> 0.818 | W3: =U3*V3 -> 2257.3799 | X3: =VLOOKUP(D3,[1]apoio_Preços_MGS!$A$6:$AN$238,29,FALSE) -> 30.014545 | Y3: =VLOOKUP(D3,[1]apoio_Preços_MGS!$A$6:$AN$238,30,FALSE) -> 23.86303 | Z3: =Y3+X3 -> 53.877576 | AA3: =VLOOKUP(D3,[1]apoio_Preços_MGS!$A$6:$AN$238,32,FALSE) -> 4.0757659 | AB3: =VLOOKUP(D3,[1]apoio_Preços_MGS!$A$6:$AN$238,33,FALSE) -> 147.63636 | AC3: =VLOOKUP(D3,[1]apoio_Preços_MGS!$A$6:$AN$238,34,FALSE) -> 0 | AD3: =(U3+W3+Z3+AB3+AA3+VLOOKUP(C3,[1]apoio_Prec_Folha!$A:$S,7,FALSE))*AC3 -> 0 | AE3: =VLOOKUP(D3,[1]apoio_Preços_MGS!$A$6:$AN$238,36,FALSE) -> 0.07 | AF3: =(U3+W3+Z3+AB3+AD3+AA3+VLOOKUP(C3,[1]apoio_Prec_Folha!$A:$S,7,FALSE))*AE3 -> 401.83659 | AG3: =TRUNC(U3+W3+Z3+AB3+AA3+AD3+AF3,2) -> 5624.43 | AH3: =TRUNC($AG3*ROUND((7.6%+1.65%+$I3)/(1-(7.6%+1.65%+$I3)),5)+$AG3,2) -> 6337.38 | AI3: =AH3*K3 -> 38024.28 | AJ3: =AH3*L3 -> 2281456.8 | AK3: =VLOOKUP(D3,[1]apoio_Preços_MGS!$A$6:$AN$238,39,FALSE) -> 181.81818 | AL3: =IF(J3="demais municípios",VLOOKUP(D3,[1]apoio_Preços_MGS!$A$6:$AN$238,39,FALSE),0) -> 181.81818 | AM3: 0 | AN3: =AK3*K3 -> 1090.9091 | AO3: =VLOOKUP(D3,[1]apoio_Preços_MGS!$A$6:$AN$238,40,FALSE) -> 517.92 | AP3: =IF(J3="demais municípios",VLOOKUP(D3,[1]apoio_Preços_MGS!$A$6:$AN$238,40,FALSE),0) -> 517.92 | AQ3: 0 | AR3: =AO3*K3 -> 3107.52 | AS3: =AN3+AR3 -> 4198.4291 | AT3: =AS3*60 -> 251905.75
A4: =CONCATENATE(F4,H4,I4) -> 140970400,03 | B4: =CONCATENATE(D4,I4) -> 16980,03 | C4: =VLOOKUP(D4,[1]apoio_Preços_MGS!$A$6:$B$238,2,FALSE) -> AGENTE DE CAMPO | D4: 1698 | E4: =VLOOKUP(D4,[1]apoio_Preços_MGS!$A$6:$F$238,6,FALSE) -> AGENTE DE CAMPO - (PERIC.) - DIARISTA DIURNO - 40H | F4: =IFERROR(VLOOKUP(D4,'[1]apoio_cód catmas'!$B$2:$C$863,2,FALSE),0) -> 140970 | G4: =IF(H4="N/A",VLOOKUP(F4&40,'[1]apoio_cód catmas'!$A$1:$G$233,4,FALSE),VLOOKUP(F4&H4,'[1]apoio_cód catmas'!$A$1:$G$233,4,FALSE)) -> AGENTE DE CAMPO (PERICULOSIDADE) DIARISTA DIURNO - 40 H | H4: 40 | I4: 0.03 | J4: Demais Municípios | K4: 6 | L4: =K4*60 -> 360 | M4: =VLOOKUP(D4,[1]apoio_Preços_MGS!$A$6:$AN$238,18,FALSE) -> 2122.7947 | N4: =VLOOKUP(D4,[1]apoio_Preços_MGS!$A$6:$AN$238,19,FALSE) -> 636.83842 | O4: =VLOOKUP(D4,[1]apoio_Preços_MGS!$A$6:$AN$238,20,FALSE) -> 0 | P4: =VLOOKUP(D4,[1]apoio_Preços_MGS!$A$6:$AN$238,21,FALSE) -> 0 | Q4: =VLOOKUP(D4,[1]apoio_Preços_MGS!$A$6:$AN$238,22,FALSE) -> 0 | R4: =VLOOKUP(D4,[1]apoio_Preços_MGS!$A$6:$AN$238,23,FALSE) -> 0 | S4: =VLOOKUP(D4,[1]apoio_Preços_MGS!$A$6:$AN$238,24,FALSE) -> 0 | T4: =VLOOKUP(D4,[1]apoio_Preços_MGS!$A$6:$AN$238,25,FALSE) -> 0 | U4: =SUM(M4:T4) -> 2759.6332 | V4: =VLOOKUP(D4,[1]apoio_Preços_MGS!$A$6:$AN$238,27,FALSE) -> 0.818 | W4: =U4*V4 -> 2257.3799 | X4: =VLOOKUP(D4,[1]apoio_Preços_MGS!$A$6:$AN$238,29,FALSE) -> 30.014545 | Y4: =VLOOKUP(D4,[1]apoio_Preços_MGS!$A$6:$AN$238,30,FALSE) -> 23.86303 | Z4: =Y4+X4 -> 53.877576 | AA4: =VLOOKUP(D4,[1]apoio_Preços_MGS!$A$6:$AN$238,32,FALSE) -> 4.0757659 | AB4: =VLOOKUP(D4,[1]apoio_Preços_MGS!$A$6:$AN$238,33,FALSE) -> 147.63636 | AC4: =VLOOKUP(D4,[1]apoio_Preços_MGS!$A$6:$AN$238,34,FALSE) -> 0 | AD4: =(U4+W4+Z4+AB4+AA4+VLOOKUP(C4,[1]apoio_Prec_Folha!$A:$S,7,FALSE))*AC4 -> 0 | AE4: =VLOOKUP(D4,[1]apoio_Preços_MGS!$A$6:$AN$238,36,FALSE) -> 0.07 | AF4: =(U4+W4+Z4+AB4+AD4+AA4+VLOOKUP(C4,[1]apoio_Prec_Folha!$A:$S,7,FALSE))*AE4 -> 401.83659 | AG4: =TRUNC(U4+W4+Z4+AB4+AA4+AD4+AF4,2) -> 5624.43 | AH4: =TRUNC($AG4*ROUND((7.6%+1.65%+$I4)/(1-(7.6%+1.65%+$I4)),5)+$AG4,2) -> 6409.6 | AI4: =AH4*K4 -> 38457.6 | AJ4: =AH4*L4 -> 2307456 | AK4: =VLOOKUP(D4,[1]apoio_Preços_MGS!$A$6:$AN$238,39,FALSE) -> 181.81818 | AL4: =IF(J4="demais municípios",VLOOKUP(D4,[1]apoio_Preços_MGS!$A$6:$AN$238,39,FALSE),0) -> 181.81818 | AM4: 0 | AN4: =AK4*K4 -> 1090.9091 | AO4: =VLOOKUP(D4,[1]apoio_Preços_MGS!$A$6:$AN$238,40,FALSE) -> 517.92 | AP4: =IF(J4="demais municípios",VLOOKUP(D4,[1]apoio_Preços_MGS!$A$6:$AN$238,40,FALSE),0) -> 517.92 | AQ4: 0 | AR4: =AO4*K4 -> 3107.52 | AS4: =AN4+AR4 -> 4198.4291 | AT4: =(AN4+AR4)*60 -> 251905.75
A5: =CONCATENATE(F5,H5,I5) -> 140970400,05 | B5: =CONCATENATE(D5,I5) -> 16980,05 | C5: =VLOOKUP(D5,[1]apoio_Preços_MGS!$A$6:$B$238,2,FALSE) -> AGENTE DE CAMPO | D5: 1698 | E5: =VLOOKUP(D5,[1]apoio_Preços_MGS!$A$6:$F$238,6,FALSE) -> AGENTE DE CAMPO - (PERIC.) - DIARISTA DIURNO - 40H | F5: =IFERROR(VLOOKUP(D5,'[1]apoio_cód catmas'!$B$2:$C$863,2,FALSE),0) -> 140970 | G5: =IF(H5="N/A",VLOOKUP(F5&40,'[1]apoio_cód catmas'!$A$1:$G$233,4,FALSE),VLOOKUP(F5&H5,'[1]apoio_cód catmas'!$A$1:$G$233,4,FALSE)) -> AGENTE DE CAMPO (PERICULOSIDADE) DIARISTA DIURNO - 40 H | H5: 40 | I5: 0.05 | J5: Demais Municípios | K5: 2 | L5: =K5*60 -> 120 | M5: =VLOOKUP(D5,[1]apoio_Preços_MGS!$A$6:$AN$238,18,FALSE) -> 2122.7947 | N5: =VLOOKUP(D5,[1]apoio_Preços_MGS!$A$6:$AN$238,19,FALSE) -> 636.83842 | O5: =VLOOKUP(D5,[1]apoio_Preços_MGS!$A$6:$AN$238,20,FALSE) -> 0 | P5: =VLOOKUP(D5,[1]apoio_Preços_MGS!$A$6:$AN$238,21,FALSE) -> 0 | Q5: =VLOOKUP(D5,[1]apoio_Preços_MGS!$A$6:$AN$238,22,FALSE) -> 0 | R5: =VLOOKUP(D5,[1]apoio_Preços_MGS!$A$6:$AN$238,23,FALSE) -> 0 | S5: =VLOOKUP(D5,[1]apoio_Preços_MGS!$A$6:$AN$238,24,FALSE) -> 0 | T5: =VLOOKUP(D5,[1]apoio_Preços_MGS!$A$6:$AN$238,25,FALSE) -> 0 | U5: =SUM(M5:T5) -> 2759.6332 | V5: =VLOOKUP(D5,[1]apoio_Preços_MGS!$A$6:$AN$238,27,FALSE) -> 0.818 | W5: =U5*V5 -> 2257.3799 | X5: =VLOOKUP(D5,[1]apoio_Preços_MGS!$A$6:$AN$238,29,FALSE) -> 30.014545 | Y5: =VLOOKUP(D5,[1]apoio_Preços_MGS!$A$6:$AN$238,30,FALSE) -> 23.86303 | Z5: =Y5+X5 -> 53.877576 | AA5: =VLOOKUP(D5,[1]apoio_Preços_MGS!$A$6:$AN$238,32,FALSE) -> 4.0757659 | AB5: =VLOOKUP(D5,[1]apoio_Preços_MGS!$A$6:$AN$238,33,FALSE) -> 147.63636 | AC5: =VLOOKUP(D5,[1]apoio_Preços_MGS!$A$6:$AN$238,34,FALSE) -> 0 | AD5: =(U5+W5+Z5+AB5+AA5+VLOOKUP(C5,[1]apoio_Prec_Folha!$A:$S,7,FALSE))*AC5 -> 0 | AE5: =VLOOKUP(D5,[1]apoio_Preços_MGS!$A$6:$AN$238,36,FALSE) -> 0.07 | AF5: =(U5+W5+Z5+AB5+AD5+AA5+VLOOKUP(C5,[1]apoio_Prec_Folha!$A:$S,7,FALSE))*AE5 -> 401.83659 | AG5: =TRUNC(U5+W5+Z5+AB5+AA5+AD5+AF5,2) -> 5624.43 | AH5: =TRUNC($AG5*ROUND((7.6%+1.65%+$I5)/(1-(7.6%+1.65%+$I5)),5)+$AG5,2) -> 6559.09 | AI5: =AH5*K5 -> 13118.18 | AJ5: =AH5*L5 -> 787090.8 | AK5: =VLOOKUP(D5,[1]apoio_Preços_MGS!$A$6:$AN$238,39,FALSE) -> 181.81818 | AL5: =IF(J5="demais municípios",VLOOKUP(D5,[1]apoio_Preços_MGS!$A$6:$AN$238,39,FALSE),0) -> 181.81818 | AM5: 0 | AN5: =AK5*K5 -> 363.63636 | AO5: =VLOOKUP(D5,[1]apoio_Preços_MGS!$A$6:$AN$238,40,FALSE) -> 517.92 | AP5: =IF(J5="demais municípios",VLOOKUP(D5,[1]apoio_Preços_MGS!$A$6:$AN$238,40,FALSE),0) -> 517.92 | AQ5: 0 | AR5: =AO5*K5 -> 1035.84 | AS5: =AN5+AR5 -> 1399.4764 | AT5: =(AN5+AR5)*60 -> 83968.582
A6: =CONCATENATE(F6,H6,I6) -> 140970400,05 | B6: =CONCATENATE(D6,I6) -> 16980,05 | C6: =VLOOKUP(D6,[1]apoio_Preços_MGS!$A$6:$B$238,2,FALSE) -> AGENTE DE CAMPO | D6: 1698 | E6: =VLOOKUP(D6,[1]apoio_Preços_MGS!$A$6:$F$238,6,FALSE) -> AGENTE DE CAMPO - (PERIC.) - DIARISTA DIURNO - 40H | F6: =IFERROR(VLOOKUP(D6,'[1]apoio_cód catmas'!$B$2:$C$863,2,FALSE),0) -> 140970 | G6: =IF(H6="N/A",VLOOKUP(F6&40,'[1]apoio_cód catmas'!$A$1:$G$233,4,FALSE),VLOOKUP(F6&H6,'[1]apoio_cód catmas'!$A$1:$G$233,4,FALSE)) -> AGENTE DE CAMPO (PERICULOSIDADE) DIARISTA DIURNO - 40 H | H6: 40 | I6: 0.05 | J6: Belo Horizonte | K6: 6 | L6: =K6*60 -> 360 | M6: =VLOOKUP(D6,[1]apoio_Preços_MGS!$A$6:$AN$238,18,FALSE) -> 2122.7947 | N6: =VLOOKUP(D6,[1]apoio_Preços_MGS!$A$6:$AN$238,19,FALSE) -> 636.83842 | O6: =VLOOKUP(D6,[1]apoio_Preços_MGS!$A$6:$AN$238,20,FALSE) -> 0 | P6: =VLOOKUP(D6,[1]apoio_Preços_MGS!$A$6:$AN$238,21,FALSE) -> 0 | Q6: =VLOOKUP(D6,[1]apoio_Preços_MGS!$A$6:$AN$238,22,FALSE) -> 0 | R6: =VLOOKUP(D6,[1]apoio_Preços_MGS!$A$6:$AN$238,23,FALSE) -> 0 | S6: =VLOOKUP(D6,[1]apoio_Preços_MGS!$A$6:$AN$238,24,FALSE) -> 0 | T6: =VLOOKUP(D6,[1]apoio_Preços_MGS!$A$6:$AN$238,25,FALSE) -> 0 | U6: =SUM(M6:T6) -> 2759.6332 | V6: =VLOOKUP(D6,[1]apoio_Preços_MGS!$A$6:$AN$238,27,FALSE) -> 0.818 | W6: =U6*V6 -> 2257.3799 | X6: =VLOOKUP(D6,[1]apoio_Preços_MGS!$A$6:$AN$238,29,FALSE) -> 30.014545 | Y6: =VLOOKUP(D6,[1]apoio_Preços_MGS!$A$6:$AN$238,30,FALSE) -> 23.86303 | Z6: =Y6+X6 -> 53.877576 | AA6: =VLOOKUP(D6,[1]apoio_Preços_MGS!$A$6:$AN$238,32,FALSE) -> 4.0757659 | AB6: =VLOOKUP(D6,[1]apoio_Preços_MGS!$A$6:$AN$238,33,FALSE) -> 147.63636 | AC6: =VLOOKUP(D6,[1]apoio_Preços_MGS!$A$6:$AN$238,34,FALSE) -> 0 | AD6: =(U6+W6+Z6+AB6+AA6+VLOOKUP(C6,[1]apoio_Prec_Folha!$A:$S,7,FALSE))*AC6 -> 0 | AE6: =VLOOKUP(D6,[1]apoio_Preços_MGS!$A$6:$AN$238,36,FALSE) -> 0.07 | AF6: =(U6+W6+Z6+AB6+AD6+AA6+VLOOKUP(C6,[1]apoio_Prec_Folha!$A:$S,7,FALSE))*AE6 -> 401.83659 | AG6: =TRUNC(U6+W6+Z6+AB6+AA6+AD6+AF6,2) -> 5624.43 | AH6: =TRUNC($AG6*ROUND((7.6%+1.65%+$I6)/(1-(7.6%+1.65%+$I6)),5)+$AG6,2) -> 6559.09 | AI6: =AH6*K6 -> 39354.54 | AJ6: =AH6*L6 -> 2361272.4 | AK6: =VLOOKUP(D6,[1]apoio_Preços_MGS!$A$6:$AN$238,39,FALSE) -> 181.81818 | AL6: =IF(J6="demais municípios",VLOOKUP(D6,[1]apoio_Preços_MGS!$A$6:$AN$238,39,FALSE),0) -> 0 | AM6: =TRUNC(ROUND(($I6)/(1-($I6)),5)*VLOOKUP(D6,[1]apoio_Preços_MGS!$A$6:$AN$238,39,FALSE)+VLOOKUP(D6,[1]apoio_Preços_MGS!$A$6:$AN$238,39,FALSE),2) -> 191.38 | AN6: =AM6*K6 -> 1148.28 | AO6: =VLOOKUP(D6,[1]apoio_Preços_MGS!$A$6:$AN$238,40,FALSE) -> 517.92 | AP6: =IF(J6="demais municípios",VLOOKUP(D6,[1]apoio_Preços_MGS!$A$6:$AN$238,40,FALSE),0) -> 0 | AQ6: =TRUNC(ROUND(($I6)/(1-($I6)),5)*VLOOKUP(D6,[1]apoio_Preços_MGS!$A$6:$AN$238,40,FALSE)+VLOOKUP(D6,[1]apoio_Preços_MGS!$A$6:$AN$238,40,FALSE),2) -> 545.17 | AR6: =AQ6*K6 -> 3271.02 | AS6: =AN6+AR6 -> 4419.3 | AT6: =(AN6+AR6)*60 -> 265158
A7: =CONCATENATE(F7,H7,I7) -> 141615400,03 | B7: =CONCATENATE(D7,I7) -> 16990,03 | C7: =VLOOKUP(D7,[1]apoio_Preços_MGS!$A$6:$B$238,2,FALSE) -> AGENTE DE CAMPO | D7: 1699 | E7: =VLOOKUP(D7,[1]apoio_Preços_MGS!$A$6:$F$238,6,FALSE) -> AGENTE DE CAMPO - DIARISTA DIURNO - 40H | F7: =IFERROR(VLOOKUP(D7,'[1]apoio_cód catmas'!$B$2:$C$863,2,FALSE),0) -> 141615 | G7: =IF(H7="N/A",VLOOKUP(F7&40,'[1]apoio_cód catmas'!$A$1:$G$233,4,FALSE),VLOOKUP(F7&H7,'[1]apoio_cód catmas'!$A$1:$G$233,4,FALSE)) -> AGENTE DE CAMPO - (SEM PERICULOSIDADE) - DIARISTA DIURNO - 40 HORAS | H7: 40 | I7: 0.03 | J7: Demais Municípios | K7: 1 | L7: =K7*60 -> 60 | M7: =VLOOKUP(D7,[1]apoio_Preços_MGS!$A$6:$AN$238,18,FALSE) -> 2122.7947 | N7: =VLOOKUP(D7,[1]apoio_Preços_MGS!$A$6:$AN$238,19,FALSE) -> 0 | O7: =VLOOKUP(D7,[1]apoio_Preços_MGS!$A$6:$AN$238,20,FALSE) -> 0 | P7: =VLOOKUP(D7,[1]apoio_Preços_MGS!$A$6:$AN$238,21,FALSE) -> 0 | Q7: =VLOOKUP(D7,[1]apoio_Preços_MGS!$A$6:$AN$238,22,FALSE) -> 0 | R7: =VLOOKUP(D7,[1]apoio_Preços_MGS!$A$6:$AN$238,23,FALSE) -> 0 | S7: =VLOOKUP(D7,[1]apoio_Preços_MGS!$A$6:$AN$238,24,FALSE) -> 0 | T7: =VLOOKUP(D7,[1]apoio_Preços_MGS!$A$6:$AN$238,25,FALSE) -> 0 | U7: =SUM(M7:T7) -> 2122.7947 | V7: =VLOOKUP(D7,[1]apoio_Preços_MGS!$A$6:$AN$238,27,FALSE) -> 0.818 | W7: =U7*V7 -> 1736.4461 | X7: =VLOOKUP(D7,[1]apoio_Preços_MGS!$A$6:$AN$238,29,FALSE) -> 30.014545 | Y7: =VLOOKUP(D7,[1]apoio_Preços_MGS!$A$6:$AN$238,30,FALSE) -> 23.86303 | Z7: =Y7+X7 -> 53.877576 | AA7: =VLOOKUP(D7,[1]apoio_Preços_MGS!$A$6:$AN$238,32,FALSE) -> 4.0757659 | AB7: =VLOOKUP(D7,[1]apoio_Preços_MGS!$A$6:$AN$238,33,FALSE) -> 147.63636 | AC7: =VLOOKUP(D7,[1]apoio_Preços_MGS!$A$6:$AN$238,34,FALSE) -> 0 | AD7: =(U7+W7+Z7+AB7+AA7+VLOOKUP(C7,[1]apoio_Prec_Folha!$A:$S,7,FALSE))*AC7 -> 0 | AE7: =VLOOKUP(D7,[1]apoio_Preços_MGS!$A$6:$AN$238,36,FALSE) -> 0.07 | AF7: =(U7+W7+Z7+AB7+AD7+AA7+VLOOKUP(C7,[1]apoio_Prec_Folha!$A:$S,7,FALSE))*AE7 -> 320.79254 | AG7: =TRUNC(U7+W7+Z7+AB7+AA7+AD7+AF7,2) -> 4385.62 | AH7: =TRUNC($AG7*ROUND((7.6%+1.65%+$I7)/(1-(7.6%+1.65%+$I7)),5)+$AG7,2) -> 4997.85 | AI7: =AH7*K7 -> 4997.85 | AJ7: =AH7*L7 -> 299871 | AK7: =VLOOKUP(D7,[1]apoio_Preços_MGS!$A$6:$AN$238,39,FALSE) -> 181.81818 | AL7: =IF(J7="demais municípios",VLOOKUP(D7,[1]apoio_Preços_MGS!$A$6:$AN$238,39,FALSE),0) -> 181.81818 | AM7: 0 | AN7: =AK7*K7 -> 181.81818 | AO7: =VLOOKUP(D7,[1]apoio_Preços_MGS!$A$6:$AN$238,40,FALSE) -> 517.92 | AP7: =IF(J7="demais municípios",VLOOKUP(D7,[1]apoio_Preços_MGS!$A$6:$AN$238,40,FALSE),0) -> 517.92 | AQ7: 0 | AR7: =AO7*K7 -> 517.92 | AS7: =AN7+AR7 -> 699.73818 | AT7: =(AN7+AR7)*60 -> 41984.291
A8: =CONCATENATE(F8,H8,I8) -> 95117440,02 | B8: =CONCATENATE(D8,I8) -> 3890,02 | C8: =VLOOKUP(D8,[1]apoio_Preços_MGS!$A$6:$B$238,2,FALSE) -> AGENTE DE SERVIÇO DE PARQUE HABILITADO | D8: 389 | E8: =VLOOKUP(D8,[1]apoio_Preços_MGS!$A$6:$F$238,6,FALSE) -> AGENTE DE SERVIÇO DE PARQUE HABILITADO - (PERIC.) - DIARISTA DIURNO - 44H | F8: =IFERROR(VLOOKUP(D8,'[1]apoio_cód catmas'!$B$2:$C$863,2,FALSE),0) -> 95117 | G8: =IF(H8="N/A",VLOOKUP(F8&40,'[1]apoio_cód catmas'!$A$1:$G$233,4,FALSE),VLOOKUP(F8&H8,'[1]apoio_cód catmas'!$A$1:$G$233,4,FALSE)) -> AGENTE DE SERVICO DE PARQUE HABILITADO - (PERICULOSIDADE) - 44H | H8: 44 | I8: 0.02 | J8: Demais Municípios | K8: 32 | L8: =K8*60 -> 1920 | M8: =VLOOKUP(D8,[1]apoio_Preços_MGS!$A$6:$AN$238,18,FALSE) -> 2150.6884 | N8: =VLOOKUP(D8,[1]apoio_Preços_MGS!$A$6:$AN$238,19,FALSE) -> 645.20652 | O8: =VLOOKUP(D8,[1]apoio_Preços_MGS!$A$6:$AN$238,20,FALSE) -> 0 | P8: =VLOOKUP(D8,[1]apoio_Preços_MGS!$A$6:$AN$238,21,FALSE) -> 0 | Q8: =VLOOKUP(D8,[1]apoio_Preços_MGS!$A$6:$AN$238,22,FALSE) -> 0 | R8: =VLOOKUP(D8,[1]apoio_Preços_MGS!$A$6:$AN$238,23,FALSE) -> 0 | S8: =VLOOKUP(D8,[1]apoio_Preços_MGS!$A$6:$AN$238,24,FALSE) -> 0 | T8: =VLOOKUP(D8,[1]apoio_Preços_MGS!$A$6:$AN$238,25,FALSE) -> 0 | U8: =SUM(M8:T8) -> 2795.8949 | V8: =VLOOKUP(D8,[1]apoio_Preços_MGS!$A$6:$AN$238,27,FALSE) -> 0.818 | W8: =U8*V8 -> 2287.042 | X8: =VLOOKUP(D8,[1]apoio_Preços_MGS!$A$6:$AN$238,29,FALSE) -> 30.014545 | Y8: =VLOOKUP(D8,[1]apoio_Preços_MGS!$A$6:$AN$238,30,FALSE) -> 282.32043 | Z8: =Y8+X8 -> 312.33498 | AA8: =VLOOKUP(D8,[1]apoio_Preços_MGS!$A$6:$AN$238,32,FALSE) -> 4.1293217 | AB8: =VLOOKUP(D8,[1]apoio_Preços_MGS!$A$6:$AN$238,33,FALSE) -> 281.7415 | AC8: =VLOOKUP(D8,[1]apoio_Preços_MGS!$A$6:$AN$238,34,FALSE) -> 0 | AD8: =(U8+W8+Z8+AB8+AA8+VLOOKUP(C8,[1]apoio_Prec_Folha!$A:$S,7,FALSE))*AC8 -> 0 | AE8: =VLOOKUP(D8,[1]apoio_Preços_MGS!$A$6:$AN$238,36,FALSE) -> 0.07 | AF8: =(U8+W8+Z8+AB8+AD8+AA8+VLOOKUP(C8,[1]apoio_Prec_Folha!$A:$S,7,FALSE))*AE8 -> 436.13481 | AG8: =TRUNC(U8+W8+Z8+AB8+AA8+AD8+AF8,2) -> 6117.27 | AH8: =TRUNC($AG8*ROUND((7.6%+1.65%+$I8)/(1-(7.6%+1.65%+$I8)),5)+$AG8,2) -> 6892.69 | AI8: =AH8*K8 -> 220566.08 | AJ8: =AH8*L8 -> 13233965 | AK8: =VLOOKUP(D8,[1]apoio_Preços_MGS!$A$6:$AN$238,39,FALSE) -> 200 | AL8: =IF(J8="demais municípios",VLOOKUP(D8,[1]apoio_Preços_MGS!$A$6:$AN$238,39,FALSE),0) -> 200 | AM8: 0 | AN8: =AK8*K8 -> 6400 | AO8: =VLOOKUP(D8,[1]apoio_Preços_MGS!$A$6:$AN$238,40,FALSE) -> 549.35 | AP8: =IF(J8="demais municípios",VLOOKUP(D8,[1]apoio_Preços_MGS!$A$6:$AN$238,40,FALSE),0) -> 549.35 | AQ8: 0 | AR8: =AO8*K8 -> 17579.2 | AS8: =AN8+AR8 -> 23979.2 | AT8: =(AN8+AR8)*60 -> 1438752
A9: =CONCATENATE(F9,H9,I9) -> 95117440,025 | B9: =CONCATENATE(D9,I9) -> 3890,025 | C9: =VLOOKUP(D9,[1]apoio_Preços_MGS!$A$6:$B$238,2,FALSE) -> AGENTE DE SERVIÇO DE PARQUE HABILITADO | D9: 389 | E9: =VLOOKUP(D9,[1]apoio_Preços_MGS!$A$6:$F$238,6,FALSE) -> AGENTE DE SERVIÇO DE PARQUE HABILITADO - (PERIC.) - DIARISTA DIURNO - 44H | F9: =IFERROR(VLOOKUP(D9,'[1]apoio_cód catmas'!$B$2:$C$863,2,FALSE),0) -> 95117 | G9: =IF(H9="N/A",VLOOKUP(F9&40,'[1]apoio_cód catmas'!$A$1:$G$233,4,FALSE),VLOOKUP(F9&H9,'[1]apoio_cód catmas'!$A$1:$G$233,4,FALSE)) -> AGENTE DE SERVICO DE PARQUE HABILITADO - (PERICULOSIDADE) - 44H | H9: 44 | I9: 0.025 | J9: Demais Municípios | K9: 1 | L9: =K9*60 -> 60 | M9: =VLOOKUP(D9,[1]apoio_Preços_MGS!$A$6:$AN$238,18,FALSE) -> 2150.6884 | N9: =VLOOKUP(D9,[1]apoio_Preços_MGS!$A$6:$AN$238,19,FALSE) -> 645.20652 | O9: =VLOOKUP(D9,[1]apoio_Preços_MGS!$A$6:$AN$238,20,FALSE) -> 0 | P9: =VLOOKUP(D9,[1]apoio_Preços_MGS!$A$6:$AN$238,21,FALSE) -> 0 | Q9: =VLOOKUP(D9,[1]apoio_Preços_MGS!$A$6:$AN$238,22,FALSE) -> 0 | R9: =VLOOKUP(D9,[1]apoio_Preços_MGS!$A$6:$AN$238,23,FALSE) -> 0 | S9: =VLOOKUP(D9,[1]apoio_Preços_MGS!$A$6:$AN$238,24,FALSE) -> 0 | T9: =VLOOKUP(D9,[1]apoio_Preços_MGS!$A$6:$AN$238,25,FALSE) -> 0 | U9: =SUM(M9:T9) -> 2795.8949 | V9: =VLOOKUP(D9,[1]apoio_Preços_MGS!$A$6:$AN$238,27,FALSE) -> 0.818 | W9: =U9*V9 -> 2287.042 | X9: =VLOOKUP(D9,[1]apoio_Preços_MGS!$A$6:$AN$238,29,FALSE) -> 30.014545 | Y9: =VLOOKUP(D9,[1]apoio_Preços_MGS!$A$6:$AN$238,30,FALSE) -> 282.32043 | Z9: =Y9+X9 -> 312.33498 | AA9: =VLOOKUP(D9,[1]apoio_Preços_MGS!$A$6:$AN$238,32,FALSE) -> 4.1293217 | AB9: =VLOOKUP(D9,[1]apoio_Preços_MGS!$A$6:$AN$238,33,FALSE) -> 281.7415 | AC9: =VLOOKUP(D9,[1]apoio_Preços_MGS!$A$6:$AN$238,34,FALSE) -> 0 | AD9: =(U9+W9+Z9+AB9+AA9+VLOOKUP(C9,[1]apoio_Prec_Folha!$A:$S,7,FALSE))*AC9 -> 0 | AE9: =VLOOKUP(D9,[1]apoio_Preços_MGS!$A$6:$AN$238,36,FALSE) -> 0.07 | AF9: =(U9+W9+Z9+AB9+AD9+AA9+VLOOKUP(C9,[1]apoio_Prec_Folha!$A:$S,7,FALSE))*AE9 -> 436.13481 | AG9: =TRUNC(U9+W9+Z9+AB9+AA9+AD9+AF9,2) -> 6117.27 | AH9: =TRUNC($AG9*ROUND((7.6%+1.65%+$I9)/(1-(7.6%+1.65%+$I9)),5)+$AG9,2) -> 6931.72 | AI9: =AH9*K9 -> 6931.72 | AJ9: =AH9*L9 -> 415903.2 | AK9: =VLOOKUP(D9,[1]apoio_Preços_MGS!$A$6:$AN$238,39,FALSE) -> 200 | AL9: =IF(J9="demais municípios",VLOOKUP(D9,[1]apoio_Preços_MGS!$A$6:$AN$238,39,FALSE),0) -> 200 | AM9: 0 | AN9: =AK9*K9 -> 200 | AO9: =VLOOKUP(D9,[1]apoio_Preços_MGS!$A$6:$AN$238,40,FALSE) -> 549.35 | AP9: =IF(J9="demais municípios",VLOOKUP(D9,[1]apoio_Preços_MGS!$A$6:$AN$238,40,FALSE),0) -> 549.35 | AQ9: 0 | AR9: =AO9*K9 -> 549.35 | AS9: =AN9+AR9 -> 749.35 | AT9: =(AN9+AR9)*60 -> 44961
A10: =CONCATENATE(F10,H10,I10) -> 95117440,027 | B10: =CONCATENATE(D10,I10) -> 3890,027 | C10: =VLOOKUP(D10,[1]apoio_Preços_MGS!$A$6:$B$238,2,FALSE) -> AGENTE DE SERVIÇO DE PARQUE HABILITADO | D10: 389 | E10: =VLOOKUP(D10,[1]apoio_Preços_MGS!$A$6:$F$238,6,FALSE) -> AGENTE DE SERVIÇO DE PARQUE HABILITADO - (PERIC.) - DIARISTA DIURNO - 44H | F10: =IFERROR(VLOOKUP(D10,'[1]apoio_cód catmas'!$B$2:$C$863,2,FALSE),0) -> 95117 | G10: =IF(H10="N/A",VLOOKUP(F10&40,'[1]apoio_cód catmas'!$A$1:$G$233,4,FALSE),VLOOKUP(F10&H10,'[1]apoio_cód catmas'!$A$1:$G$233,4,FALSE)) -> AGENTE DE SERVICO DE PARQUE HABILITADO - (PERICULOSIDADE) - 44H | H10: 44 | I10: 0.027 | J10: Demais Municípios | K10: 1 | L10: 56 | M10: =VLOOKUP(D10,[1]apoio_Preços_MGS!$A$6:$AN$238,18,FALSE) -> 2150.6884 | N10: =VLOOKUP(D10,[1]apoio_Preços_MGS!$A$6:$AN$238,19,FALSE) -> 645.20652 | O10: =VLOOKUP(D10,[1]apoio_Preços_MGS!$A$6:$AN$238,20,FALSE) -> 0 | P10: =VLOOKUP(D10,[1]apoio_Preços_MGS!$A$6:$AN$238,21,FALSE) -> 0 | Q10: =VLOOKUP(D10,[1]apoio_Preços_MGS!$A$6:$AN$238,22,FALSE) -> 0 | R10: =VLOOKUP(D10,[1]apoio_Preços_MGS!$A$6:$AN$238,23,FALSE) -> 0 | S10: =VLOOKUP(D10,[1]apoio_Preços_MGS!$A$6:$AN$238,24,FALSE) -> 0 | T10: =VLOOKUP(D10,[1]apoio_Preços_MGS!$A$6:$AN$238,25,FALSE) -> 0 | U10: =SUM(M10:T10) -> 2795.8949 | V10: =VLOOKUP(D10,[1]apoio_Preços_MGS!$A$6:$AN$238,27,FALSE) -> 0.818 | W10: =U10*V10 -> 2287.042 | X10: =VLOOKUP(D10,[1]apoio_Preços_MGS!$A$6:$AN$238,29,FALSE) -> 30.014545 | Y10: =VLOOKUP(D10,[1]apoio_Preços_MGS!$A$6:$AN$238,30,FALSE) -> 282.32043 | Z10: =Y10+X10 -> 312.33498 | AA10: =VLOOKUP(D10,[1]apoio_Preços_MGS!$A$6:$AN$238,32,FALSE) -> 4.1293217 | AB10: =VLOOKUP(D10,[1]apoio_Preços_MGS!$A$6:$AN$238,33,FALSE) -> 281.7415 | AC10: =VLOOKUP(D10,[1]apoio_Preços_MGS!$A$6:$AN$238,34,FALSE) -> 0 | AD10: =(U10+W10+Z10+AB10+AA10+VLOOKUP(C10,[1]apoio_Prec_Folha!$A:$S,7,FALSE))*AC10 -> 0 | AE10: =VLOOKUP(D10,[1]apoio_Preços_MGS!$A$6:$AN$238,36,FALSE) -> 0.07 | AF10: =(U10+W10+Z10+AB10+AD10+AA10+VLOOKUP(C10,[1]apoio_Prec_Folha!$A:$S,7,FALSE))*AE10 -> 436.13481 | AG10: =TRUNC(U10+W10+Z10+AB10+AA10+AD10+AF10,2) -> 6117.27 | AH10: =TRUNC($AG10*ROUND((7.6%+1.65%+$I10)/(1-(7.6%+1.65%+$I10)),5)+$AG10,2) -> 6947.5 | AI10: =AH10*K10 -> 6947.5 | AJ10: =AH10*L10 -> 389060 | AK10: =VLOOKUP(D10,[1]apoio_Preços_MGS!$A$6:$AN$238,39,FALSE) -> 200 | AL10: =IF(J10="demais municípios",VLOOKUP(D10,[1]apoio_Preços_MGS!$A$6:$AN$238,39,FALSE),0) -> 200 | AM10: 0 | AN10: =AK10*K10 -> 200 | AO10: =VLOOKUP(D10,[1]apoio_Preços_MGS!$A$6:$AN$238,40,FALSE) -> 549.35 | AP10: =IF(J10="demais municípios",VLOOKUP(D10,[1]apoio_Preços_MGS!$A$6:$AN$238,40,FALSE),0) -> 549.35 | AQ10: 0 | AR10: =AO10*K10 -> 549.35 | AS10: =AN10+AR10 -> 749.35 | AT10: =(AN10+AR10)*60 -> 44961
A11: =CONCATENATE(F11,H11,I11) -> 95117440,03 | B11: =CONCATENATE(D11,I11) -> 3890,03 | C11: =VLOOKUP(D11,[1]apoio_Preços_MGS!$A$6:$B$238,2,FALSE) -> AGENTE DE SERVIÇO DE PARQUE HABILITADO | D11: 389 | E11: =VLOOKUP(D11,[1]apoio_Preços_MGS!$A$6:$F$238,6,FALSE) -> AGENTE DE SERVIÇO DE PARQUE HABILITADO - (PERIC.) - DIARISTA DIURNO - 44H | F11: =IFERROR(VLOOKUP(D11,'[1]apoio_cód catmas'!$B$2:$C$863,2,FALSE),0) -> 95117 | G11: =IF(H11="N/A",VLOOKUP(F11&40,'[1]apoio_cód catmas'!$A$1:$G$233,4,FALSE),VLOOKUP(F11&H11,'[1]apoio_cód catmas'!$A$1:$G$233,4,FALSE)) -> AGENTE DE SERVICO DE PARQUE HABILITADO - (PERICULOSIDADE) - 44H | H11: 44 | I11: 0.03 | J11: Demais Municípios | K11: =54-2+3 -> 55 | L11: =K11*60 -> 3300 | M11: =VLOOKUP(D11,[1]apoio_Preços_MGS!$A$6:$AN$238,18,FALSE) -> 2150.6884 | N11: =VLOOKUP(D11,[1]apoio_Preços_MGS!$A$6:$AN$238,19,FALSE) -> 645.20652 | O11: =VLOOKUP(D11,[1]apoio_Preços_MGS!$A$6:$AN$238,20,FALSE) -> 0 | P11: =VLOOKUP(D11,[1]apoio_Preços_MGS!$A$6:$AN$238,21,FALSE) -> 0 | Q11: =VLOOKUP(D11,[1]apoio_Preços_MGS!$A$6:$AN$238,22,FALSE) -> 0 | R11: =VLOOKUP(D11,[1]apoio_Preços_MGS!$A$6:$AN$238,23,FALSE) -> 0 | S11: =VLOOKUP(D11,[1]apoio_Preços_MGS!$A$6:$AN$238,24,FALSE) -> 0 | T11: =VLOOKUP(D11,[1]apoio_Preços_MGS!$A$6:$AN$238,25,FALSE) -> 0 | U11: =SUM(M11:T11) -> 2795.8949 | V11: =VLOOKUP(D11,[1]apoio_Preços_MGS!$A$6:$AN$238,27,FALSE) -> 0.818 | W11: =U11*V11 -> 2287.042 | X11: =VLOOKUP(D11,[1]apoio_Preços_MGS!$A$6:$AN$238,29,FALSE) -> 30.014545 | Y11: =VLOOKUP(D11,[1]apoio_Preços_MGS!$A$6:$AN$238,30,FALSE) -> 282.32043 | Z11: =Y11+X11 -> 312.33498 | AA11: =VLOOKUP(D11,[1]apoio_Preços_MGS!$A$6:$AN$238,32,FALSE) -> 4.1293217 | AB11: =VLOOKUP(D11,[1]apoio_Preços_MGS!$A$6:$AN$238,33,FALSE) -> 281.7415 | AC11: =VLOOKUP(D11,[1]apoio_Preços_MGS!$A$6:$AN$238,34,FALSE) -> 0 | AD11: =(U11+W11+Z11+AB11+AA11+VLOOKUP(C11,[1]apoio_Prec_Folha!$A:$S,7,FALSE))*AC11 -> 0 | AE11: =VLOOKUP(D11,[1]apoio_Preços_MGS!$A$6:$AN$238,36,FALSE) -> 0.07 | AF11: =(U11+W11+Z11+AB11+AD11+AA11+VLOOKUP(C11,[1]apoio_Prec_Folha!$A:$S,7,FALSE))*AE11 -> 436.13481 | AG11: =TRUNC(U11+W11+Z11+AB11+AA11+AD11+AF11,2) -> 6117.27 | AH11: =TRUNC($AG11*ROUND((7.6%+1.65%+$I11)/(1-(7.6%+1.65%+$I11)),5)+$AG11,2) -> 6971.24 | AI11: =AH11*K11 -> 383418.2 | AJ11: =AH11*L11 -> 23005092 | AK11: =VLOOKUP(D11,[1]apoio_Preços_MGS!$A$6:$AN$238,39,FALSE) -> 200 | AL11: =IF(J11="demais municípios",VLOOKUP(D11,[1]apoio_Preços_MGS!$A$6:$AN$238,39,FALSE),0) -> 200 | AM11: 0 | AN11: =AK11*K11 -> 11000 | AO11: =VLOOKUP(D11,[1]apoio_Preços_MGS!$A$6:$AN$238,40,FALSE) -> 549.35 | AP11: =IF(J11="demais municípios",VLOOKUP(D11,[1]apoio_Preços_MGS!$A$6:$AN$238,40,FALSE),0) -> 549.35 | AQ11: 0 | AR11: =AO11*K11 -> 30214.25 | AS11: =AN11+AR11 -> 41214.25 | AT11: =(AN11+AR11)*60 -> 2472855
A12: =CONCATENATE(F12,H12,I12) -> 95117440,035 | B12: =CONCATENATE(D12,I12) -> 3890,035 | C12: =VLOOKUP(D12,[1]apoio_Preços_MGS!$A$6:$B$238,2,FALSE) -> AGENTE DE SERVIÇO DE PARQUE HABILITADO | D12: 389 | E12: =VLOOKUP(D12,[1]apoio_Preços_MGS!$A$6:$F$238,6,FALSE) -> AGENTE DE SERVIÇO DE PARQUE HABILITADO - (PERIC.) - DIARISTA DIURNO - 44H | F12: =IFERROR(VLOOKUP(D12,'[1]apoio_cód catmas'!$B$2:$C$863,2,FALSE),0) -> 95117 | G12: =IF(H12="N/A",VLOOKUP(F12&40,'[1]apoio_cód catmas'!$A$1:$G$233,4,FALSE),VLOOKUP(F12&H12,'[1]apoio_cód catmas'!$A$1:$G$233,4,FALSE)) -> AGENTE DE SERVICO DE PARQUE HABILITADO - (PERICULOSIDADE) - 44H | H12: 44 | I12: 0.035 | J12: Demais Municípios | K12: 5 | L12: =K12*60 -> 300 | M12: =VLOOKUP(D12,[1]apoio_Preços_MGS!$A$6:$AN$238,18,FALSE) -> 2150.6884 | N12: =VLOOKUP(D12,[1]apoio_Preços_MGS!$A$6:$AN$238,19,FALSE) -> 645.20652 | O12: =VLOOKUP(D12,[1]apoio_Preços_MGS!$A$6:$AN$238,20,FALSE) -> 0 | P12: =VLOOKUP(D12,[1]apoio_Preços_MGS!$A$6:$AN$238,21,FALSE) -> 0 | Q12: =VLOOKUP(D12,[1]apoio_Preços_MGS!$A$6:$AN$238,22,FALSE) -> 0 | R12: =VLOOKUP(D12,[1]apoio_Preços_MGS!$A$6:$AN$238,23,FALSE) -> 0 | S12: =VLOOKUP(D12,[1]apoio_Preços_MGS!$A$6:$AN$238,24,FALSE) -> 0 | T12: =VLOOKUP(D12,[1]apoio_Preços_MGS!$A$6:$AN$238,25,FALSE) -> 0 | U12: =SUM(M12:T12) -> 2795.8949 | V12: =VLOOKUP(D12,[1]apoio_Preços_MGS!$A$6:$AN$238,27,FALSE) -> 0.818 | W12: =U12*V12 -> 2287.042 | X12: =VLOOKUP(D12,[1]apoio_Preços_MGS!$A$6:$AN$238,29,FALSE) -> 30.014545 | Y12: =VLOOKUP(D12,[1]apoio_Preços_MGS!$A$6:$AN$238,30,FALSE) -> 282.32043 | Z12: =Y12+X12 -> 312.33498 | AA12: =VLOOKUP(D12,[1]apoio_Preços_MGS!$A$6:$AN$238,32,FALSE) -> 4.1293217 | AB12: =VLOOKUP(D12,[1]apoio_Preços_MGS!$A$6:$AN$238,33,FALSE) -> 281.7415 | AC12: =VLOOKUP(D12,[1]apoio_Preços_MGS!$A$6:$AN$238,34,FALSE) -> 0 | AD12: =(U12+W12+Z12+AB12+AA12+VLOOKUP(C12,[1]apoio_Prec_Folha!$A:$S,7,FALSE))*AC12 -> 0 | AE12: =VLOOKUP(D12,[1]apoio_Preços_MGS!$A$6:$AN$238,36,FALSE) -> 0.07 | AF12: =(U12+W12+Z12+AB12+AD12+AA12+VLOOKUP(C12,[1]apoio_Prec_Folha!$A:$S,7,FALSE))*AE12 -> 436.13481 | AG12: =TRUNC(U12+W12+Z12+AB12+AA12+AD12+AF12,2) -> 6117.27 | AH12: =TRUNC($AG12*ROUND((7.6%+1.65%+$I12)/(1-(7.6%+1.65%+$I12)),5)+$AG12,2) -> 7011.18 | AI12: =AH12*K12 -> 35055.9 | AJ12: =AH12*L12 -> 2103354 | AK12: =VLOOKUP(D12,[1]apoio_Preços_MGS!$A$6:$AN$238,39,FALSE) -> 200 | AL12: =IF(J12="demais municípios",VLOOKUP(D12,[1]apoio_Preços_MGS!$A$6:$AN$238,39,FALSE),0) -> 200 | AM12: 0 | AN12: =AK12*K12 -> 1000 | AO12: =VLOOKUP(D12,[1]apoio_Preços_MGS!$A$6:$AN$238,40,FALSE) -> 549.35 | AP12: =IF(J12="demais municípios",VLOOKUP(D12,[1]apoio_Preços_MGS!$A$6:$AN$238,40,FALSE),0) -> 549.35 | AQ12: 0 | AR12: =AO12*K12 -> 2746.75 | AS12: =AN12+AR12 -> 3746.75 | AT12: =(AN12+AR12)*60 -> 224805
A13: =CONCATENATE(F13,H13,I13) -> 95117440,04 | B13: =CONCATENATE(D13,I13) -> 3890,04 | C13: =VLOOKUP(D13,[1]apoio_Preços_MGS!$A$6:$B$238,2,FALSE) -> AGENTE DE SERVIÇO DE PARQUE HABILITADO | D13: 389 | E13: =VLOOKUP(D13,[1]apoio_Preços_MGS!$A$6:$F$238,6,FALSE) -> AGENTE DE SERVIÇO DE PARQUE HABILITADO - (PERIC.) - DIARISTA DIURNO - 44H | F13: =IFERROR(VLOOKUP(D13,'[1]apoio_cód catmas'!$B$2:$C$863,2,FALSE),0) -> 95117 | G13: =IF(H13="N/A",VLOOKUP(F13&40,'[1]apoio_cód catmas'!$A$1:$G$233,4,FALSE),VLOOKUP(F13&H13,'[1]apoio_cód catmas'!$A$1:$G$233,4,FALSE)) -> AGENTE DE SERVICO DE PARQUE HABILITADO - (PERICULOSIDADE) - 44H | H13: 44 | I13: 0.04 | J13: Demais Municípios | K13: 16 | L13: =K13*60 -> 960 | M13: =VLOOKUP(D13,[1]apoio_Preços_MGS!$A$6:$AN$238,18,FALSE) -> 2150.6884 | N13: =VLOOKUP(D13,[1]apoio_Preços_MGS!$A$6:$AN$238,19,FALSE) -> 645.20652 | O13: =VLOOKUP(D13,[1]apoio_Preços_MGS!$A$6:$AN$238,20,FALSE) -> 0 | P13: =VLOOKUP(D13,[1]apoio_Preços_MGS!$A$6:$AN$238,21,FALSE) -> 0 | Q13: =VLOOKUP(D13,[1]apoio_Preços_MGS!$A$6:$AN$238,22,FALSE) -> 0 | R13: =VLOOKUP(D13,[1]apoio_Preços_MGS!$A$6:$AN$238,23,FALSE) -> 0 | S13: =VLOOKUP(D13,[1]apoio_Preços_MGS!$A$6:$AN$238,24,FALSE) -> 0 | T13: =VLOOKUP(D13,[1]apoio_Preços_MGS!$A$6:$AN$238,25,FALSE) -> 0 | U13: =SUM(M13:T13) -> 2795.8949 | V13: =VLOOKUP(D13,[1]apoio_Preços_MGS!$A$6:$AN$238,27,FALSE) -> 0.818 | W13: =U13*V13 -> 2287.042 | X13: =VLOOKUP(D13,[1]apoio_Preços_MGS!$A$6:$AN$238,29,FALSE) -> 30.014545 | Y13: =VLOOKUP(D13,[1]apoio_Preços_MGS!$A$6:$AN$238,30,FALSE) -> 282.32043 | Z13: =Y13+X13 -> 312.33498 | AA13: =VLOOKUP(D13,[1]apoio_Preços_MGS!$A$6:$AN$238,32,FALSE) -> 4.1293217 | AB13: =VLOOKUP(D13,[1]apoio_Preços_MGS!$A$6:$AN$238,33,FALSE) -> 281.7415 | AC13: =VLOOKUP(D13,[1]apoio_Preços_MGS!$A$6:$AN$238,34,FALSE) -> 0 | AD13: =(U13+W13+Z13+AB13+AA13+VLOOKUP(C13,[1]apoio_Prec_Folha!$A:$S,7,FALSE))*AC13 -> 0 | AE13: =VLOOKUP(D13,[1]apoio_Preços_MGS!$A$6:$AN$238,36,FALSE) -> 0.07 | AF13: =(U13+W13+Z13+AB13+AD13+AA13+VLOOKUP(C13,[1]apoio_Prec_Folha!$A:$S,7,FALSE))*AE13 -> 436.13481 | AG13: =TRUNC(U13+W13+Z13+AB13+AA13+AD13+AF13,2) -> 6117.27 | AH13: =TRUNC($AG13*ROUND((7.6%+1.65%+$I13)/(1-(7.6%+1.65%+$I13)),5)+$AG13,2) -> 7051.62 | AI13: =AH13*K13 -> 112825.92 | AJ13: =AH13*L13 -> 6769555.2 | AK13: =VLOOKUP(D13,[1]apoio_Preços_MGS!$A$6:$AN$238,39,FALSE) -> 200 | AL13: =IF(J13="demais municípios",VLOOKUP(D13,[1]apoio_Preços_MGS!$A$6:$AN$238,39,FALSE),0) -> 200 | AM13: 0 | AN13: =AK13*K13 -> 3200 | AO13: =VLOOKUP(D13,[1]apoio_Preços_MGS!$A$6:$AN$238,40,FALSE) -> 549.35 | AP13: =IF(J13="demais municípios",VLOOKUP(D13,[1]apoio_Preços_MGS!$A$6:$AN$238,40,FALSE),0) -> 549.35 | AQ13: 0 | AR13: =AO13*K13 -> 8789.6 | AS13: =AN13+AR13 -> 11989.6 | AT13: =(AN13+AR13)*60 -> 719376
A14: =CONCATENATE(F14,H14,I14) -> 95117440,04 | B14: =CONCATENATE(D14,I14) -> 3890,04 | C14: =VLOOKUP(D14,[1]apoio_Preços_MGS!$A$6:$B$238,2,FALSE) -> AGENTE DE SERVIÇO DE PARQUE HABILITADO | D14: 389 | E14: =VLOOKUP(D14,[1]apoio_Preços_MGS!$A$6:$F$238,6,FALSE) -> AGENTE DE SERVIÇO DE PARQUE HABILITADO - (PERIC.) - DIARISTA DIURNO - 44H | F14: =IFERROR(VLOOKUP(D14,'[1]apoio_cód catmas'!$B$2:$C$863,2,FALSE),0) -> 95117 | G14: =IF(H14="N/A",VLOOKUP(F14&40,'[1]apoio_cód catmas'!$A$1:$G$233,4,FALSE),VLOOKUP(F14&H14,'[1]apoio_cód catmas'!$A$1:$G$233,4,FALSE)) -> AGENTE DE SERVICO DE PARQUE HABILITADO - (PERICULOSIDADE) - 44H | H14: 44 | I14: 0.04 | J14: Demais Municípios | K14: 1 | L14: =K14*56 -> 56 | M14: =VLOOKUP(D14,[1]apoio_Preços_MGS!$A$6:$AN$238,18,FALSE) -> 2150.6884 | N14: =VLOOKUP(D14,[1]apoio_Preços_MGS!$A$6:$AN$238,19,FALSE) -> 645.20652 | O14: =VLOOKUP(D14,[1]apoio_Preços_MGS!$A$6:$AN$238,20,FALSE) -> 0 | P14: =VLOOKUP(D14,[1]apoio_Preços_MGS!$A$6:$AN$238,21,FALSE) -> 0 | Q14: =VLOOKUP(D14,[1]apoio_Preços_MGS!$A$6:$AN$238,22,FALSE) -> 0 | R14: =VLOOKUP(D14,[1]apoio_Preços_MGS!$A$6:$AN$238,23,FALSE) -> 0 | S14: =VLOOKUP(D14,[1]apoio_Preços_MGS!$A$6:$AN$238,24,FALSE) -> 0 | T14: =VLOOKUP(D14,[1]apoio_Preços_MGS!$A$6:$AN$238,25,FALSE) -> 0 | U14: =SUM(M14:T14) -> 2795.8949 | V14: =VLOOKUP(D14,[1]apoio_Preços_MGS!$A$6:$AN$238,27,FALSE) -> 0.818 | W14: =U14*V14 -> 2287.042 | X14: =VLOOKUP(D14,[1]apoio_Preços_MGS!$A$6:$AN$238,29,FALSE) -> 30.014545 | Y14: =VLOOKUP(D14,[1]apoio_Preços_MGS!$A$6:$AN$238,30,FALSE) -> 282.32043 | Z14: =Y14+X14 -> 312.33498 | AA14: =VLOOKUP(D14,[1]apoio_Preços_MGS!$A$6:$AN$238,32,FALSE) -> 4.1293217 | AB14: =VLOOKUP(D14,[1]apoio_Preços_MGS!$A$6:$AN$238,33,FALSE) -> 281.7415 | AC14: =VLOOKUP(D14,[1]apoio_Preços_MGS!$A$6:$AN$238,34,FALSE) -> 0 | AD14: =(U14+W14+Z14+AB14+AA14+VLOOKUP(C14,[1]apoio_Prec_Folha!$A:$S,7,FALSE))*AC14 -> 0 | AE14: =VLOOKUP(D14,[1]apoio_Preços_MGS!$A$6:$AN$238,36,FALSE) -> 0.07 | AF14: =(U14+W14+Z14+AB14+AD14+AA14+VLOOKUP(C14,[1]apoio_Prec_Folha!$A:$S,7,FALSE))*AE14 -> 436.13481 | AG14: =TRUNC(U14+W14+Z14+AB14+AA14+AD14+AF14,2) -> 6117.27 | AH14: =TRUNC($AG14*ROUND((7.6%+1.65%+$I14)/(1-(7.6%+1.65%+$I14)),5)+$AG14,2) -> 7051.62 | AI14: =AH14*K14 -> 7051.62 | AJ14: =AH14*L14 -> 394890.72 | AK14: =VLOOKUP(D14,[1]apoio_Preços_MGS!$A$6:$AN$238,39,FALSE) -> 200 | AL14: =IF(J14="demais municípios",VLOOKUP(D14,[1]apoio_Preços_MGS!$A$6:$AN$238,39,FALSE),0) -> 200 | AM14: 0 | AN14: =AK14*K14 -> 200 | AO14: =VLOOKUP(D14,[1]apoio_Preços_MGS!$A$6:$AN$238,40,FALSE) -> 549.35 | AP14: =IF(J14="demais municípios",VLOOKUP(D14,[1]apoio_Preços_MGS!$A$6:$AN$238,40,FALSE),0) -> 549.35 | AQ14: 0 | AR14: =AO14*K14 -> 549.35 | AS14: =AN14+AR14 -> 749.35 | AT14: =(AN14+AR14)*60 -> 44961
A15: =CONCATENATE(F15,H15,I15) -> 95117440,05 | B15: =CONCATENATE(D15,I15) -> 3890,05 | C15: =VLOOKUP(D15,[1]apoio_Preços_MGS!$A$6:$B$238,2,FALSE) -> AGENTE DE SERVIÇO DE PARQUE HABILITADO | D15: 389 | E15: =VLOOKUP(D15,[1]apoio_Preços_MGS!$A$6:$F$238,6,FALSE) -> AGENTE DE SERVIÇO DE PARQUE HABILITADO - (PERIC.) - DIARISTA DIURNO - 44H | F15: =IFERROR(VLOOKUP(D15,'[1]apoio_cód catmas'!$B$2:$C$863,2,FALSE),0) -> 95117 | G15: =IF(H15="N/A",VLOOKUP(F15&40,'[1]apoio_cód catmas'!$A$1:$G$233,4,FALSE),VLOOKUP(F15&H15,'[1]apoio_cód catmas'!$A$1:$G$233,4,FALSE)) -> AGENTE DE SERVICO DE PARQUE HABILITADO - (PERICULOSIDADE) - 44H | H15: 44 | I15: 0.05 | J15: Demais Municípios | K15: 2 | L15: =K15*56 -> 112 | M15: =VLOOKUP(D15,[1]apoio_Preços_MGS!$A$6:$AN$238,18,FALSE) -> 2150.6884 | N15: =VLOOKUP(D15,[1]apoio_Preços_MGS!$A$6:$AN$238,19,FALSE) -> 645.20652 | O15: =VLOOKUP(D15,[1]apoio_Preços_MGS!$A$6:$AN$238,20,FALSE) -> 0 | P15: =VLOOKUP(D15,[1]apoio_Preços_MGS!$A$6:$AN$238,21,FALSE) -> 0 | Q15: =VLOOKUP(D15,[1]apoio_Preços_MGS!$A$6:$AN$238,22,FALSE) -> 0 | R15: =VLOOKUP(D15,[1]apoio_Preços_MGS!$A$6:$AN$238,23,FALSE) -> 0 | S15: =VLOOKUP(D15,[1]apoio_Preços_MGS!$A$6:$AN$238,24,FALSE) -> 0 | T15: =VLOOKUP(D15,[1]apoio_Preços_MGS!$A$6:$AN$238,25,FALSE) -> 0 | U15: =SUM(M15:T15) -> 2795.8949 | V15: =VLOOKUP(D15,[1]apoio_Preços_MGS!$A$6:$AN$238,27,FALSE) -> 0.818 | W15: =U15*V15 -> 2287.042 | X15: =VLOOKUP(D15,[1]apoio_Preços_MGS!$A$6:$AN$238,29,FALSE) -> 30.014545 | Y15: =VLOOKUP(D15,[1]apoio_Preços_MGS!$A$6:$AN$238,30,FALSE) -> 282.32043 | Z15: =Y15+X15 -> 312.33498 | AA15: =VLOOKUP(D15,[1]apoio_Preços_MGS!$A$6:$AN$238,32,FALSE) -> 4.1293217 | AB15: =VLOOKUP(D15,[1]apoio_Preços_MGS!$A$6:$AN$238,33,FALSE) -> 281.7415 | AC15: =VLOOKUP(D15,[1]apoio_Preços_MGS!$A$6:$AN$238,34,FALSE) -> 0 | AD15: =(U15+W15+Z15+AB15+AA15+VLOOKUP(C15,[1]apoio_Prec_Folha!$A:$S,7,FALSE))*AC15 -> 0 | AE15: =VLOOKUP(D15,[1]apoio_Preços_MGS!$A$6:$AN$238,36,FALSE) -> 0.07 | AF15: =(U15+W15+Z15+AB15+AD15+AA15+VLOOKUP(C15,[1]apoio_Prec_Folha!$A:$S,7,FALSE))*AE15 -> 436.13481 | AG15: =TRUNC(U15+W15+Z15+AB15+AA15+AD15+AF15,2) -> 6117.27 | AH15: =TRUNC($AG15*ROUND((7.6%+1.65%+$I15)/(1-(7.6%+1.65%+$I15)),5)+$AG15,2) -> 7133.83 | AI15: =AH15*K15 -> 14267.66 | AJ15: =AH15*L15 -> 798988.96 | AK15: =VLOOKUP(D15,[1]apoio_Preços_MGS!$A$6:$AN$238,39,FALSE) -> 200 | AL15: =IF(J15="demais municípios",VLOOKUP(D15,[1]apoio_Preços_MGS!$A$6:$AN$238,39,FALSE),0) -> 200 | AM15: 0 | AN15: =AK15*K15 -> 400 | AO15: =VLOOKUP(D15,[1]apoio_Preços_MGS!$A$6:$AN$238,40,FALSE) -> 549.35 | AP15: =IF(J15="demais municípios",VLOOKUP(D15,[1]apoio_Preços_MGS!$A$6:$AN$238,40,FALSE),0) -> 549.35 | AQ15: 0 | AR15: =AO15*K15 -> 1098.7 | AS15: =AN15+AR15 -> 1498.7 | AT15: =(AN15+AR15)*60 -> 89922
A16: =CONCATENATE(F16,H16,I16) -> 95117440,05 | B16: =CONCATENATE(D16,I16) -> 3890,05 | C16: =VLOOKUP(D16,[1]apoio_Preços_MGS!$A$6:$B$238,2,FALSE) -> AGENTE DE SERVIÇO DE PARQUE HABILITADO | D16: 389 | E16: =VLOOKUP(D16,[1]apoio_Preços_MGS!$A$6:$F$238,6,FALSE) -> AGENTE DE SERVIÇO DE PARQUE HABILITADO - (PERIC.) - DIARISTA DIURNO - 44H | F16: =IFERROR(VLOOKUP(D16,'[1]apoio_cód catmas'!$B$2:$C$863,2,FALSE),0) -> 95117 | G16: =IF(H16="N/A",VLOOKUP(F16&40,'[1]apoio_cód catmas'!$A$1:$G$233,4,FALSE),VLOOKUP(F16&H16,'[1]apoio_cód catmas'!$A$1:$G$233,4,FALSE)) -> AGENTE DE SERVICO DE PARQUE HABILITADO - (PERICULOSIDADE) - 44H | H16: 44 | I16: 0.05 | J16: Demais Municípios | K16: =28-1-3 -> 24 | L16: =K16*60 -> 1440 | M16: =VLOOKUP(D16,[1]apoio_Preços_MGS!$A$6:$AN$238,18,FALSE) -> 2150.6884 | N16: =VLOOKUP(D16,[1]apoio_Preços_MGS!$A$6:$AN$238,19,FALSE) -> 645.20652 | O16: =VLOOKUP(D16,[1]apoio_Preços_MGS!$A$6:$AN$238,20,FALSE) -> 0 | P16: =VLOOKUP(D16,[1]apoio_Preços_MGS!$A$6:$AN$238,21,FALSE) -> 0 | Q16: =VLOOKUP(D16,[1]apoio_Preços_MGS!$A$6:$AN$238,22,FALSE) -> 0 | R16: =VLOOKUP(D16,[1]apoio_Preços_MGS!$A$6:$AN$238,23,FALSE) -> 0 | S16: =VLOOKUP(D16,[1]apoio_Preços_MGS!$A$6:$AN$238,24,FALSE) -> 0 | T16: =VLOOKUP(D16,[1]apoio_Preços_MGS!$A$6:$AN$238,25,FALSE) -> 0 | U16: =SUM(M16:T16) -> 2795.8949 | V16: =VLOOKUP(D16,[1]apoio_Preços_MGS!$A$6:$AN$238,27,FALSE) -> 0.818 | W16: =U16*V16 -> 2287.042 | X16: =VLOOKUP(D16,[1]apoio_Preços_MGS!$A$6:$AN$238,29,FALSE) -> 30.014545 | Y16: =VLOOKUP(D16,[1]apoio_Preços_MGS!$A$6:$AN$238,30,FALSE) -> 282.32043 | Z16: =Y16+X16 -> 312.33498 | AA16: =VLOOKUP(D16,[1]apoio_Preços_MGS!$A$6:$AN$238,32,FALSE) -> 4.1293217 | AB16: =VLOOKUP(D16,[1]apoio_Preços_MGS!$A$6:$AN$238,33,FALSE) -> 281.7415 | AC16: =VLOOKUP(D16,[1]apoio_Preços_MGS!$A$6:$AN$238,34,FALSE) -> 0 | AD16: =(U16+W16+Z16+AB16+AA16+VLOOKUP(C16,[1]apoio_Prec_Folha!$A:$S,7,FALSE))*AC16 -> 0 | AE16: =VLOOKUP(D16,[1]apoio_Preços_MGS!$A$6:$AN$238,36,FALSE) -> 0.07 | AF16: =(U16+W16+Z16+AB16+AD16+AA16+VLOOKUP(C16,[1]apoio_Prec_Folha!$A:$S,7,FALSE))*AE16 -> 436.13481 | AG16: =TRUNC(U16+W16+Z16+AB16+AA16+AD16+AF16,2) -> 6117.27 | AH16: =TRUNC($AG16*ROUND((7.6%+1.65%+$I16)/(1-(7.6%+1.65%+$I16)),5)+$AG16,2) -> 7133.83 | AI16: =AH16*K16 -> 171211.92 | AJ16: =AH16*L16 -> 10272715 | AK16: =VLOOKUP(D16,[1]apoio_Preços_MGS!$A$6:$AN$238,39,FALSE) -> 200 | AL16: =IF(J16="demais municípios",VLOOKUP(D16,[1]apoio_Preços_MGS!$A$6:$AN$238,39,FALSE),0) -> 200 | AM16: 0 | AN16: =AK16*K16 -> 4800 | AO16: =VLOOKUP(D16,[1]apoio_Preços_MGS!$A$6:$AN$238,40,FALSE) -> 549.35 | AP16: =IF(J16="demais municípios",VLOOKUP(D16,[1]apoio_Preços_MGS!$A$6:$AN$238,40,FALSE),0) -> 549.35 | AQ16: 0 | AR16: =AO16*K16 -> 13184.4 | AS16: =AN16+AR16 -> 17984.4 | AT16: =(AN16+AR16)*60 -> 1079064
A17: =CONCATENATE(F17,H17,I17) -> 95117440,05 | B17: =CONCATENATE(D17,I17) -> 3890,05 | C17: =VLOOKUP(D17,[1]apoio_Preços_MGS!$A$6:$B$238,2,FALSE) -> AGENTE DE SERVIÇO DE PARQUE HABILITADO | D17: 389 | E17: =VLOOKUP(D17,[1]apoio_Preços_MGS!$A$6:$F$238,6,FALSE) -> AGENTE DE SERVIÇO DE PARQUE HABILITADO - (PERIC.) - DIARISTA DIURNO - 44H | F17: =IFERROR(VLOOKUP(D17,'[1]apoio_cód catmas'!$B$2:$C$863,2,FALSE),0) -> 95117 | G17: =IF(H17="N/A",VLOOKUP(F17&40,'[1]apoio_cód catmas'!$A$1:$G$233,4,FALSE),VLOOKUP(F17&H17,'[1]apoio_cód catmas'!$A$1:$G$233,4,FALSE)) -> AGENTE DE SERVICO DE PARQUE HABILITADO - (PERICULOSIDADE) - 44H | H17: 44 | I17: 0.05 | J17: Belo Horizonte | K17: 22 | L17: =K17*60 -> 1320 | M17: =VLOOKUP(D17,[1]apoio_Preços_MGS!$A$6:$AN$238,18,FALSE) -> 2150.6884 | N17: =VLOOKUP(D17,[1]apoio_Preços_MGS!$A$6:$AN$238,19,FALSE) -> 645.20652 | O17: =VLOOKUP(D17,[1]apoio_Preços_MGS!$A$6:$AN$238,20,FALSE) -> 0 | P17: =VLOOKUP(D17,[1]apoio_Preços_MGS!$A$6:$AN$238,21,FALSE) -> 0 | Q17: =VLOOKUP(D17,[1]apoio_Preços_MGS!$A$6:$AN$238,22,FALSE) -> 0 | R17: =VLOOKUP(D17,[1]apoio_Preços_MGS!$A$6:$AN$238,23,FALSE) -> 0 | S17: =VLOOKUP(D17,[1]apoio_Preços_MGS!$A$6:$AN$238,24,FALSE) -> 0 | T17: =VLOOKUP(D17,[1]apoio_Preços_MGS!$A$6:$AN$238,25,FALSE) -> 0 | U17: =SUM(M17:T17) -> 2795.8949 | V17: =VLOOKUP(D17,[1]apoio_Preços_MGS!$A$6:$AN$238,27,FALSE) -> 0.818 | W17: =U17*V17 -> 2287.042 | X17: =VLOOKUP(D17,[1]apoio_Preços_MGS!$A$6:$AN$238,29,FALSE) -> 30.014545 | Y17: =VLOOKUP(D17,[1]apoio_Preços_MGS!$A$6:$AN$238,30,FALSE) -> 282.32043 | Z17: =Y17+X17 -> 312.33498 | AA17: =VLOOKUP(D17,[1]apoio_Preços_MGS!$A$6:$AN$238,32,FALSE) -> 4.1293217 | AB17: =VLOOKUP(D17,[1]apoio_Preços_MGS!$A$6:$AN$238,33,FALSE) -> 281.7415 | AC17: =VLOOKUP(D17,[1]apoio_Preços_MGS!$A$6:$AN$238,34,FALSE) -> 0 | AD17: =(U17+W17+Z17+AB17+AA17+VLOOKUP(C17,[1]apoio_Prec_Folha!$A:$S,7,FALSE))*AC17 -> 0 | AE17: =VLOOKUP(D17,[1]apoio_Preços_MGS!$A$6:$AN$238,36,FALSE) -> 0.07 | AF17: =(U17+W17+Z17+AB17+AD17+AA17+VLOOKUP(C17,[1]apoio_Prec_Folha!$A:$S,7,FALSE))*AE17 -> 436.13481 | AG17: =TRUNC(U17+W17+Z17+AB17+AA17+AD17+AF17,2) -> 6117.27 | AH17: =TRUNC($AG17*ROUND((7.6%+1.65%+$I17)/(1-(7.6%+1.65%+$I17)),5)+$AG17,2) -> 7133.83 | AI17: =AH17*K17 -> 156944.26 | AJ17: =AH17*L17 -> 9416655.6 | AK17: =VLOOKUP(D17,[1]apoio_Preços_MGS!$A$6:$AN$238,39,FALSE) -> 200 | AL17: =IF(J17="demais municípios",VLOOKUP(D17,[1]apoio_Preços_MGS!$A$6:$AN$238,39,FALSE),0) -> 0 | AM17: =TRUNC(ROUND(($I17)/(1-($I17)),5)*VLOOKUP(D17,[1]apoio_Preços_MGS!$A$6:$AN$238,39,FALSE)+VLOOKUP(D17,[1]apoio_Preços_MGS!$A$6:$AN$238,39,FALSE),2) -> 210.52 | AN17: =AM17*K17 -> 4631.44 | AO17: =VLOOKUP(D17,[1]apoio_Preços_MGS!$A$6:$AN$238,40,FALSE) -> 549.35 | AP17: =IF(J17="demais municípios",VLOOKUP(D17,[1]apoio_Preços_MGS!$A$6:$AN$238,40,FALSE),0) -> 0 | AQ17: =TRUNC(ROUND(($I17)/(1-($I17)),5)*VLOOKUP(D17,[1]apoio_Preços_MGS!$A$6:$AN$238,40,FALSE)+VLOOKUP(D17,[1]apoio_Preços_MGS!$A$6:$AN$238,40,FALSE),2) -> 578.26 | AR17: =AQ17*K17 -> 12721.72 | AS17: =AN17+AR17 -> 17353.16 | AT17: =(AN17+AR17)*60 -> 1041189.6
A18: =CONCATENATE(F18,H18,I18) -> 95125440,02 | B18: =CONCATENATE(D18,I18) -> 3900,02 | C18: =VLOOKUP(D18,[1]apoio_Preços_MGS!$A$6:$B$238,2,FALSE) -> AGENTE DE SERVIÇO DE PARQUE HABILITADO | D18: 390 | E18: =VLOOKUP(D18,[1]apoio_Preços_MGS!$A$6:$F$238,6,FALSE) -> AGENTE DE SERVIÇO DE PARQUE HABILITADO - 12x36 DIURNO - 44H | F18: =IFERROR(VLOOKUP(D18,'[1]apoio_cód catmas'!$B$2:$C$863,2,FALSE),0) -> 95125 | G18: =IF(H18="N/A",VLOOKUP(F18&40,'[1]apoio_cód catmas'!$A$1:$G$233,4,FALSE),VLOOKUP(F18&H18,'[1]apoio_cód catmas'!$A$1:$G$233,4,FALSE)) -> AGENTE DE SERVICO DE PARQUE HABILITADO - 12X36 DIURNO - 44H | H18: 44 | I18: 0.02 | J18: Demais Municípios | K18: 6 | L18: =K18*60 -> 360 | M18: =VLOOKUP(D18,[1]apoio_Preços_MGS!$A$6:$AN$238,18,FALSE) -> 2150.6884 | N18: =VLOOKUP(D18,[1]apoio_Preços_MGS!$A$6:$AN$238,19,FALSE) -> 0 | O18: =VLOOKUP(D18,[1]apoio_Preços_MGS!$A$6:$AN$238,20,FALSE) -> 0 | P18: =VLOOKUP(D18,[1]apoio_Preços_MGS!$A$6:$AN$238,21,FALSE) -> 0 | Q18: =VLOOKUP(D18,[1]apoio_Preços_MGS!$A$6:$AN$238,22,FALSE) -> 0 | R18: =VLOOKUP(D18,[1]apoio_Preços_MGS!$A$6:$AN$238,23,FALSE) -> 0 | S18: =VLOOKUP(D18,[1]apoio_Preços_MGS!$A$6:$AN$238,24,FALSE) -> 0 | T18: =VLOOKUP(D18,[1]apoio_Preços_MGS!$A$6:$AN$238,25,FALSE) -> 2.9870672 | U18: =SUM(M18:T18) -> 2153.6755 | V18: =VLOOKUP(D18,[1]apoio_Preços_MGS!$A$6:$AN$238,27,FALSE) -> 0.818 | W18: =U18*V18 -> 1761.7065 | X18: =VLOOKUP(D18,[1]apoio_Preços_MGS!$A$6:$AN$238,29,FALSE) -> 30.014545 | Y18: =VLOOKUP(D18,[1]apoio_Preços_MGS!$A$6:$AN$238,30,FALSE) -> 282.32043 | Z18: =Y18+X18 -> 312.33498 | AA18: =VLOOKUP(D18,[1]apoio_Preços_MGS!$A$6:$AN$238,32,FALSE) -> 4.1293217 | AB18: =VLOOKUP(D18,[1]apoio_Preços_MGS!$A$6:$AN$238,33,FALSE) -> 281.7415 | AC18: =VLOOKUP(D18,[1]apoio_Preços_MGS!$A$6:$AN$238,34,FALSE) -> 0 | AD18: =(U18+W18+Z18+AB18+AA18+VLOOKUP(C18,[1]apoio_Prec_Folha!$A:$S,7,FALSE))*AC18 -> 0 | AE18: =VLOOKUP(D18,[1]apoio_Preços_MGS!$A$6:$AN$238,36,FALSE) -> 0.07 | AF18: =(U18+W18+Z18+AB18+AD18+AA18+VLOOKUP(C18,[1]apoio_Prec_Folha!$A:$S,7,FALSE))*AE18 -> 354.40596 | AG18: =TRUNC(U18+W18+Z18+AB18+AA18+AD18+AF18,2) -> 4867.99 | AH18: =TRUNC($AG18*ROUND((7.6%+1.65%+$I18)/(1-(7.6%+1.65%+$I18)),5)+$AG18,2) -> 5485.05 | AI18: =AH18*K18 -> 32910.3 | AJ18: =AH18*L18 -> 1974618 | AK18: =VLOOKUP(D18,[1]apoio_Preços_MGS!$A$6:$AN$238,39,FALSE) -> 200 | AL18: =IF(J18="demais municípios",VLOOKUP(D18,[1]apoio_Preços_MGS!$A$6:$AN$238,39,FALSE),0) -> 200 | AM18: 0 | AN18: =AK18*K18 -> 1200 | AO18: =VLOOKUP(D18,[1]apoio_Preços_MGS!$A$6:$AN$238,40,FALSE) -> 549.35 | AP18: =IF(J18="demais municípios",VLOOKUP(D18,[1]apoio_Preços_MGS!$A$6:$AN$238,40,FALSE),0) -> 549.35 | AQ18: 0 | AR18: =AO18*K18 -> 3296.1 | AS18: =AN18+AR18 -> 4496.1 | AT18: =(AN18+AR18)*60 -> 269766
A19: =CONCATENATE(F19,H19,I19) -> 95125440,027 | B19: =CONCATENATE(D19,I19) -> 3900,027 | C19: =VLOOKUP(D19,[1]apoio_Preços_MGS!$A$6:$B$238,2,FALSE) -> AGENTE DE SERVIÇO DE PARQUE HABILITADO | D19: 390 | E19: =VLOOKUP(D19,[1]apoio_Preços_MGS!$A$6:$F$238,6,FALSE) -> AGENTE DE SERVIÇO DE PARQUE HABILITADO - 12x36 DIURNO - 44H | F19: =IFERROR(VLOOKUP(D19,'[1]apoio_cód catmas'!$B$2:$C$863,2,FALSE),0) -> 95125 | G19: =IF(H19="N/A",VLOOKUP(F19&40,'[1]apoio_cód catmas'!$A$1:$G$233,4,FALSE),VLOOKUP(F19&H19,'[1]apoio_cód catmas'!$A$1:$G$233,4,FALSE)) -> AGENTE DE SERVICO DE PARQUE HABILITADO - 12X36 DIURNO - 44H | H19: 44 | I19: 0.027 | J19: Demais Municípios | K19: 2 | L19: =K19*60 -> 120 | M19: =VLOOKUP(D19,[1]apoio_Preços_MGS!$A$6:$AN$238,18,FALSE) -> 2150.6884 | N19: =VLOOKUP(D19,[1]apoio_Preços_MGS!$A$6:$AN$238,19,FALSE) -> 0 | O19: =VLOOKUP(D19,[1]apoio_Preços_MGS!$A$6:$AN$238,20,FALSE) -> 0 | P19: =VLOOKUP(D19,[1]apoio_Preços_MGS!$A$6:$AN$238,21,FALSE) -> 0 | Q19: =VLOOKUP(D19,[1]apoio_Preços_MGS!$A$6:$AN$238,22,FALSE) -> 0 | R19: =VLOOKUP(D19,[1]apoio_Preços_MGS!$A$6:$AN$238,23,FALSE) -> 0 | S19: =VLOOKUP(D19,[1]apoio_Preços_MGS!$A$6:$AN$238,24,FALSE) -> 0 | T19: =VLOOKUP(D19,[1]apoio_Preços_MGS!$A$6:$AN$238,25,FALSE) -> 2.9870672 | U19: =SUM(M19:T19) -> 2153.6755 | V19: =VLOOKUP(D19,[1]apoio_Preços_MGS!$A$6:$AN$238,27,FALSE) -> 0.818 | W19: =U19*V19 -> 1761.7065 | X19: =VLOOKUP(D19,[1]apoio_Preços_MGS!$A$6:$AN$238,29,FALSE) -> 30.014545 | Y19: =VLOOKUP(D19,[1]apoio_Preços_MGS!$A$6:$AN$238,30,FALSE) -> 282.32043 | Z19: =Y19+X19 -> 312.33498 | AA19: =VLOOKUP(D19,[1]apoio_Preços_MGS!$A$6:$AN$238,32,FALSE) -> 4.1293217 | AB19: =VLOOKUP(D19,[1]apoio_Preços_MGS!$A$6:$AN$238,33,FALSE) -> 281.7415 | AC19: =VLOOKUP(D19,[1]apoio_Preços_MGS!$A$6:$AN$238,34,FALSE) -> 0 | AD19: =(U19+W19+Z19+AB19+AA19+VLOOKUP(C19,[1]apoio_Prec_Folha!$A:$S,7,FALSE))*AC19 -> 0 | AE19: =VLOOKUP(D19,[1]apoio_Preços_MGS!$A$6:$AN$238,36,FALSE) -> 0.07 | AF19: =(U19+W19+Z19+AB19+AD19+AA19+VLOOKUP(C19,[1]apoio_Prec_Folha!$A:$S,7,FALSE))*AE19 -> 354.40596 | AG19: =TRUNC(U19+W19+Z19+AB19+AA19+AD19+AF19,2) -> 4867.99 | AH19: =TRUNC($AG19*ROUND((7.6%+1.65%+$I19)/(1-(7.6%+1.65%+$I19)),5)+$AG19,2) -> 5528.67 | AI19: =AH19*K19 -> 11057.34 | AJ19: =AH19*L19 -> 663440.4 | AK19: =VLOOKUP(D19,[1]apoio_Preços_MGS!$A$6:$AN$238,39,FALSE) -> 200 | AL19: =IF(J19="demais municípios",VLOOKUP(D19,[1]apoio_Preços_MGS!$A$6:$AN$238,39,FALSE),0) -> 200 | AM19: 0 | AN19: =AK19*K19 -> 400 | AO19: =VLOOKUP(D19,[1]apoio_Preços_MGS!$A$6:$AN$238,40,FALSE) -> 549.35 | AP19: =IF(J19="demais municípios",VLOOKUP(D19,[1]apoio_Preços_MGS!$A$6:$AN$238,40,FALSE),0) -> 549.35 | AQ19: 0 | AR19: =AO19*K19 -> 1098.7 | AS19: =AN19+AR19 -> 1498.7 | AT19: =(AN19+AR19)*60 -> 89922
A20: =CONCATENATE(F20,H20,I20) -> 95125440,03 | B20: =CONCATENATE(D20,I20) -> 3900,03 | C20: =VLOOKUP(D20,[1]apoio_Preços_MGS!$A$6:$B$238,2,FALSE) -> AGENTE DE SERVIÇO DE PARQUE HABILITADO | D20: 390 | E20: =VLOOKUP(D20,[1]apoio_Preços_MGS!$A$6:$F$238,6,FALSE) -> AGENTE DE SERVIÇO DE PARQUE HABILITADO - 12x36 DIURNO - 44H | F20: =IFERROR(VLOOKUP(D20,'[1]apoio_cód catmas'!$B$2:$C$863,2,FALSE),0) -> 95125 | G20: =IF(H20="N/A",VLOOKUP(F20&40,'[1]apoio_cód catmas'!$A$1:$G$233,4,FALSE),VLOOKUP(F20&H20,'[1]apoio_cód catmas'!$A$1:$G$233,4,FALSE)) -> AGENTE DE SERVICO DE PARQUE HABILITADO - 12X36 DIURNO - 44H | H20: 44 | I20: 0.03 | J20: Demais Municípios | K20: 20 | L20: =K20*60 -> 1200 | M20: =VLOOKUP(D20,[1]apoio_Preços_MGS!$A$6:$AN$238,18,FALSE) -> 2150.6884 | N20: =VLOOKUP(D20,[1]apoio_Preços_MGS!$A$6:$AN$238,19,FALSE) -> 0 | O20: =VLOOKUP(D20,[1]apoio_Preços_MGS!$A$6:$AN$238,20,FALSE) -> 0 | P20: =VLOOKUP(D20,[1]apoio_Preços_MGS!$A$6:$AN$238,21,FALSE) -> 0 | Q20: =VLOOKUP(D20,[1]apoio_Preços_MGS!$A$6:$AN$238,22,FALSE) -> 0 | R20: =VLOOKUP(D20,[1]apoio_Preços_MGS!$A$6:$AN$238,23,FALSE) -> 0 | S20: =VLOOKUP(D20,[1]apoio_Preços_MGS!$A$6:$AN$238,24,FALSE) -> 0 | T20: =VLOOKUP(D20,[1]apoio_Preços_MGS!$A$6:$AN$238,25,FALSE) -> 2.9870672 | U20: =SUM(M20:T20) -> 2153.6755 | V20: =VLOOKUP(D20,[1]apoio_Preços_MGS!$A$6:$AN$238,27,FALSE) -> 0.818 | W20: =U20*V20 -> 1761.7065 | X20: =VLOOKUP(D20,[1]apoio_Preços_MGS!$A$6:$AN$238,29,FALSE) -> 30.014545 | Y20: =VLOOKUP(D20,[1]apoio_Preços_MGS!$A$6:$AN$238,30,FALSE) -> 282.32043 | Z20: =Y20+X20 -> 312.33498 | AA20: =VLOOKUP(D20,[1]apoio_Preços_MGS!$A$6:$AN$238,32,FALSE) -> 4.1293217 | AB20: =VLOOKUP(D20,[1]apoio_Preços_MGS!$A$6:$AN$238,33,FALSE) -> 281.7415 | AC20: =VLOOKUP(D20,[1]apoio_Preços_MGS!$A$6:$AN$238,34,FALSE) -> 0 | AD20: =(U20+W20+Z20+AB20+AA20+VLOOKUP(C20,[1]apoio_Prec_Folha!$A:$S,7,FALSE))*AC20 -> 0 | AE20: =VLOOKUP(D20,[1]apoio_Preços_MGS!$A$6:$AN$238,36,FALSE) -> 0.07 | AF20: =(U20+W20+Z20+AB20+AD20+AA20+VLOOKUP(C20,[1]apoio_Prec_Folha!$A:$S,7,FALSE))*AE20 -> 354.40596 | AG20: =TRUNC(U20+W20+Z20+AB20+AA20+AD20+AF20,2) -> 4867.99 | AH20: =TRUNC($AG20*ROUND((7.6%+1.65%+$I20)/(1-(7.6%+1.65%+$I20)),5)+$AG20,2) -> 5547.56 | AI20: =AH20*K20 -> 110951.2 | AJ20: =AH20*L20 -> 6657072 | AK20: =VLOOKUP(D20,[1]apoio_Preços_MGS!$A$6:$AN$238,39,FALSE) -> 200 | AL20: =IF(J20="demais municípios",VLOOKUP(D20,[1]apoio_Preços_MGS!$A$6:$AN$238,39,FALSE),0) -> 200 | AM20: 0 | AN20: =AK20*K20 -> 4000 | AO20: =VLOOKUP(D20,[1]apoio_Preços_MGS!$A$6:$AN$238,40,FALSE) -> 549.35 | AP20: =IF(J20="demais municípios",VLOOKUP(D20,[1]apoio_Preços_MGS!$A$6:$AN$238,40,FALSE),0) -> 549.35 | AQ20: 0 | AR20: =AO20*K20 -> 10987 | AS20: =AN20+AR20 -> 14987 | AT20: =(AN20+AR20)*60 -> 899220
A21: =CONCATENATE(F21,H21,I21) -> 95125440,05 | B21: =CONCATENATE(D21,I21) -> 3900,05 | C21: =VLOOKUP(D21,[1]apoio_Preços_MGS!$A$6:$B$238,2,FALSE) -> AGENTE DE SERVIÇO DE PARQUE HABILITADO | D21: 390 | E21: =VLOOKUP(D21,[1]apoio_Preços_MGS!$A$6:$F$238,6,FALSE) -> AGENTE DE SERVIÇO DE PARQUE HABILITADO - 12x36 DIURNO - 44H | F21: =IFERROR(VLOOKUP(D21,'[1]apoio_cód catmas'!$B$2:$C$863,2,FALSE),0) -> 95125 | G21: =IF(H21="N/A",VLOOKUP(F21&40,'[1]apoio_cód catmas'!$A$1:$G$233,4,FALSE),VLOOKUP(F21&H21,'[1]apoio_cód catmas'!$A$1:$G$233,4,FALSE)) -> AGENTE DE SERVICO DE PARQUE HABILITADO - 12X36 DIURNO - 44H | H21: 44 | I21: 0.05 | J21: Demais Municípios | K21: 1 | L21: =K21*60 -> 60 | M21: =VLOOKUP(D21,[1]apoio_Preços_MGS!$A$6:$AN$238,18,FALSE) -> 2150.6884 | N21: =VLOOKUP(D21,[1]apoio_Preços_MGS!$A$6:$AN$238,19,FALSE) -> 0 | O21: =VLOOKUP(D21,[1]apoio_Preços_MGS!$A$6:$AN$238,20,FALSE) -> 0 | P21: =VLOOKUP(D21,[1]apoio_Preços_MGS!$A$6:$AN$238,21,FALSE) -> 0 | Q21: =VLOOKUP(D21,[1]apoio_Preços_MGS!$A$6:$AN$238,22,FALSE) -> 0 | R21: =VLOOKUP(D21,[1]apoio_Preços_MGS!$A$6:$AN$238,23,FALSE) -> 0 | S21: =VLOOKUP(D21,[1]apoio_Preços_MGS!$A$6:$AN$238,24,FALSE) -> 0 | T21: =VLOOKUP(D21,[1]apoio_Preços_MGS!$A$6:$AN$238,25,FALSE) -> 2.9870672 | U21: =SUM(M21:T21) -> 2153.6755 | V21: =VLOOKUP(D21,[1]apoio_Preços_MGS!$A$6:$AN$238,27,FALSE) -> 0.818 | W21: =U21*V21 -> 1761.7065 | X21: =VLOOKUP(D21,[1]apoio_Preços_MGS!$A$6:$AN$238,29,FALSE) -> 30.014545 | Y21: =VLOOKUP(D21,[1]apoio_Preços_MGS!$A$6:$AN$238,30,FALSE) -> 282.32043 | Z21: =Y21+X21 -> 312.33498 | AA21: =VLOOKUP(D21,[1]apoio_Preços_MGS!$A$6:$AN$238,32,FALSE) -> 4.1293217 | AB21: =VLOOKUP(D21,[1]apoio_Preços_MGS!$A$6:$AN$238,33,FALSE) -> 281.7415 | AC21: =VLOOKUP(D21,[1]apoio_Preços_MGS!$A$6:$AN$238,34,FALSE) -> 0 | AD21: =(U21+W21+Z21+AB21+AA21+VLOOKUP(C21,[1]apoio_Prec_Folha!$A:$S,7,FALSE))*AC21 -> 0 | AE21: =VLOOKUP(D21,[1]apoio_Preços_MGS!$A$6:$AN$238,36,FALSE) -> 0.07 | AF21: =(U21+W21+Z21+AB21+AD21+AA21+VLOOKUP(C21,[1]apoio_Prec_Folha!$A:$S,7,FALSE))*AE21 -> 354.40596 | AG21: =TRUNC(U21+W21+Z21+AB21+AA21+AD21+AF21,2) -> 4867.99 | AH21: =TRUNC($AG21*ROUND((7.6%+1.65%+$I21)/(1-(7.6%+1.65%+$I21)),5)+$AG21,2) -> 5676.95 | AI21: =AH21*K21 -> 5676.95 | AJ21: =AH21*L21 -> 340617 | AK21: =VLOOKUP(D21,[1]apoio_Preços_MGS!$A$6:$AN$238,39,FALSE) -> 200 | AL21: =IF(J21="demais municípios",VLOOKUP(D21,[1]apoio_Preços_MGS!$A$6:$AN$238,39,FALSE),0) -> 200 | AM21: 0 | AN21: =AK21*K21 -> 200 | AO21: =VLOOKUP(D21,[1]apoio_Preços_MGS!$A$6:$AN$238,40,FALSE) -> 549.35 | AP21: =IF(J21="demais municípios",VLOOKUP(D21,[1]apoio_Preços_MGS!$A$6:$AN$238,40,FALSE),0) -> 549.35 | AQ21: 0 | AR21: =AO21*K21 -> 549.35 | AS21: =AN21+AR21 -> 749.35 | AT21: =(AN21+AR21)*60 -> 44961
A22: =CONCATENATE(F22,H22,I22) -> 95133440,02 | B22: =CONCATENATE(D22,I22) -> 3920,02 | C22: =VLOOKUP(D22,[1]apoio_Preços_MGS!$A$6:$B$238,2,FALSE) -> AGENTE DE SERVIÇO DE PARQUE HABILITADO | D22: 392 | E22: =VLOOKUP(D22,[1]apoio_Preços_MGS!$A$6:$F$238,6,FALSE) -> AGENTE DE SERVIÇO DE PARQUE HABILITADO - (PERIC.) - 12x36 DIURNO - 44H | F22: =IFERROR(VLOOKUP(D22,'[1]apoio_cód catmas'!$B$2:$C$863,2,FALSE),0) -> 95133 | G22: =IF(H22="N/A",VLOOKUP(F22&40,'[1]apoio_cód catmas'!$A$1:$G$233,4,FALSE),VLOOKUP(F22&H22,'[1]apoio_cód catmas'!$A$1:$G$233,4,FALSE)) -> AGENTE DE SERVICO DE PARQUE HABILITADO - 12X36 DIURNO (PERICULOSIDADE) - 44H | H22: 44 | I22: 0.02 | J22: Demais Municípios | K22: 4 | L22: =K22*60 -> 240 | M22: =VLOOKUP(D22,[1]apoio_Preços_MGS!$A$6:$AN$238,18,FALSE) -> 2150.6884 | N22: =VLOOKUP(D22,[1]apoio_Preços_MGS!$A$6:$AN$238,19,FALSE) -> 645.20652 | O22: =VLOOKUP(D22,[1]apoio_Preços_MGS!$A$6:$AN$238,20,FALSE) -> 0 | P22: =VLOOKUP(D22,[1]apoio_Preços_MGS!$A$6:$AN$238,21,FALSE) -> 0 | Q22: =VLOOKUP(D22,[1]apoio_Preços_MGS!$A$6:$AN$238,22,FALSE) -> 0 | R22: =VLOOKUP(D22,[1]apoio_Preços_MGS!$A$6:$AN$238,23,FALSE) -> 0 | S22: =VLOOKUP(D22,[1]apoio_Preços_MGS!$A$6:$AN$238,24,FALSE) -> 0 | T22: =VLOOKUP(D22,[1]apoio_Preços_MGS!$A$6:$AN$238,25,FALSE) -> 3.8831874 | U22: =SUM(M22:T22) -> 2799.7781 | V22: =VLOOKUP(D22,[1]apoio_Preços_MGS!$A$6:$AN$238,27,FALSE) -> 0.818 | W22: =U22*V22 -> 2290.2185 | X22: =VLOOKUP(D22,[1]apoio_Preços_MGS!$A$6:$AN$238,29,FALSE) -> 30.014545 | Y22: =VLOOKUP(D22,[1]apoio_Preços_MGS!$A$6:$AN$238,30,FALSE) -> 282.32043 | Z22: =Y22+X22 -> 312.33498 | AA22: =VLOOKUP(D22,[1]apoio_Preços_MGS!$A$6:$AN$238,32,FALSE) -> 4.1293217 | AB22: =VLOOKUP(D22,[1]apoio_Preços_MGS!$A$6:$AN$238,33,FALSE) -> 281.7415 | AC22: =VLOOKUP(D22,[1]apoio_Preços_MGS!$A$6:$AN$238,34,FALSE) -> 0 | AD22: =(U22+W22+Z22+AB22+AA22+VLOOKUP(C22,[1]apoio_Prec_Folha!$A:$S,7,FALSE))*AC22 -> 0 | AE22: =VLOOKUP(D22,[1]apoio_Preços_MGS!$A$6:$AN$238,36,FALSE) -> 0.07 | AF22: =(U22+W22+Z22+AB22+AD22+AA22+VLOOKUP(C22,[1]apoio_Prec_Folha!$A:$S,7,FALSE))*AE22 -> 436.62899 | AG22: =TRUNC(U22+W22+Z22+AB22+AA22+AD22+AF22,2) -> 6124.83 | AH22: =TRUNC($AG22*ROUND((7.6%+1.65%+$I22)/(1-(7.6%+1.65%+$I22)),5)+$AG22,2) -> 6901.21 | AI22: =AH22*K22 -> 27604.84 | AJ22: =AH22*L22 -> 1656290.4 | AK22: =VLOOKUP(D22,[1]apoio_Preços_MGS!$A$6:$AN$238,39,FALSE) -> 200 | AL22: =IF(J22="demais municípios",VLOOKUP(D22,[1]apoio_Preços_MGS!$A$6:$AN$238,39,FALSE),0) -> 200 | AM22: 0 | AN22: =AK22*K22 -> 800 | AO22: =VLOOKUP(D22,[1]apoio_Preços_MGS!$A$6:$AN$238,40,FALSE) -> 549.35 | AP22: =IF(J22="demais municípios",VLOOKUP(D22,[1]apoio_Preços_MGS!$A$6:$AN$238,40,FALSE),0) -> 549.35 | AQ22: 0 | AR22: =AO22*K22 -> 2197.4 | AS22: =AN22+AR22 -> 2997.4 | AT22: =(AN22+AR22)*60 -> 179844
A23: =CONCATENATE(F23,H23,I23) -> 95133440,027 | B23: =CONCATENATE(D23,I23) -> 3920,027 | C23: =VLOOKUP(D23,[1]apoio_Preços_MGS!$A$6:$B$238,2,FALSE) -> AGENTE DE SERVIÇO DE PARQUE HABILITADO | D23: 392 | E23: =VLOOKUP(D23,[1]apoio_Preços_MGS!$A$6:$F$238,6,FALSE) -> AGENTE DE SERVIÇO DE PARQUE HABILITADO - (PERIC.) - 12x36 DIURNO - 44H | F23: =IFERROR(VLOOKUP(D23,'[1]apoio_cód catmas'!$B$2:$C$863,2,FALSE),0) -> 95133 | G23: =IF(H23="N/A",VLOOKUP(F23&40,'[1]apoio_cód catmas'!$A$1:$G$233,4,FALSE),VLOOKUP(F23&H23,'[1]apoio_cód catmas'!$A$1:$G$233,4,FALSE)) -> AGENTE DE SERVICO DE PARQUE HABILITADO - 12X36 DIURNO (PERICULOSIDADE) - 44H | H23: 44 | I23: 0.027 | J23: Demais Municípios | K23: 4 | L23: =K23*60 -> 240 | M23: =VLOOKUP(D23,[1]apoio_Preços_MGS!$A$6:$AN$238,18,FALSE) -> 2150.6884 | N23: =VLOOKUP(D23,[1]apoio_Preços_MGS!$A$6:$AN$238,19,FALSE) -> 645.20652 | O23: =VLOOKUP(D23,[1]apoio_Preços_MGS!$A$6:$AN$238,20,FALSE) -> 0 | P23: =VLOOKUP(D23,[1]apoio_Preços_MGS!$A$6:$AN$238,21,FALSE) -> 0 | Q23: =VLOOKUP(D23,[1]apoio_Preços_MGS!$A$6:$AN$238,22,FALSE) -> 0 | R23: =VLOOKUP(D23,[1]apoio_Preços_MGS!$A$6:$AN$238,23,FALSE) -> 0 | S23: =VLOOKUP(D23,[1]apoio_Preços_MGS!$A$6:$AN$238,24,FALSE) -> 0 | T23: =VLOOKUP(D23,[1]apoio_Preços_MGS!$A$6:$AN$238,25,FALSE) -> 3.8831874 | U23: =SUM(M23:T23) -> 2799.7781 | V23: =VLOOKUP(D23,[1]apoio_Preços_MGS!$A$6:$AN$238,27,FALSE) -> 0.818 | W23: =U23*V23 -> 2290.2185 | X23: =VLOOKUP(D23,[1]apoio_Preços_MGS!$A$6:$AN$238,29,FALSE) -> 30.014545 | Y23: =VLOOKUP(D23,[1]apoio_Preços_MGS!$A$6:$AN$238,30,FALSE) -> 282.32043 | Z23: =Y23+X23 -> 312.33498 | AA23: =VLOOKUP(D23,[1]apoio_Preços_MGS!$A$6:$AN$238,32,FALSE) -> 4.1293217 | AB23: =VLOOKUP(D23,[1]apoio_Preços_MGS!$A$6:$AN$238,33,FALSE) -> 281.7415 | AC23: =VLOOKUP(D23,[1]apoio_Preços_MGS!$A$6:$AN$238,34,FALSE) -> 0 | AD23: =(U23+W23+Z23+AB23+AA23+VLOOKUP(C23,[1]apoio_Prec_Folha!$A:$S,7,FALSE))*AC23 -> 0 | AE23: =VLOOKUP(D23,[1]apoio_Preços_MGS!$A$6:$AN$238,36,FALSE) -> 0.07 | AF23: =(U23+W23+Z23+AB23+AD23+AA23+VLOOKUP(C23,[1]apoio_Prec_Folha!$A:$S,7,FALSE))*AE23 -> 436.62899 | AG23: =TRUNC(U23+W23+Z23+AB23+AA23+AD23+AF23,2) -> 6124.83 | AH23: =TRUNC($AG23*ROUND((7.6%+1.65%+$I23)/(1-(7.6%+1.65%+$I23)),5)+$AG23,2) -> 6956.09 | AI23: =AH23*K23 -> 27824.36 | AJ23: =AH23*L23 -> 1669461.6 | AK23: =VLOOKUP(D23,[1]apoio_Preços_MGS!$A$6:$AN$238,39,FALSE) -> 200 | AL23: =IF(J23="demais municípios",VLOOKUP(D23,[1]apoio_Preços_MGS!$A$6:$AN$238,39,FALSE),0) -> 200 | AM23: 0 | AN23: =AK23*K23 -> 800 | AO23: =VLOOKUP(D23,[1]apoio_Preços_MGS!$A$6:$AN$238,40,FALSE) -> 549.35 | AP23: =IF(J23="demais municípios",VLOOKUP(D23,[1]apoio_Preços_MGS!$A$6:$AN$238,40,FALSE),0) -> 549.35 | AQ23: 0 | AR23: =AO23*K23 -> 2197.4 | AS23: =AN23+AR23 -> 2997.4 | AT23: =(AN23+AR23)*60 -> 179844
